BEGIN:VCALENDAR
VERSION:2.0
PRODID:-//Scentventure - ECPv6.10.0//NONSGML v1.0//EN
CALSCALE:GREGORIAN
METHOD:PUBLISH
X-ORIGINAL-URL:https://scentventure.dog
X-WR-CALDESC:Events for Scentventure
REFRESH-INTERVAL;VALUE=DURATION:PT1H
X-Robots-Tag:noindex
X-PUBLISHED-TTL:PT1H
BEGIN:VTIMEZONE
TZID:Europe/London
BEGIN:DAYLIGHT
TZOFFSETFROM:+0000
TZOFFSETTO:+0100
TZNAME:BST
DTSTART:20250330T010000
END:DAYLIGHT
BEGIN:STANDARD
TZOFFSETFROM:+0100
TZOFFSETTO:+0000
TZNAME:GMT
DTSTART:20251026T010000
END:STANDARD
END:VTIMEZONE
BEGIN:VEVENT
DTSTART;TZID=Europe/London:20251127T183000
DTEND;TZID=Europe/London:20251127T193000
DTSTAMP:20260420T154255
CREATED:20251024T155934Z
LAST-MODIFIED:20251024T155934Z
UID:54987-1764268200-1764271800@scentventure.dog
SUMMARY:[Oct Cohort] Scentwork with SVG Justine
DESCRIPTION:💌 [This session is for October Cohort members.]\nScentwork for Loose Lead Walking Masterclass with Scentventure Guide\, Justine! \nTurn your dog’s natural love of sniffing into a reliable way to keep the lead loose – even around distractions! \nHere’s the Zoom link you need: \nTime: Nov 27\, 2025 06:30 PM London\nhttps://us02web.zoom.us/j/88936205745\nMeeting ID: 889 3620 5745\nPasscode: 972793
URL:https://scentventure.dog/event/oct-cohort-scentwork-with-svg-justine/
LOCATION:Zoom\, United Kingdom
CATEGORIES:Oct 25 Cohort
END:VEVENT
END:VCALENDAR