BEGIN:VCALENDAR
VERSION:2.0
PRODID:-//Scentventure - ECPv6.10.0//NONSGML v1.0//EN
CALSCALE:GREGORIAN
METHOD:PUBLISH
X-ORIGINAL-URL:https://scentventure.dog
X-WR-CALDESC:Events for Scentventure
REFRESH-INTERVAL;VALUE=DURATION:PT1H
X-Robots-Tag:noindex
X-PUBLISHED-TTL:PT1H
BEGIN:VTIMEZONE
TZID:Europe/London
BEGIN:DAYLIGHT
TZOFFSETFROM:+0000
TZOFFSETTO:+0100
TZNAME:BST
DTSTART:20250330T010000
END:DAYLIGHT
BEGIN:STANDARD
TZOFFSETFROM:+0100
TZOFFSETTO:+0000
TZNAME:GMT
DTSTART:20251026T010000
END:STANDARD
END:VTIMEZONE
BEGIN:VEVENT
DTSTART;TZID=Europe/London:20250901T183000
DTEND;TZID=Europe/London:20250901T193000
DTSTAMP:20260419T173441
CREATED:20250802T061120Z
LAST-MODIFIED:20250825T103315Z
UID:52992-1756751400-1756755000@scentventure.dog
SUMMARY:[CD] Expert Guest\, Grace Paxton: Insight In Motion - Part 1
DESCRIPTION:We’re excited to welcome back vet Grace Paxton for Insight In Motion – Part 1\, the first in a two-part Expert Guest Live series on canine physical health. \nGrace will explore the key postures -sit\, down\, and stand – and what subtle changes can reveal about underlying musculoskeletal issues. She’ll also discuss how coat changes can offer clues to what’s going on beneath the surface. An unmissable opportunity to deepen your understanding of posture\, pain\, and physical wellbeing in dogs. \nHere's the Zoom link: \nTime: Sep 1\, 2025 06:30 PM London\nhttps://us02web.zoom.us/j/82777191231\nMeeting ID: 827 7719 1231\nPasscode: 556252
URL:https://scentventure.dog/event/cd-expert-guest-grace-paxton-insight-in-motion-part-1/
LOCATION:Zoom\, United Kingdom
CATEGORIES:Club Dogwood
END:VEVENT
BEGIN:VEVENT
DTSTART;TZID=Europe/London:20250903T183000
DTEND;TZID=Europe/London:20250903T193000
DTSTAMP:20260419T173441
CREATED:20250829T164125Z
LAST-MODIFIED:20250829T164125Z
UID:53887-1756924200-1756927800@scentventure.dog
SUMMARY:[CD] CounterAction Workshop Part 1
DESCRIPTION:Join the Scentventure Guides for a live session focused on real-life counter-conditioning. Whether you’re just starting out or refining your strategy\, we’ll help you plan\, problem-solve and break things down clearly. \nBring your questions\, discuss specific triggers\, get stooge session tips\, and learn from others. Strategic\, practical\, supportive – don’t miss it! \nHere's the Zoom link you need: \nTime: Sep 3\, 2025 06:30 PM London\nhttps://us02web.zoom.us/j/82425167472\nMeeting ID: 824 2516 7472\nPasscode: 567661
URL:https://scentventure.dog/event/cd-counteraction-workshop-part-1/
LOCATION:Zoom\, United Kingdom
CATEGORIES:Club Dogwood
END:VEVENT
BEGIN:VEVENT
DTSTART;TZID=Europe/London:20250908T183000
DTEND;TZID=Europe/London:20250908T193000
DTSTAMP:20260419T173441
CREATED:20250829T170829Z
LAST-MODIFIED:20250829T170829Z
UID:53895-1757356200-1757359800@scentventure.dog
SUMMARY:[July Cohort] Milestone: Next Steps
DESCRIPTION:This is for all of you\, whether you have finished the The Roadmap or not\, we invite you to discuss your Next Steps with us. \nEven if you don’t feel ready for your Next Steps\, please come along as I would love to see you and there’s motivation and inspiration guaranteed. \nHere’s the Zoom link you need: \nTime: Sep 8\, 2025 06:30 PM London\nhttps://us02web.zoom.us/j/81289561043\nMeeting ID: 812 8956 1043\nPasscode: 539188
URL:https://scentventure.dog/event/july-cohort-milestone-next-steps/
LOCATION:Zoom\, United Kingdom
CATEGORIES:July Cohort
END:VEVENT
BEGIN:VEVENT
DTSTART;TZID=Europe/London:20250909T183000
DTEND;TZID=Europe/London:20250909T193000
DTSTAMP:20260419T173441
CREATED:20250829T171121Z
LAST-MODIFIED:20250829T171121Z
UID:53897-1757442600-1757446200@scentventure.dog
SUMMARY:[July Cohort] Turbo Charger
DESCRIPTION:Whatever is on your mind\, bring your toughest questions for immediate insightful advice on ANYTHING that's holding you back! \nThe Turbo Charger is an open Q&A session for you to drop in and discuss anything that’s currently on your mind; from training progression to behaviour queries or support with human mindset. \nGet proactive\, get engaged\, and get answers fast to boost your progression. \nHere are the Zoom details you need: \nTime: Sep 9\, 2025 06:30 PM London\nhttps://us02web.zoom.us/j/89190221264\nMeeting ID: 891 9022 1264\nPasscode: 574582 \nDon’t have a question? That’s ok! Come along for inspiration and ideas.
URL:https://scentventure.dog/event/july-cohort-turbo-charger-5/
LOCATION:Zoom\, United Kingdom
CATEGORIES:July Cohort
END:VEVENT
BEGIN:VEVENT
DTSTART;TZID=Europe/London:20250916T180000
DTEND;TZID=Europe/London:20250916T190000
DTSTAMP:20260419T173441
CREATED:20250818T113301Z
LAST-MODIFIED:20250818T113301Z
UID:53341-1758045600-1758049200@scentventure.dog
SUMMARY:[Accelerate] Scentwork by SVG Justine
DESCRIPTION:Scentventure Guide Justine is well known for her wealth of Scentwork knowledge. She understands not only the technical skills of Scentwork but also how to weave Scentwork into your training journey and walks to help you get the most out of it. These Q&A sessions are a fantastic opportunity to get tailored support and learn from others’ questions. \nIf you are completely new to the world of Scentwork\, don’t worry. In session one\, Justine will guide you through what Scentwork is\, why she is so passionate about it\, and why you should be too. She will also explore the options we have in the Club to help you get started.
URL:https://scentventure.dog/event/accelerate-scentwork-by-svg-justine-2/
LOCATION:Zoom\, United Kingdom
CATEGORIES:Accelerate
END:VEVENT
BEGIN:VEVENT
DTSTART;TZID=Europe/London:20250917T183000
DTEND;TZID=Europe/London:20250917T193000
DTSTAMP:20260419T173441
CREATED:20250829T164302Z
LAST-MODIFIED:20250829T164302Z
UID:53889-1758133800-1758137400@scentventure.dog
SUMMARY:[CD] CounterAction Workshop Part 2
DESCRIPTION:Join the Scentventure Guides for a live session focused on real-life counter-conditioning. Whether you’re just starting out or refining your strategy\, we’ll help you plan\, problem-solve and break things down clearly. \nBring your questions\, discuss specific triggers\, get stooge session tips\, and learn from others. Strategic\, practical\, supportive – don’t miss it! \nHere's the Zoom link you need: \nTime: Sep 17\, 2025 06:30 PM London\nhttps://us02web.zoom.us/j/89328252389\nMeeting ID: 893 2825 2389\nPasscode: 114672
URL:https://scentventure.dog/event/cd-counteraction-workshop-part-2/
LOCATION:Zoom\, United Kingdom
CATEGORIES:Club Dogwood
END:VEVENT
BEGIN:VEVENT
DTSTART;TZID=Europe/London:20250918T183000
DTEND;TZID=Europe/London:20250918T193000
DTSTAMP:20260419T173441
CREATED:20250903T170017Z
LAST-MODIFIED:20250903T170017Z
UID:53965-1758220200-1758223800@scentventure.dog
SUMMARY:[SVG-A] Welcome Meeting with Katie!
DESCRIPTION:
URL:https://scentventure.dog/event/svg-a-welcome-meeting-with-katie/
LOCATION:Zoom\, United Kingdom
CATEGORIES:SVG Accreditation
END:VEVENT
BEGIN:VEVENT
DTSTART;TZID=Europe/London:20250923T183000
DTEND;TZID=Europe/London:20250923T193000
DTSTAMP:20260419T173441
CREATED:20250829T171313Z
LAST-MODIFIED:20250829T171313Z
UID:53899-1758652200-1758655800@scentventure.dog
SUMMARY:[July Cohort] Turbo Charger
DESCRIPTION:Whatever is on your mind\, bring your toughest questions for immediate insightful advice on ANYTHING that's holding you back! \nThe Turbo Charger is an open Q&A session for you to drop in and discuss anything that’s currently on your mind; from training progression to behaviour queries or support with human mindset. \nGet proactive\, get engaged\, and get answers fast to boost your progression. \nHere are the Zoom details you need: \nTime: Sep 23\, 2025 06:30 PM London\nhttps://us02web.zoom.us/j/82544279795\nMeeting ID: 825 4427 9795\nPasscode: 811537 \nDon’t have a question? That’s ok! Come along for inspiration and ideas.
URL:https://scentventure.dog/event/july-cohort-turbo-charger-6/
LOCATION:Zoom\, United Kingdom
CATEGORIES:July Cohort
END:VEVENT
BEGIN:VEVENT
DTSTART;TZID=Europe/London:20250930T190000
DTEND;TZID=Europe/London:20250930T200000
DTSTAMP:20260419T173441
CREATED:20250815T154623Z
LAST-MODIFIED:20250826T144427Z
UID:53241-1759258800-1759262400@scentventure.dog
SUMMARY:What’s REALLY Causing The Pulling - And How To Stop It!
DESCRIPTION:Come along to the Kick Off Call to get crystal clear on how this training challenge works and take your first steps to success. \nChances are you’re here in The Loose Lead Walking Challenge because walks with your dog are harder than expected. From leash pulling to lunging\, we know the struggle is real. \nThere is one single most effective method to treat pulling on the lead\, zig-zagging\, obsessive scent trailing\, reactivity\, anxiety and over-excitement at the root. Until you achieve this one thing\, every other goal should be organised around it. \nThat’s exactly what we’re sharing with you at the opening Masterclass. Discover what’s really causing your dog to pull\, zig-zag and lunge – and the counterintuitive way to stop it! \nHere’s the Zoom link you need: \nTime: Sep 30\, 2025 07:00 PM London\nhttps://us02web.zoom.us/j/86792003777\nMeeting ID: 867 9200 3777\nPasscode: 915576 \n  \nPS. Look out for my daily emails containing the Zoom links that you need to join the Masterclasses. \nMake sure you join LIVE for: \n\nBonus worksheets to streamline your training – just for attending live!\nAsk questions and get answers in real time.\nGolden nuggets from other dog owners in the chat (participants say this is the BEST part of attending live – they learn SO much from each other!)\nEveryone has a chance to win a £50 Dog Hoose Gift Card (to spend on treats\, toys\, apparel or accessories!) when we spin the wheel!\n\nIf you’re feeling a little shy\, don’t worry! We’re very welcoming and there’s zero pressure to speak or interact on Zoom. You don’t need to turn on your camera or mic\, just come along and soak up all the juicy info!
URL:https://scentventure.dog/event/whats-really-causing-the-pulling-and-how-to-stop-it-2/
LOCATION:Zoom\, United Kingdom
CATEGORIES:LLW 25
END:VEVENT
END:VCALENDAR