BEGIN:VCALENDAR
VERSION:2.0
PRODID:-//Scentventure - ECPv6.10.0//NONSGML v1.0//EN
CALSCALE:GREGORIAN
METHOD:PUBLISH
X-ORIGINAL-URL:https://scentventure.dog
X-WR-CALDESC:Events for Scentventure
REFRESH-INTERVAL;VALUE=DURATION:PT1H
X-Robots-Tag:noindex
X-PUBLISHED-TTL:PT1H
BEGIN:VTIMEZONE
TZID:Europe/London
BEGIN:DAYLIGHT
TZOFFSETFROM:+0000
TZOFFSETTO:+0100
TZNAME:BST
DTSTART:20240331T010000
END:DAYLIGHT
BEGIN:STANDARD
TZOFFSETFROM:+0100
TZOFFSETTO:+0000
TZNAME:GMT
DTSTART:20241027T010000
END:STANDARD
END:VTIMEZONE
BEGIN:VEVENT
DTSTART;TZID=Europe/London:20241202T183000
DTEND;TZID=Europe/London:20241202T193000
DTSTAMP:20260420T092229
CREATED:20240927T102036Z
LAST-MODIFIED:20241001T135130Z
UID:44607-1733164200-1733167800@scentventure.dog
SUMMARY:[MINDSET MASTERY] Mindset Mastery VIP 3
DESCRIPTION:
URL:https://scentventure.dog/event/mindset-mastery-vip-session-3/
LOCATION:Zoom\, United Kingdom
CATEGORIES:New Members
END:VEVENT
BEGIN:VEVENT
DTSTART;TZID=Europe/London:20241203T183000
DTEND;TZID=Europe/London:20241203T193000
DTSTAMP:20260420T092229
CREATED:20240923T155730Z
LAST-MODIFIED:20241001T134523Z
UID:44479-1733250600-1733254200@scentventure.dog
SUMMARY:[LLW OCT COHORT] Turbo Charger
DESCRIPTION:To answer your questions\, clear up doubts\, and keep you motivated and on track. Bring your toughest questions for immediate insightful advice from your Loose Lead Walking Specialist! \n  \nTime: Dec 3\, 2024 06:30 PM London \nhttps://us02web.zoom.us/j/87975084779 \nMeeting ID: 879 7508 4779 \nPasscode: 734338
URL:https://scentventure.dog/event/llw-24-turbo-charger-5/
LOCATION:Zoom\, United Kingdom
CATEGORIES:New Members
END:VEVENT
BEGIN:VEVENT
DTSTART;TZID=Europe/London:20241204T183000
DTEND;TZID=Europe/London:20241204T193000
DTSTAMP:20260420T092229
CREATED:20241115T072743Z
LAST-MODIFIED:20241115T091504Z
UID:46053-1733337000-1733340600@scentventure.dog
SUMMARY:Snuffle-mat-a-thon
DESCRIPTION:Our annual\, festive\, online\, charity event is back! An evening of crafts and entertainment: the Snuffle-mat-a-thon! \nThe goal: To help as many dogs as possible\, near and far\, to get a taste of Scentventure this Christmas. \nThis is a pay-what-you-can ticketed event with all funds raised going to support the health & wellbeing of free-ranging Sri Lankan street dogs within their local communities. \nZoom details: \nTime: Dec 4\, 2024 06:30 PM London \nhttps://us02web.zoom.us/j/84484184630 \nMeeting ID: 844 8418 4630 \nPasscode: 001654
URL:https://scentventure.dog/event/snuffle-mat-a-thon/
LOCATION:Zoom\, United Kingdom
CATEGORIES:Club Dogwood
END:VEVENT
BEGIN:VEVENT
DTSTART;TZID=Europe/London:20241205T183000
DTEND;TZID=Europe/London:20241205T193000
DTSTAMP:20260420T092229
CREATED:20240927T102138Z
LAST-MODIFIED:20241001T135201Z
UID:44609-1733423400-1733427000@scentventure.dog
SUMMARY:[MINDSET MASTERY] Mindset Mastery VIP 4
DESCRIPTION:
URL:https://scentventure.dog/event/mindset-mastery-vip-session-4/
LOCATION:Zoom\, United Kingdom
CATEGORIES:New Members
END:VEVENT
BEGIN:VEVENT
DTSTART;TZID=Europe/London:20241209T183000
DTEND;TZID=Europe/London:20241209T193000
DTSTAMP:20260420T092229
CREATED:20241007T142147Z
LAST-MODIFIED:20241008T124557Z
UID:45302-1733769000-1733772600@scentventure.dog
SUMMARY:[LLW OCT COHORT] Next Steps Sign Off
DESCRIPTION:It's time to get your Next Steps signed off by a Scentventure Guide! No matter where you are in your journey\, let's see what's next for you and your dog. \n  \nTime: Dec 9\, 2024 06:00 PM London \nhttps://us02web.zoom.us/j/85936322216 \nMeeting ID: 859 3632 2216 \nPasscode: 464843
URL:https://scentventure.dog/event/llw-oct-cohort-next-steps-sign-off/
CATEGORIES:New Members
END:VEVENT
BEGIN:VEVENT
DTSTART;TZID=Europe/London:20241211T183000
DTEND;TZID=Europe/London:20241211T193000
DTSTAMP:20260420T092229
CREATED:20241115T134802Z
LAST-MODIFIED:20241203T033013Z
UID:46065-1733941800-1733945400@scentventure.dog
SUMMARY:[THRIVE] Christmas Get Together with Sarah Petch
DESCRIPTION:
URL:https://scentventure.dog/event/thrive-christmas-get-together-with-sarah-petch/
LOCATION:Zoom\, United Kingdom
CATEGORIES:THRIVE
END:VEVENT
BEGIN:VEVENT
DTSTART;TZID=Europe/London:20241217T183000
DTEND;TZID=Europe/London:20241217T193000
DTSTAMP:20260420T092229
CREATED:20240923T160116Z
LAST-MODIFIED:20241001T134553Z
UID:44483-1734460200-1734463800@scentventure.dog
SUMMARY:[LLW OCT COHORT] Turbo Charger
DESCRIPTION:To answer your questions\, clear up doubts\, and keep you motivated and on track. Bring your toughest questions for immediate insightful advice from your Loose Lead Walking Specialist! \n  \nTime: Dec 17\, 2024 06:30 PM London \nhttps://us02web.zoom.us/j/81971500240 \nMeeting ID: 819 7150 0240 \nPasscode: 353641
URL:https://scentventure.dog/event/llw-24-turbo-charger-5-6/
LOCATION:Zoom\, United Kingdom
CATEGORIES:New Members
END:VEVENT
BEGIN:VEVENT
DTSTART;TZID=Europe/London:20241218T183000
DTEND;TZID=Europe/London:20241218T193000
DTSTAMP:20260420T092229
CREATED:20241115T122442Z
LAST-MODIFIED:20241115T122442Z
UID:46060-1734546600-1734550200@scentventure.dog
SUMMARY:Club Dogwood's Christmas Party
DESCRIPTION:Break out the festive jumpers\, sequins and novelty antlers! Pour your drink of choice! It’s time for the Club Dogwood Christmas Party! \nJoin us to celebrate the last year of Scentventure and get a sneak peek at what's to come in 2025! \nHere's the zoom details: \nTime: Dec 18\, 2024 06:30 PM London \nhttps://us02web.zoom.us/j/81239406421 \nMeeting ID: 812 3940 6421 \nPasscode: 118743
URL:https://scentventure.dog/event/club-dogwoods-christmas-party/
LOCATION:Zoom\, United Kingdom
CATEGORIES:Club Dogwood
END:VEVENT
END:VCALENDAR