BEGIN:VCALENDAR
VERSION:2.0
PRODID:-//Scentventure - ECPv6.10.0//NONSGML v1.0//EN
CALSCALE:GREGORIAN
METHOD:PUBLISH
X-WR-CALNAME:Scentventure
X-ORIGINAL-URL:https://scentventure.dog
X-WR-CALDESC:Events for Scentventure
REFRESH-INTERVAL;VALUE=DURATION:PT1H
X-Robots-Tag:noindex
X-PUBLISHED-TTL:PT1H
BEGIN:VTIMEZONE
TZID:Europe/London
BEGIN:DAYLIGHT
TZOFFSETFROM:+0000
TZOFFSETTO:+0100
TZNAME:BST
DTSTART:20240331T010000
END:DAYLIGHT
BEGIN:STANDARD
TZOFFSETFROM:+0100
TZOFFSETTO:+0000
TZNAME:GMT
DTSTART:20241027T010000
END:STANDARD
END:VTIMEZONE
BEGIN:VEVENT
DTSTART;TZID=Europe/London:20240904T180000
DTEND;TZID=Europe/London:20240904T190000
DTSTAMP:20260420T142436
CREATED:20240821T084334Z
LAST-MODIFIED:20240821T084416Z
UID:43184-1725472800-1725476400@scentventure.dog
SUMMARY:[CLUB DOGWOOD] SVG Laura: Socialisation & Early Development
DESCRIPTION:Scentventure Guide Laura takes us on a deep dive into Socialisation & Early Development\, challenging the notion of whether puppies truly are a ‘blank slate’. \nSep 4\, 2024 06:00 PM London \nhttps://us02web.zoom.us/j/81921563026 \nMeeting ID: 819 2156 3026 \nPasscode: 712834
URL:https://scentventure.dog/event/club-dogwood-svg-laura-socialisation-early-development/
CATEGORIES:Club Dogwood
END:VEVENT
BEGIN:VEVENT
DTSTART;TZID=Europe/London:20240910T183000
DTEND;TZID=Europe/London:20240910T193000
DTSTAMP:20260420T142436
CREATED:20240530T120057Z
LAST-MODIFIED:20240621T133608Z
UID:40997-1725993000-1725996600@scentventure.dog
SUMMARY:[ROADMAP June Cohort] Roadmap June Cohort Turbo Charger
DESCRIPTION:[ROADMAP] Roadmap June Cohort Turbo Charger \nTime: Sept 10\, 2024 06:30 PM London \nhttps://us02web.zoom.us/j/84803775179 \nMeeting ID: 848 0377 5179 \nPasscode: 303113
URL:https://scentventure.dog/event/roadmap-roadmap-june-cohort-turbo-charger-2/
LOCATION:Zoom\, United Kingdom
CATEGORIES:Roadmap
END:VEVENT
BEGIN:VEVENT
DTSTART;TZID=Europe/London:20240910T183000
DTEND;TZID=Europe/London:20240910T193000
DTSTAMP:20260420T142436
CREATED:20240821T085516Z
LAST-MODIFIED:20240821T085516Z
UID:43189-1725993000-1725996600@scentventure.dog
SUMMARY:[ROADMAP] JUNE: Turbo Charger
DESCRIPTION:Time: Sep 10\, 2024 06:30 PM London \nhttps://us02web.zoom.us/j/84803775179 \nMeeting ID: 848 0377 5179 \nPasscode: 303113
URL:https://scentventure.dog/event/roadmap-june-turbo-charger/
CATEGORIES:Roadmap
END:VEVENT
BEGIN:VEVENT
DTSTART;TZID=Europe/London:20240911T183000
DTEND;TZID=Europe/London:20240911T193000
DTSTAMP:20260420T142436
CREATED:20240829T081123Z
LAST-MODIFIED:20240829T081123Z
UID:43553-1726079400-1726083000@scentventure.dog
SUMMARY:[THRIVE] Yin Yoga with Sharon Kilgour
DESCRIPTION:Yin is a style of yoga that incorporates longer holds of postures to allow for a slow-paced\, meditative style that focuses on stretching the body's connective tissues. The goal is to tune into the body and mind\, and to develop a deeper internal awareness. \nYin yoga can have many benefits\, including: \nStress and mental health Yin yoga can help reduce symptoms of stress\, depression\, anxiety\, and sleep disturbances. It can also help clear the mind of unconscious emotions by observing physical sensations without getting caught up in stories about them. \nFlexibility:  Yin yoga focuses on flexibility and relaxation\, rather than building strength. \nEnergy flow: Yin yoga can improve energy flow and enhance the flow of chi in the organs. \nMindfulness: Yin yoga can help develop mindfulness and enhance breath awareness. It can also encourage practitioners to synchronize their movement with their breath. Yin yoga is a good complement to a fast-paced life or intense workouts.
URL:https://scentventure.dog/event/thrive-yin-yoga-with-sharon-kilgour/
CATEGORIES:THRIVE
END:VEVENT
BEGIN:VEVENT
DTSTART;TZID=Europe/London:20240912T183000
DTEND;TZID=Europe/London:20240912T193000
DTSTAMP:20260420T142436
CREATED:20240829T082628Z
LAST-MODIFIED:20240829T082628Z
UID:43555-1726165800-1726169400@scentventure.dog
SUMMARY:[THRIVE ] Sleeptember with Expert Guest\, Suzanne Barbour
DESCRIPTION:This month is Sleeptember and as well as a live on this subject with Expert Guest\, Suzanne Barbour! 🌜😴
URL:https://scentventure.dog/event/thrive-sleeptember-with-expert-guest-suzanne-barbour/
CATEGORIES:THRIVE
END:VEVENT
BEGIN:VEVENT
DTSTART;TZID=Europe/London:20240918T183000
DTEND;TZID=Europe/London:20240918T193000
DTSTAMP:20260420T142436
CREATED:20240829T082931Z
LAST-MODIFIED:20240829T083051Z
UID:43557-1726684200-1726687800@scentventure.dog
SUMMARY:[CLUB DOGWOOD] Expert Guest Adrian Naicker\, Assistance Dog Trainer
DESCRIPTION:Our Expert Guest\, Adrian Naicker\, experienced assistance dog trainer\, shares his experience of training dogs as life-changing working companions. \nTime: Sep 18\, 2024 06:30 PM London \nhttps://us02web.zoom.us/j/84479986211 \nMeeting ID: 844 7998 6211 \nPasscode: 908723
URL:https://scentventure.dog/event/club-dogwood-expert-guest-adrian-naicker-assistance-dogs-trainer/
CATEGORIES:Club Dogwood
END:VEVENT
BEGIN:VEVENT
DTSTART;TZID=Europe/London:20240922T100000
DTEND;TZID=Europe/London:20240922T113000
DTSTAMP:20260420T142436
CREATED:20240908T061546Z
LAST-MODIFIED:20240908T063227Z
UID:43843-1726999200-1727004600@scentventure.dog
SUMMARY:What’s REALLY Causing the Pulling - and How to Stop It! 
DESCRIPTION:What’s REALLY Causing the Pulling – and How to Stop It!  \nTime: Sep 22\, 2024 10:00 AM London \nhttps://us02web.zoom.us/j/83107928892 \nMeeting ID: 831 0792 8892 \nPasscode: 555368 \n  \nCome along to the Kick Off Call to get crystal clear on how this challenge works and take your first steps to success. \nChances are you enrolled in The Loose Lead Walking Challenge because walks with your dog are harder than expected. From leash pulling to lunging\, we know the struggle is real.  \nThere is one single most effective method to treat pulling on the lead\, zig-zagging\, obsessive scent trailing\, reactivity\, anxiety and over-excitement at the root. Until you achieve this one thing\, every other goal should be organised around it. \nThat’s exactly what we’re sharing with you at the opening Masterclass. Discover what’s really causing your dog to pull\, zig-zag and lunge – and the counterintuitive way to avoid it! \nIf you’re feeling a little shy\, don’t worry! We’re very welcoming and there’s zero pressure to speak or interact. You don’t need to turn on your camera or mic\, just come along and soak up all the juicy info!
URL:https://scentventure.dog/event/whats-really-causing-the-pulling-and-how-to-stop-it/
LOCATION:Zoom\, United Kingdom
CATEGORIES:LLW
END:VEVENT
BEGIN:VEVENT
DTSTART;TZID=Europe/London:20240925T190000
DTEND;TZID=Europe/London:20240925T203000
DTSTAMP:20260420T142436
CREATED:20240908T061929Z
LAST-MODIFIED:20240908T063308Z
UID:43847-1727290800-1727296200@scentventure.dog
SUMMARY:Stop Walking Your Dog… Here’s What To Do Instead. 
DESCRIPTION:Stop Walking Your Dog… Here’s What To Do Instead  \nTime: Sep 25\, 2024 07:00 PM London \nhttps://us02web.zoom.us/j/86924529446 \nMeeting ID: 869 2452 9446 \nPasscode: 221689 \n  \nIntroducing… The Anti-Pull\, Species-Appropriate\, High-Engagement Walk Your Dog Would Choose For Themselves! \nOther dogs\, people\, fascinating scents… \nUntil you can drown out the distractions and get your dog’s attention\, you will not achieve that loose lead of dreams. \nI reinvented the daily dog walk to get MASSES of engagement and a lead that is always loose. That’s what I’m sharing with you at this Masterclass! \nYou’ll discover how to make loose lead walking easy and fun by incorporating a variety of ‘no-pull’ activities into your walk so that you’re training your dog to walk on a loose lead – even when you’re not directly training loose lead walking! \nWalk away with my simple framework that you can take out with you onto every single walk to prevent pulling on the lead. \nAll you’ve got to do is show up. See you there?
URL:https://scentventure.dog/event/stop-walking-your-dog-heres-what-to-do-instead/
LOCATION:Zoom\, United Kingdom
CATEGORIES:LLW
END:VEVENT
BEGIN:VEVENT
DTSTART;TZID=Europe/London:20240928T100000
DTEND;TZID=Europe/London:20240928T113000
DTSTAMP:20260420T142436
CREATED:20240908T062107Z
LAST-MODIFIED:20240908T062236Z
UID:43850-1727517600-1727523000@scentventure.dog
SUMMARY:The Loose Lead Walking Recipe - THE Complete Treatment Plan for Stress Free Dog Walks!
DESCRIPTION:The Loose Lead Walking Recipe – THE Complete Treatment Plan for Stress Free Dog Walks \nTime: Sep 28\, 2024 10:00 AM London \nhttps://us02web.zoom.us/j/89791729381 \nMeeting ID: 897 9172 9381 \nPasscode: 916308 \n  \nLoose lead walking is a recipe. Miss out one ingredient and your dog will continue pulling you in every direction. Get all the ingredients right and you’ll bake it to perfection! \nThe loose lead walking training itself is just one ingredient in the recipe. You need all 5 ingredients for stress free walks. \nUntil then\, you’ll go round and round in circles\, having your shoulder pulled out\, or like I did… going home in tears. \nIt’s because of this approach that I went from dreading every walk to actually looking forward to them! I want you to have that too. \nYou’ll leave with a Treatment Plan to finally tackle that painful pulling on the lead problem. And you can start looking forward to calmer\, more relaxing walks. \nWalk away with a real\, tangible Treatment Plan to use beyond this challenge for a lifetime of calm canine behaviour and loose lead walks.
URL:https://scentventure.dog/event/the-loose-lead-walking-recipe-the-complete-treatment-plan-for-stress-free-dog-walks/
LOCATION:Zoom\, United Kingdom
CATEGORIES:LLW
END:VEVENT
BEGIN:VEVENT
DTSTART;TZID=Europe/London:20240929T100000
DTEND;TZID=Europe/London:20240929T230000
DTSTAMP:20260420T142436
CREATED:20240908T062440Z
LAST-MODIFIED:20240908T062440Z
UID:43854-1727604000-1727650800@scentventure.dog
SUMMARY:[BONUS] From a Puller to a Pleasure: Behind the Scenes 'How They Did That' Special.
DESCRIPTION:[BONUS] From a Puller to a Pleasure: Behind the Scenes ‘How They Did That' Special \nTime: Sep 29\, 2024 10:00 AM London \nhttps://us02web.zoom.us/j/83025323239 \nMeeting ID: 830 2532 3239 \nPasscode: 021328
URL:https://scentventure.dog/event/bonus-from-a-puller-to-a-pleasure-behind-the-scenes-how-they-did-that-special/
LOCATION:Zoom\, United Kingdom
CATEGORIES:LLW
END:VEVENT
BEGIN:VEVENT
DTSTART;TZID=Europe/London:20240929T190000
DTEND;TZID=Europe/London:20240929T200000
DTSTAMP:20260420T142436
CREATED:20240908T062704Z
LAST-MODIFIED:20240908T062704Z
UID:43856-1727636400-1727640000@scentventure.dog
SUMMARY:[BONUS] The Loose Lead Walking Challenge Game Show! 
DESCRIPTION:[BONUS] The Loose Lead Walking Challenge Game Show!  \nTime: Sep 29\, 2024 07:00 PM London \nhttps://us02web.zoom.us/j/84746583324 \nMeeting ID: 847 4658 3324 \nPasscode: 959962 \n  \nWe're ending the event with some FUN! \nLet’s see who’s been paying attention 😉 A fun and lighthearted pop quiz to end the Challenge with a bang! With prizes from The Dog Hoose Tynemouth 🎁
URL:https://scentventure.dog/event/bonus-the-loose-lead-walking-challenge-game-show/
LOCATION:Zoom\, United Kingdom
CATEGORIES:LLW
END:VEVENT
BEGIN:VEVENT
DTSTART;TZID=Europe/London:20240930T190000
DTEND;TZID=Europe/London:20240930T200000
DTSTAMP:20260420T142436
CREATED:20240908T062802Z
LAST-MODIFIED:20240908T063141Z
UID:43858-1727722800-1727726400@scentventure.dog
SUMMARY:[BONUS] Question Time.
DESCRIPTION:[BONUS] Question Time \nTime: Sep 30\, 2024 07:00 PM London \nhttps://us02web.zoom.us/j/89514925980 \nMeeting ID: 895 1492 5980 \nPasscode: 869864
URL:https://scentventure.dog/event/bonus-question-time/
LOCATION:Zoom\, United Kingdom
CATEGORIES:LLW
END:VEVENT
END:VCALENDAR