BEGIN:VCALENDAR
VERSION:2.0
PRODID:-//Scentventure - ECPv6.10.0//NONSGML v1.0//EN
CALSCALE:GREGORIAN
METHOD:PUBLISH
X-ORIGINAL-URL:https://scentventure.dog
X-WR-CALDESC:Events for Scentventure
REFRESH-INTERVAL;VALUE=DURATION:PT1H
X-Robots-Tag:noindex
X-PUBLISHED-TTL:PT1H
BEGIN:VTIMEZONE
TZID:Europe/London
BEGIN:DAYLIGHT
TZOFFSETFROM:+0000
TZOFFSETTO:+0100
TZNAME:BST
DTSTART:20240331T010000
END:DAYLIGHT
BEGIN:STANDARD
TZOFFSETFROM:+0100
TZOFFSETTO:+0000
TZNAME:GMT
DTSTART:20241027T010000
END:STANDARD
END:VTIMEZONE
BEGIN:VEVENT
DTSTART;TZID=Europe/London:20240807T183000
DTEND;TZID=Europe/London:20240807T193000
DTSTAMP:20260420T160308
CREATED:20240724T105002Z
LAST-MODIFIED:20240724T122723Z
UID:42602-1723055400-1723059000@scentventure.dog
SUMMARY:[THRIVE] Self Massage with Nick
DESCRIPTION:[THRIVE] Self Massage with Nick \nThis session will be focused on energising the body. We will be working on self-massage techniques from the top of the head down to the belly. Using rhythm\, percussion pressure and movement to enliven the body and leave you with a bit of a buzz on! \nTime: Aug 7\, 2024 06:30 PM London
URL:https://scentventure.dog/event/thrive-self-massage-with-nick/
LOCATION:Zoom\, United Kingdom
CATEGORIES:THRIVE
END:VEVENT
BEGIN:VEVENT
DTSTART;TZID=Europe/London:20240812T183000
DTEND;TZID=Europe/London:20240812T193000
DTSTAMP:20260420T160308
CREATED:20240724T111455Z
LAST-MODIFIED:20240724T111951Z
UID:42607-1723487400-1723491000@scentventure.dog
SUMMARY:[ROADMAP June Cohort] Next Steps with Katie!
DESCRIPTION:[ROADMAP June Cohort] Next Steps with Katie! \nTime: Aug 12\, 2024 06:30 PM London \nhttps://us02web.zoom.us/j/86380452246 \nMeeting ID: 863 8045 2246 \nPasscode: 292973
URL:https://scentventure.dog/event/roadmap-june-cohort-next-steps-with-katie/
LOCATION:Zoom\, United Kingdom
CATEGORIES:Roadmap
END:VEVENT
BEGIN:VEVENT
DTSTART;TZID=Europe/London:20240813T183000
DTEND;TZID=Europe/London:20240813T193000
DTSTAMP:20260420T160308
CREATED:20240530T120340Z
LAST-MODIFIED:20240531T094121Z
UID:41003-1723573800-1723577400@scentventure.dog
SUMMARY:[ROADMAP June Cohort] Roadmap June Cohort Turbo Charger 
DESCRIPTION:[ROADMAP] Roadmap June Cohort Turbo Charger  \nTime: Aug 13\, 2024 06:30 PM London \nhttps://us02web.zoom.us/j/87381468468 \nMeeting ID: 873 8146 8468 \nPasscode: 875587
URL:https://scentventure.dog/event/roadmap-roadmap-june-cohort-turbo-charger-5/
LOCATION:Zoom\, United Kingdom
CATEGORIES:Roadmap
END:VEVENT
BEGIN:VEVENT
DTSTART;TZID=Europe/London:20240819T183000
DTEND;TZID=Europe/London:20240819T193000
DTSTAMP:20260420T160308
CREATED:20240724T113006Z
LAST-MODIFIED:20240724T114230Z
UID:42610-1724092200-1724095800@scentventure.dog
SUMMARY:[CLUB DOGWOOD] Exploration Compass Point
DESCRIPTION:[CLUB DOGWOOD] Exploration Compass Point \nThe Exploration Compass Point focuses on meeting dogs' behavioural needs as outlined in their ethogram\, offering varied opportunities for them to investigate and interact with novel items\, play\, and forage. \nEmphasizing the importance of choice and agency\, Exploration is a crucial component in many behavioural modification plans\, ensuring that dogs feel safe and empowered to step outside of their comfort zone and build confidence with new experiences and even those previously perceived as negative. \nTime: Aug 19\, 2024 06:30 PM London \nhttps://us02web.zoom.us/j/85716404037 \nMeeting ID: 857 1640 4037 \nPasscode: 102491
URL:https://scentventure.dog/event/club-dogwood-exploration-compass-point/
LOCATION:Zoom\, United Kingdom
CATEGORIES:Club Dogwood
END:VEVENT
BEGIN:VEVENT
DTSTART;TZID=Europe/London:20240820T183000
DTEND;TZID=Europe/London:20240820T193000
DTSTAMP:20260420T160308
CREATED:20240530T120554Z
LAST-MODIFIED:20240624T071224Z
UID:41009-1724178600-1724182200@scentventure.dog
SUMMARY:VIP Turbo Charger
DESCRIPTION:[ROADMAP] VIP Turbo Charger \nA bonus Turbo Charger for VIPs in the Skills & Confidence Challenge! \nTime: Aug 20\, 2024 06:30 PM London
URL:https://scentventure.dog/event/roadmap-vip-turbo-charger-2/
LOCATION:Zoom\, United Kingdom
CATEGORIES:Roadmap
END:VEVENT
BEGIN:VEVENT
DTSTART;TZID=Europe/London:20240821T180000
DTEND;TZID=Europe/London:20240821T190000
DTSTAMP:20260420T160308
CREATED:20240724T113900Z
LAST-MODIFIED:20240724T114038Z
UID:42616-1724263200-1724266800@scentventure.dog
SUMMARY:[CLUB DOGWOOD] Expert Guest: Roz Pooley on Dog-Dog Play
DESCRIPTION:[CLUB DOGWOOD] Expert Guest: Roz Pooley on Dog-Dog Play \nJoin us for a deep dive into appropriate canine play. We'll look into spotting the good\, the bad and the ugly and how to support your dog in their social interactions! \nOur Expert Guest\, Roz\, is a Clinical Animal Behaviourist with a keen interest in canine social behaviour. With the help of her own dogs\, she relishes in rehabilitating dogs with social issues. Her greatest teacher is her Thai Meat Trade Survivor\, Kanita! A master of body language\, Kanita is a primitive minded and strongly independent dog who has taught Roz a lot about adapting our expectations and developing a genuine respect and understanding of dog behaviour. \nTime: Aug 21\, 2024 06:00 PM London \nhttps://us02web.zoom.us/j/89396637361 \nMeeting ID: 893 9663 7361 \nPasscode: 527641
URL:https://scentventure.dog/event/club-dogwood-expert-guest-roz-pooley-on-dog-dog-play/
LOCATION:Zoom\, United Kingdom
CATEGORIES:Club Dogwood
END:VEVENT
BEGIN:VEVENT
DTSTART;TZID=Europe/London:20240827T183000
DTEND;TZID=Europe/London:20240827T193000
DTSTAMP:20260420T160308
CREATED:20240530T120423Z
LAST-MODIFIED:20240531T094044Z
UID:41005-1724783400-1724787000@scentventure.dog
SUMMARY:[ROADMAP June Cohort] Roadmap June Cohort Turbo Charger
DESCRIPTION:[ROADMAP] Roadmap June Cohort Turbo Charger \nTime: Aug 27\, 2024 06:30 PM London \nhttps://us02web.zoom.us/j/83456099849 \nMeeting ID: 834 5609 9849 \nPasscode: 821560
URL:https://scentventure.dog/event/roadmap-roadmap-june-cohort-turbo-charger-6/
LOCATION:Zoom\, United Kingdom
CATEGORIES:Roadmap
END:VEVENT
BEGIN:VEVENT
DTSTART;TZID=Europe/London:20240828T183000
DTEND;TZID=Europe/London:20240828T193000
DTSTAMP:20260420T160308
CREATED:20240724T130956Z
LAST-MODIFIED:20240724T130956Z
UID:42625-1724869800-1724873400@scentventure.dog
SUMMARY:[THRIVE] Mandalas Part 2 with Sharon
DESCRIPTION:[THRIVE] Mandalas Part 2 with Sharon \nWe're back with part 2 of this popular workshop! Drawing Mandalas as a tool to quieten the mind. Mindfulness and art combined. You will need paper (sketchbook or scrap paper) pencils or pens and any colouring equipment you prefer\, be it coloured pencils or paints. Have a comfy space or yoga mat handy too! \nTime: Aug 28\, 2024 06:30 PM London
URL:https://scentventure.dog/event/thrive-mandalas-part-2-with-sharon/
LOCATION:Zoom\, United Kingdom
CATEGORIES:THRIVE
END:VEVENT
END:VCALENDAR