BEGIN:VCALENDAR
VERSION:2.0
PRODID:-//Scentventure - ECPv6.10.0//NONSGML v1.0//EN
CALSCALE:GREGORIAN
METHOD:PUBLISH
X-ORIGINAL-URL:https://scentventure.dog
X-WR-CALDESC:Events for Scentventure
REFRESH-INTERVAL;VALUE=DURATION:PT1H
X-Robots-Tag:noindex
X-PUBLISHED-TTL:PT1H
BEGIN:VTIMEZONE
TZID:Europe/London
BEGIN:DAYLIGHT
TZOFFSETFROM:+0000
TZOFFSETTO:+0100
TZNAME:BST
DTSTART:20240331T010000
END:DAYLIGHT
BEGIN:STANDARD
TZOFFSETFROM:+0100
TZOFFSETTO:+0000
TZNAME:GMT
DTSTART:20241027T010000
END:STANDARD
END:VTIMEZONE
BEGIN:VEVENT
DTSTART;TZID=Europe/London:20240603T183000
DTEND;TZID=Europe/London:20240603T193000
DTSTAMP:20260420T194120
CREATED:20240527T112204Z
LAST-MODIFIED:20240527T112204Z
UID:40741-1717439400-1717443000@scentventure.dog
SUMMARY:[THRIVE] Suzanne Barbour: Stress Bucket
DESCRIPTION:[THRIVE] Suzanne Barbour: Stress Bucket\nRecognising our indicators of stress and practical coping strategies that can help. \n  \nTime: Jun 3\, 2024 06:30 PM London \nhttps://us02web.zoom.us/j/84394044652  \nMeeting ID: 843 9404 4652 \nPasscode: 359453
URL:https://scentventure.dog/event/thrive-suzanne-barbour-stress-bucket-2/
LOCATION:Zoom\, United Kingdom
CATEGORIES:THRIVE
END:VEVENT
BEGIN:VEVENT
DTSTART;TZID=Europe/London:20240604T183000
DTEND;TZID=Europe/London:20240604T193000
DTSTAMP:20260420T194120
CREATED:20240530T115918Z
LAST-MODIFIED:20240531T093926Z
UID:40993-1717525800-1717529400@scentventure.dog
SUMMARY:[ROADMAP June Cohort] Welcome Meeting with Katie!
DESCRIPTION:[ROADMAP] Welcome Meeting with Katie! \nTime: Jun 4\, 2024 06:30 PM London \nhttps://us02web.zoom.us/j/81817215362  \nMeeting ID: 818 1721 5362 \nPasscode: 663956
URL:https://scentventure.dog/event/roadmap-welcome-meeting-with-katie/
LOCATION:Zoom\, United Kingdom
CATEGORIES:Roadmap
END:VEVENT
BEGIN:VEVENT
DTSTART;TZID=Europe/London:20240605T060000
DTEND;TZID=Europe/London:20240605T190000
DTSTAMP:20260420T194120
CREATED:20240527T112257Z
LAST-MODIFIED:20240527T112257Z
UID:40743-1717567200-1717614000@scentventure.dog
SUMMARY:[CLUB DOGWOOD] CounterAction Live Q&A Workshop 
DESCRIPTION:[CLUB DOGWOOD] CounterAction Live Q&A Workshop \nCounterAction presents us with so much to discuss on an individual basis that we wanted to make sure you had multiple options to access Guide support in whichever way you prefer. Whether it’s a real-time chat or a discussion in the community\, we’re here to support you with the big questions and finer details! \n  \nTime: Jun 5\, 2024 06:00 PM London \nhttps://us02web.zoom.us/j/83789345484  \nMeeting ID: 837 8934 5484 \nPasscode: 538210
URL:https://scentventure.dog/event/club-dogwood-counteraction-live-qa-workshop/
LOCATION:Zoom\, United Kingdom
CATEGORIES:Club Dogwood
END:VEVENT
BEGIN:VEVENT
DTSTART;TZID=Europe/London:20240610T183000
DTEND;TZID=Europe/London:20240610T193000
DTSTAMP:20260420T194120
CREATED:20240527T112350Z
LAST-MODIFIED:20240527T112350Z
UID:40745-1718044200-1718047800@scentventure.dog
SUMMARY:[THRIVE] Suzanne Barbour: The power of thinking. 
DESCRIPTION:[THRIVE] Suzanne Barbour: The power of thinking. \n  \nThe power of thinking and being kinder to ourselves. \nTime: Jun 10\, 2024 06:30 PM London \nhttps://us02web.zoom.us/j/85897713967  \nMeeting ID: 858 9771 3967 \nPasscode: 856138
URL:https://scentventure.dog/event/thrive-suzanne-barbour-the-power-of-thinking/
LOCATION:Zoom\, United Kingdom
CATEGORIES:THRIVE
END:VEVENT
BEGIN:VEVENT
DTSTART;TZID=Europe/London:20240611T183000
DTEND;TZID=Europe/London:20240611T193000
DTSTAMP:20260420T194120
CREATED:20240530T120011Z
LAST-MODIFIED:20240531T094308Z
UID:40995-1718130600-1718134200@scentventure.dog
SUMMARY:[ROADMAP June Cohort] Roadmap June Cohort Turbo Charger 
DESCRIPTION:[ROADMAP] Roadmap June Cohort Turbo Charger  \nTime: Jun 11\, 2024 06:30 PM London \nhttps://us02web.zoom.us/j/82809642171 \nMeeting ID: 828 0964 2171 \nPasscode: 789443
URL:https://scentventure.dog/event/roadmap-roadmap-june-cohort-turbo-charger/
LOCATION:Zoom\, United Kingdom
CATEGORIES:Roadmap
END:VEVENT
BEGIN:VEVENT
DTSTART;TZID=Europe/London:20240624T183000
DTEND;TZID=Europe/London:20240624T193000
DTSTAMP:20260420T194120
CREATED:20240527T112610Z
LAST-MODIFIED:20240621T133654Z
UID:40751-1719253800-1719257400@scentventure.dog
SUMMARY:[CLUB DOGWOOD] The Compass Points of Scentventure: Scent
DESCRIPTION:[CLUB DOGWOOD] The Compass Points of Scentventure: Scent\nIt’s the Compass Point which puts your dog in the driving seat! Our human sense of smell is useless after all! \n  \nIt’s a skill they’re born with and soon become true masters of. We’ll deep dive into how we can harness that ability. By directing their focus into something they naturally excel at and feel amazing doing\, we can actively build their confidence\, encourage independent-thinking and influence their emotional state!  \n  \nTime: Jun 24\, 2024 06:30 PM London \nhttps://us02web.zoom.us/j/88255134909  \nMeeting ID: 882 5513 4909 \nPasscode: 367301
URL:https://scentventure.dog/event/club-dogwood-the-compass-points-of-scentventure-scent/
LOCATION:Zoom\, United Kingdom
CATEGORIES:Club Dogwood
END:VEVENT
BEGIN:VEVENT
DTSTART;TZID=Europe/London:20240625T180000
DTEND;TZID=Europe/London:20240625T190000
DTSTAMP:20260420T194120
CREATED:20240527T112521Z
LAST-MODIFIED:20240527T112521Z
UID:40749-1719338400-1719342000@scentventure.dog
SUMMARY:[CLUB DOGWOOD] CounterAction Live Q&A Workshop
DESCRIPTION:[CLUB DOGWOOD] CounterAction Live Q&A Workshop\nCounterAction presents us with so much to discuss on an individual basis that we wanted to make sure you had multiple options to access Guide support in whichever way you prefer. Whether it’s a real-time chat or a discussion in the community\, we’re here to support you with the big questions and finer details! \n  \nTime: Jun 25\, 2024 06:00 PM London \nhttps://us02web.zoom.us/j/82587796534  \nMeeting ID: 825 8779 6534 \nPasscode: 703512 \n 
URL:https://scentventure.dog/event/club-dogwood-counteraction-live-qa-workshop-2/
LOCATION:Zoom\, United Kingdom
CATEGORIES:Club Dogwood
END:VEVENT
END:VCALENDAR