BEGIN:VCALENDAR
VERSION:2.0
PRODID:-//Scentventure - ECPv6.10.0//NONSGML v1.0//EN
CALSCALE:GREGORIAN
METHOD:PUBLISH
X-ORIGINAL-URL:https://scentventure.dog
X-WR-CALDESC:Events for Scentventure
REFRESH-INTERVAL;VALUE=DURATION:PT1H
X-Robots-Tag:noindex
X-PUBLISHED-TTL:PT1H
BEGIN:VTIMEZONE
TZID:Europe/London
BEGIN:DAYLIGHT
TZOFFSETFROM:+0000
TZOFFSETTO:+0100
TZNAME:BST
DTSTART:20240331T010000
END:DAYLIGHT
BEGIN:STANDARD
TZOFFSETFROM:+0100
TZOFFSETTO:+0000
TZNAME:GMT
DTSTART:20241027T010000
END:STANDARD
END:VTIMEZONE
BEGIN:VEVENT
DTSTART;TZID=Europe/London:20240506T183000
DTEND;TZID=Europe/London:20240506T193000
DTSTAMP:20260420T212922
CREATED:20240429T092427Z
LAST-MODIFIED:20240430T073120Z
UID:39886-1715020200-1715023800@scentventure.dog
SUMMARY:[THRIVE] Suzanne Barbour: Emotional Resilience
DESCRIPTION:What it is emotional resilience\, and why it is so important? Resilience is your BOUNCE BACK FASTER mechanism! \n\nPart 1 in a series of 6 with Life Coach Suzanne Barbour: \n\n6th May: Emotional Resilience – bounce back faster!\n20th May: Stress Bucket – how to avoid it spilling over.\n3rd June: The power of thinking and being kinder to ourselves.\n17th June: Circles of control – learn to worry less about things that we cannot do anything about.\n8th July: Diet & Stress – How nutrition can influence stress and simple changes we can make to help.\n22nd July – Develop your own wellbeing plan.\n\nThe series is reserved for Thrive members\, but we have limited paid spots available for Club Dogwood members; please contact hello@dogwoodadventureplay.com for details.
URL:https://scentventure.dog/event/thrive-suzanne-barbour-emotional-resilience/
LOCATION:Zoom\, United Kingdom
CATEGORIES:THRIVE
END:VEVENT
BEGIN:VEVENT
DTSTART;TZID=Europe/London:20240508T183000
DTEND;TZID=Europe/London:20240508T193000
DTSTAMP:20260420T212922
CREATED:20240429T092557Z
LAST-MODIFIED:20240429T092557Z
UID:39890-1715193000-1715196600@scentventure.dog
SUMMARY:[CLUB DOGWOOD] Expert Guest Caroline Lewis: Overseas Rescue Dogs
DESCRIPTION:Caroline shares her wealth of experience\, delving into the unique experience of overseas rescue dogs. Caroline will explore how their distinct life experiences can shape their behavior and adaptation to their new\, often very contrasting\, lifestyle. Exploring why their behaviour post-adoption may not always reflect the personalities\, habits and abilities as assessed with their previous caregivers. And look at how understanding the nuances of typical breed types\, their genetics and their likely previous lifestyle can be illuminating to supporting their integration into your home. \n  \nTime: May 8\, 2024 06:30 PM London \nhttps://us02web.zoom.us/j/89722118234 \nMeeting ID: 897 2211 8234  \nPasscode: 205717
URL:https://scentventure.dog/event/club-dogwood-expert-guest-caroline-lewis-overseas-rescue-dogs/
LOCATION:Zoom\, United Kingdom
CATEGORIES:Club Dogwood
END:VEVENT
BEGIN:VEVENT
DTSTART;TZID=Europe/London:20240509T183000
DTEND;TZID=Europe/London:20240509T193000
DTSTAMP:20260420T212922
CREATED:20240429T092855Z
LAST-MODIFIED:20240429T092855Z
UID:39894-1715279400-1715283000@scentventure.dog
SUMMARY:[ROADMAP] Roadmap Celebration with Katie!
DESCRIPTION:Whether you still have a way to go or you have completed the Roadmap\, this celebration is an opportunity to come together\, reflect on your progress\, and discover some juicy new insights about yourself. \nTime: May 9\, 2024 06:30 PM London \nhttps://us02web.zoom.us/j/82337287571  \nMeeting ID: 823 3728 7571 \nPasscode: 275892
URL:https://scentventure.dog/event/roadmap-roadmap-celebration-with-katie/
LOCATION:Zoom\, United Kingdom
CATEGORIES:Roadmap
END:VEVENT
BEGIN:VEVENT
DTSTART;TZID=Europe/London:20240514T183000
DTEND;TZID=Europe/London:20240514T193000
DTSTAMP:20260420T212922
CREATED:20240504T061933Z
LAST-MODIFIED:20240504T061933Z
UID:40049-1715711400-1715715000@scentventure.dog
SUMMARY:[ROADMAP] April Cohort Turbo Charger
DESCRIPTION:Topic: April Cohort Turbo Charger\nTime: May 14\, 2024 06:30 PM London\nhttps://us02web.zoom.us/j/86817545480\nMeeting ID: 868 1754 5480\nPasscode: 163145
URL:https://scentventure.dog/event/roadmap-april-cohort-turbo-charger/
LOCATION:Zoom\, United Kingdom
CATEGORIES:Roadmap
END:VEVENT
BEGIN:VEVENT
DTSTART;TZID=Europe/London:20240515T183000
DTEND;TZID=Europe/London:20240515T193000
DTSTAMP:20260420T212922
CREATED:20240429T092646Z
LAST-MODIFIED:20240429T092646Z
UID:39892-1715797800-1715801400@scentventure.dog
SUMMARY:[CLUB DOGWOOD] The Compass Points of Scentventure: Partnership
DESCRIPTION:Without a doubt it’s the Compass Point with the most range over a spectrum of training\, enrichment and lifestyle activities. It also serves as the ‘cherry on the top’ of the other Compass Points\, combining to achieve next level results! Tune in to find out how the Partnership Compass Point will help you achieve your goals.  \n  \nTime: May 15\, 2024 06:30 PM London \nhttps://us02web.zoom.us/j/81259852824  \nMeeting ID: 812 5985 2824 \nPasscode: 286621 
URL:https://scentventure.dog/event/club-dogwood-the-compass-points-of-scentventure-partnership/
LOCATION:Zoom\, United Kingdom
CATEGORIES:Club Dogwood
END:VEVENT
BEGIN:VEVENT
DTSTART;TZID=Europe/London:20240520T183000
DTEND;TZID=Europe/London:20240520T193000
DTSTAMP:20260420T212922
CREATED:20240429T092514Z
LAST-MODIFIED:20240430T072954Z
UID:39888-1716229800-1716233400@scentventure.dog
SUMMARY:[THRIVE] Suzanne Barbour: Stress Bucket
DESCRIPTION:Recognising our indicators of stress and practical coping strategies to help.\nPart 2 in a series of 6 with Life Coach Suzanne Barbour: \n\n6th May: Emotional Resilience – bounce back faster!\n20th May: Stress Bucket – how to avoid it spilling over.\n3rd June: The power of thinking and being kinder to ourselves.\n17th June: Circles of control – learn to worry less about things that we cannot do anything about.\n8th July: Diet & Stress – How nutrition can influence stress and simple changes we can make to help.\n22nd July – Develop your own wellbeing plan.\n\nThe series is reserved for Thrive members\, but we have limited paid spots available for Club Dogwood members; please contact hello@dogwoodadventureplay.com for details.
URL:https://scentventure.dog/event/thrive-suzanne-barbour-stress-bucket/
LOCATION:Zoom\, United Kingdom
CATEGORIES:THRIVE
END:VEVENT
BEGIN:VEVENT
DTSTART;TZID=Europe/London:20240521T183000
DTEND;TZID=Europe/London:20240521T193000
DTSTAMP:20260420T212922
CREATED:20240504T062033Z
LAST-MODIFIED:20240521T115804Z
UID:40051-1716316200-1716319800@scentventure.dog
SUMMARY:RESCHEDULED - [ROADMAP] Jan Cohort Turbo Charger
DESCRIPTION:Apologies\, this turbo charger has been cancelled.\nA new date will be scheduled soon.
URL:https://scentventure.dog/event/roadmap-jan-cohort-turbo-charger/
LOCATION:Zoom\, United Kingdom
CATEGORIES:Roadmap
END:VEVENT
END:VCALENDAR