BEGIN:VCALENDAR
VERSION:2.0
PRODID:-//Scentventure - ECPv6.10.0//NONSGML v1.0//EN
CALSCALE:GREGORIAN
METHOD:PUBLISH
X-WR-CALNAME:Scentventure
X-ORIGINAL-URL:https://scentventure.dog
X-WR-CALDESC:Events for Scentventure
REFRESH-INTERVAL;VALUE=DURATION:PT1H
X-Robots-Tag:noindex
X-PUBLISHED-TTL:PT1H
BEGIN:VTIMEZONE
TZID:Europe/London
BEGIN:DAYLIGHT
TZOFFSETFROM:+0000
TZOFFSETTO:+0100
TZNAME:BST
DTSTART:20230326T010000
END:DAYLIGHT
BEGIN:STANDARD
TZOFFSETFROM:+0100
TZOFFSETTO:+0000
TZNAME:GMT
DTSTART:20231029T010000
END:STANDARD
END:VTIMEZONE
BEGIN:VEVENT
DTSTART;TZID=Europe/London:20231102T180000
DTEND;TZID=Europe/London:20231102T190000
DTSTAMP:20260421T081114
CREATED:20231027T091731Z
LAST-MODIFIED:20231030T105554Z
UID:32618-1698948000-1698951600@scentventure.dog
SUMMARY:Caregiver Compliance with Scentventure Guide Justine - 2nd November 6pm
DESCRIPTION:Struggling to get everyone on board with your dog’s training plan? We hear you! \nWe so regularly hear of differing views and priorities between caregivers\, whether it’s other members of the family or hired professionals. \nJoin Scentventure Guide Justine on her Caregiver Compliance live\, where she will share effective strategies to rally the team and navigate outright refusals.  \nGet ready to bring unity to your plans and unlock success. \nCaregiver Compliance with SVG Justine \nTime: Nov 2\, 2023 06:00 PM London \nhttps://us02web.zoom.us/j/82359001248 \nMeeting ID: 823 5900 1248 \nPasscode: 561681
URL:https://scentventure.dog/event/caregiver-compliance-with-scentventure-guide-justine-2nd-november-6pm/
LOCATION:Zoom\, United Kingdom
CATEGORIES:Club Dogwood
END:VEVENT
BEGIN:VEVENT
DTSTART;TZID=Europe/London:20231108T183000
DTEND;TZID=Europe/London:20231108T193000
DTSTAMP:20260421T081114
CREATED:20231027T091901Z
LAST-MODIFIED:20231107T075431Z
UID:32620-1699468200-1699471800@scentventure.dog
SUMMARY:THRIVE: Bereavement Sharing Circle
DESCRIPTION:Sharing circles or gatherings have a long and diverse history across cultures and societies.  \nThese gatherings are often rooted in the need for social support\, emotional connection\, and the sharing of experiences.  \nThe specific customs and practices vary widely\, from indigenous traditions\, the feminist movement of the 60s and 70s\, to their mention in the Bible and contemporary literature.  \nIn contemporary times\, sharing circles have seen a resurgence as spaces for personal growth\, healing\, and empowerment\, with an emphasis on self-discovery\, self-care\, and mutual support. \nBereavement Sharing Circle \nTime: Nov 8\, 2023 06:30 PM London \nhttps://us02web.zoom.us/j/84589746357 \nMeeting ID: 845 8974 6357 \nPasscode: 237602
URL:https://scentventure.dog/event/bereavement-sharing-circle-8th-november-6-30pm/
LOCATION:Zoom\, United Kingdom
CATEGORIES:THRIVE
END:VEVENT
BEGIN:VEVENT
DTSTART;TZID=Europe/London:20231115T183000
DTEND;TZID=Europe/London:20231115T193000
DTSTAMP:20260421T081114
CREATED:20231030T110002Z
LAST-MODIFIED:20231107T075507Z
UID:32821-1700073000-1700076600@scentventure.dog
SUMMARY:Club Dogwood: Expert Guest Zosia - Groom from your Room
DESCRIPTION:You’ll know club member Zosia as Mia’s pawrent but did you also know she was a professional groomer? We were thrilled when Zosia offered to be our expert guest to accompany the recent Groom From Your Room course update. Join the live for insight from the other side and the grooming table and knowledge on how to best meet your dog's body care needs! \n  \nTime: Nov 15\, 2023 06:30 PM London \nhttps://us02web.zoom.us/j/87450178949 \nMeeting ID: 874 5017 8949 \nPasscode: 409200
URL:https://scentventure.dog/event/expert-guest-zosia-groom-from-your-room/
LOCATION:Zoom\, United Kingdom
CATEGORIES:Club Dogwood
END:VEVENT
BEGIN:VEVENT
DTSTART;TZID=Europe/London:20231120T183000
DTEND;TZID=Europe/London:20231120T193000
DTSTAMP:20260421T081114
CREATED:20231027T092433Z
LAST-MODIFIED:20231107T075623Z
UID:32622-1700505000-1700508600@scentventure.dog
SUMMARY:Roadmap: Next Steps
DESCRIPTION:Join Katie for a live class to decide what's next on your Scentventure journey.  \nWill you decide to develop your Partnership so you have an even stronger connection with your dog?  \nOr will you work towards your first Compass Point Award and earn another badge?  \nKatie will help you find the perfect path for you and your dog. \n  \nTime: Nov 20\, 2023 06:30 PM London \nhttps://us02web.zoom.us/j/84559686422 \nMeeting ID: 845 5968 6422\nPasscode: 946301 \n 
URL:https://scentventure.dog/event/20th-next-steps-6-30pm/
LOCATION:Zoom\, United Kingdom
END:VEVENT
BEGIN:VEVENT
DTSTART;TZID=Europe/London:20231122T180000
DTEND;TZID=Europe/London:20231122T190000
DTSTAMP:20260421T081114
CREATED:20231027T092547Z
LAST-MODIFIED:20231107T075654Z
UID:32624-1700676000-1700679600@scentventure.dog
SUMMARY:Club Dogwood: Expert Guest Kerry Jordan - Photographing your Dog
DESCRIPTION:You gave dog photographer Kerry Jordan's first class rave reviews and promptly headed out with your cameras.  \nSo we thought you may like a part two! Be ready with your troubleshooting questions and pick up the skills to take your photography to the next level. \nExpert Guest Kerry Jordan – Photographing your Dog \nTime: Nov 22\, 2023 06:00 PM London \nhttps://us02web.zoom.us/j/81814370262 \nMeeting ID: 818 1437 0262 \nPasscode: 860655
URL:https://scentventure.dog/event/expert-guest-kerry-jordan-photographing-your-dog-22nd-november-6pm/
LOCATION:Zoom\, United Kingdom
CATEGORIES:Club Dogwood
END:VEVENT
BEGIN:VEVENT
DTSTART;TZID=Europe/London:20231129T190000
DTEND;TZID=Europe/London:20231129T200000
DTSTAMP:20260421T081114
CREATED:20231027T092701Z
LAST-MODIFIED:20231107T075726Z
UID:32626-1701284400-1701288000@scentventure.dog
SUMMARY:THRIVE: Lucia from Wild Ink: Illustrating Christmas Woolies
DESCRIPTION:Join us for a cosy Christmas workshop where we will be illustrating all things wooly – jumpers\, socks\, and I believe Lucia mentioned bras?!  \nI'm feeling itchy already. Looking forward to seeing you for this meditative\, relaxing class.  \nThe perfect pause during a hectic season. \n  \nTime: Nov 29\, 2023 07:00 PM London \nhttps://us02web.zoom.us/j/85655091549 \nMeeting ID: 856 5509 1549 \nPasscode: 248138
URL:https://scentventure.dog/event/lucia-from-wild-ink-illustrating-christmas-woolies-29th-november-7pm/
LOCATION:Zoom\, United Kingdom
CATEGORIES:THRIVE
END:VEVENT
END:VCALENDAR