BEGIN:VCALENDAR
VERSION:2.0
PRODID:-//Scentventure - ECPv6.10.0//NONSGML v1.0//EN
CALSCALE:GREGORIAN
METHOD:PUBLISH
X-WR-CALNAME:Scentventure
X-ORIGINAL-URL:https://scentventure.dog
X-WR-CALDESC:Events for Scentventure
REFRESH-INTERVAL;VALUE=DURATION:PT1H
X-Robots-Tag:noindex
X-PUBLISHED-TTL:PT1H
BEGIN:VTIMEZONE
TZID:Europe/London
BEGIN:DAYLIGHT
TZOFFSETFROM:+0000
TZOFFSETTO:+0100
TZNAME:BST
DTSTART:20000326T010000
END:DAYLIGHT
BEGIN:STANDARD
TZOFFSETFROM:+0100
TZOFFSETTO:+0000
TZNAME:GMT
DTSTART:20001029T010000
END:STANDARD
BEGIN:DAYLIGHT
TZOFFSETFROM:+0000
TZOFFSETTO:+0100
TZNAME:BST
DTSTART:20010325T010000
END:DAYLIGHT
BEGIN:STANDARD
TZOFFSETFROM:+0100
TZOFFSETTO:+0000
TZNAME:GMT
DTSTART:20011028T010000
END:STANDARD
BEGIN:DAYLIGHT
TZOFFSETFROM:+0000
TZOFFSETTO:+0100
TZNAME:BST
DTSTART:20020331T010000
END:DAYLIGHT
BEGIN:STANDARD
TZOFFSETFROM:+0100
TZOFFSETTO:+0000
TZNAME:GMT
DTSTART:20021027T010000
END:STANDARD
BEGIN:DAYLIGHT
TZOFFSETFROM:+0000
TZOFFSETTO:+0100
TZNAME:BST
DTSTART:20030330T010000
END:DAYLIGHT
BEGIN:STANDARD
TZOFFSETFROM:+0100
TZOFFSETTO:+0000
TZNAME:GMT
DTSTART:20031026T010000
END:STANDARD
BEGIN:DAYLIGHT
TZOFFSETFROM:+0000
TZOFFSETTO:+0100
TZNAME:BST
DTSTART:20040328T010000
END:DAYLIGHT
BEGIN:STANDARD
TZOFFSETFROM:+0100
TZOFFSETTO:+0000
TZNAME:GMT
DTSTART:20041031T010000
END:STANDARD
BEGIN:DAYLIGHT
TZOFFSETFROM:+0000
TZOFFSETTO:+0100
TZNAME:BST
DTSTART:20050327T010000
END:DAYLIGHT
BEGIN:STANDARD
TZOFFSETFROM:+0100
TZOFFSETTO:+0000
TZNAME:GMT
DTSTART:20051030T010000
END:STANDARD
BEGIN:DAYLIGHT
TZOFFSETFROM:+0000
TZOFFSETTO:+0100
TZNAME:BST
DTSTART:20060326T010000
END:DAYLIGHT
BEGIN:STANDARD
TZOFFSETFROM:+0100
TZOFFSETTO:+0000
TZNAME:GMT
DTSTART:20061029T010000
END:STANDARD
BEGIN:DAYLIGHT
TZOFFSETFROM:+0000
TZOFFSETTO:+0100
TZNAME:BST
DTSTART:20070325T010000
END:DAYLIGHT
BEGIN:STANDARD
TZOFFSETFROM:+0100
TZOFFSETTO:+0000
TZNAME:GMT
DTSTART:20071028T010000
END:STANDARD
BEGIN:DAYLIGHT
TZOFFSETFROM:+0000
TZOFFSETTO:+0100
TZNAME:BST
DTSTART:20080330T010000
END:DAYLIGHT
BEGIN:STANDARD
TZOFFSETFROM:+0100
TZOFFSETTO:+0000
TZNAME:GMT
DTSTART:20081026T010000
END:STANDARD
BEGIN:DAYLIGHT
TZOFFSETFROM:+0000
TZOFFSETTO:+0100
TZNAME:BST
DTSTART:20090329T010000
END:DAYLIGHT
BEGIN:STANDARD
TZOFFSETFROM:+0100
TZOFFSETTO:+0000
TZNAME:GMT
DTSTART:20091025T010000
END:STANDARD
BEGIN:DAYLIGHT
TZOFFSETFROM:+0000
TZOFFSETTO:+0100
TZNAME:BST
DTSTART:20100328T010000
END:DAYLIGHT
BEGIN:STANDARD
TZOFFSETFROM:+0100
TZOFFSETTO:+0000
TZNAME:GMT
DTSTART:20101031T010000
END:STANDARD
BEGIN:DAYLIGHT
TZOFFSETFROM:+0000
TZOFFSETTO:+0100
TZNAME:BST
DTSTART:20110327T010000
END:DAYLIGHT
BEGIN:STANDARD
TZOFFSETFROM:+0100
TZOFFSETTO:+0000
TZNAME:GMT
DTSTART:20111030T010000
END:STANDARD
BEGIN:DAYLIGHT
TZOFFSETFROM:+0000
TZOFFSETTO:+0100
TZNAME:BST
DTSTART:20120325T010000
END:DAYLIGHT
BEGIN:STANDARD
TZOFFSETFROM:+0100
TZOFFSETTO:+0000
TZNAME:GMT
DTSTART:20121028T010000
END:STANDARD
BEGIN:DAYLIGHT
TZOFFSETFROM:+0000
TZOFFSETTO:+0100
TZNAME:BST
DTSTART:20130331T010000
END:DAYLIGHT
BEGIN:STANDARD
TZOFFSETFROM:+0100
TZOFFSETTO:+0000
TZNAME:GMT
DTSTART:20131027T010000
END:STANDARD
BEGIN:DAYLIGHT
TZOFFSETFROM:+0000
TZOFFSETTO:+0100
TZNAME:BST
DTSTART:20140330T010000
END:DAYLIGHT
BEGIN:STANDARD
TZOFFSETFROM:+0100
TZOFFSETTO:+0000
TZNAME:GMT
DTSTART:20141026T010000
END:STANDARD
BEGIN:DAYLIGHT
TZOFFSETFROM:+0000
TZOFFSETTO:+0100
TZNAME:BST
DTSTART:20150329T010000
END:DAYLIGHT
BEGIN:STANDARD
TZOFFSETFROM:+0100
TZOFFSETTO:+0000
TZNAME:GMT
DTSTART:20151025T010000
END:STANDARD
BEGIN:DAYLIGHT
TZOFFSETFROM:+0000
TZOFFSETTO:+0100
TZNAME:BST
DTSTART:20160327T010000
END:DAYLIGHT
BEGIN:STANDARD
TZOFFSETFROM:+0100
TZOFFSETTO:+0000
TZNAME:GMT
DTSTART:20161030T010000
END:STANDARD
BEGIN:DAYLIGHT
TZOFFSETFROM:+0000
TZOFFSETTO:+0100
TZNAME:BST
DTSTART:20170326T010000
END:DAYLIGHT
BEGIN:STANDARD
TZOFFSETFROM:+0100
TZOFFSETTO:+0000
TZNAME:GMT
DTSTART:20171029T010000
END:STANDARD
BEGIN:DAYLIGHT
TZOFFSETFROM:+0000
TZOFFSETTO:+0100
TZNAME:BST
DTSTART:20180325T010000
END:DAYLIGHT
BEGIN:STANDARD
TZOFFSETFROM:+0100
TZOFFSETTO:+0000
TZNAME:GMT
DTSTART:20181028T010000
END:STANDARD
BEGIN:DAYLIGHT
TZOFFSETFROM:+0000
TZOFFSETTO:+0100
TZNAME:BST
DTSTART:20190331T010000
END:DAYLIGHT
BEGIN:STANDARD
TZOFFSETFROM:+0100
TZOFFSETTO:+0000
TZNAME:GMT
DTSTART:20191027T010000
END:STANDARD
BEGIN:DAYLIGHT
TZOFFSETFROM:+0000
TZOFFSETTO:+0100
TZNAME:BST
DTSTART:20200329T010000
END:DAYLIGHT
BEGIN:STANDARD
TZOFFSETFROM:+0100
TZOFFSETTO:+0000
TZNAME:GMT
DTSTART:20201025T010000
END:STANDARD
BEGIN:DAYLIGHT
TZOFFSETFROM:+0000
TZOFFSETTO:+0100
TZNAME:BST
DTSTART:20210328T010000
END:DAYLIGHT
BEGIN:STANDARD
TZOFFSETFROM:+0100
TZOFFSETTO:+0000
TZNAME:GMT
DTSTART:20211031T010000
END:STANDARD
BEGIN:DAYLIGHT
TZOFFSETFROM:+0000
TZOFFSETTO:+0100
TZNAME:BST
DTSTART:20220327T010000
END:DAYLIGHT
BEGIN:STANDARD
TZOFFSETFROM:+0100
TZOFFSETTO:+0000
TZNAME:GMT
DTSTART:20221030T010000
END:STANDARD
BEGIN:DAYLIGHT
TZOFFSETFROM:+0000
TZOFFSETTO:+0100
TZNAME:BST
DTSTART:20230326T010000
END:DAYLIGHT
BEGIN:STANDARD
TZOFFSETFROM:+0100
TZOFFSETTO:+0000
TZNAME:GMT
DTSTART:20231029T010000
END:STANDARD
END:VTIMEZONE
BEGIN:VEVENT
DTSTART;TZID=Europe/London:20230816T193000
DTEND;TZID=Europe/London:20230816T203000
DTSTAMP:20260421T065514
CREATED:20230725T115256Z
LAST-MODIFIED:20230726T090519Z
UID:30719-1692214200-1692217800@scentventure.dog
SUMMARY:Thrive: Yoga Nidra with Sharon Kilgour
DESCRIPTION:Enjoy a cosy evening with Sharon to practice Yoga Nidra. Nidra means sleep and this practice is a great way to switch off and restore the body and mind. Do it when you're felling stressed\, after a difficult walk with your dog\, or any other time you need a restful sleep. You can have your cameras on or off. You can lie on the floor on a yoga mat or your sofa or bed. Have a pillow/cushion and cosy blanket to hand. Dim the lights in your room and let me guide you into deep relaxation.\n\nYoga Nidra with Sharon Kilgour\nTime: Aug 16\, 2023 07:30 PM London\nhttps://us02web.zoom.us/j/89435267255\nMeeting ID: 894 3526 7255\nPasscode: 250327
URL:https://scentventure.dog/event/thrive-yoga-nidra-with-sharon-kilgour/
LOCATION:Zoom\, United Kingdom
END:VEVENT
BEGIN:VEVENT
DTSTART;TZID=Europe/London:20230809T183000
DTEND;TZID=Europe/London:20230809T193000
DTSTAMP:20260421T065514
CREATED:20230725T115509Z
LAST-MODIFIED:20230725T115509Z
UID:30726-1691605800-1691609400@scentventure.dog
SUMMARY:Roadmap: Roadmap Next Steps July Cohort
DESCRIPTION:Time: Aug 9\, 2023 06:30 PM London\nhttps://us02web.zoom.us/j/84170130768\nMeeting ID: 841 7013 0768\nPasscode: 872490\nKatie hosts
URL:https://scentventure.dog/event/roadmap-roadmap-next-steps-july-cohort/
LOCATION:Zoom\, United Kingdom
END:VEVENT
BEGIN:VEVENT
DTSTART;TZID=Europe/London:20230726T190000
DTEND;TZID=Europe/London:20230726T200000
DTSTAMP:20260421T065514
CREATED:20230703T085311Z
LAST-MODIFIED:20230713T120526Z
UID:30090-1690398000-1690401600@scentventure.dog
SUMMARY:THRIVE: Lucia from Wild Ink Part 3
DESCRIPTION:THRIVE: Lucia from Wild Ink Part 3 \nTime: Jul 26\, 2023 07:00 PM London \nhttps://us02web.zoom.us/j/83867461755 \nMeeting ID: 838 6746 1755 \nPasscode: 352121
URL:https://scentventure.dog/event/thrive-lucia-from-wild-ink-part-3/
LOCATION:Zoom\, United Kingdom
CATEGORIES:THRIVE
END:VEVENT
BEGIN:VEVENT
DTSTART;TZID=Europe/London:20230719T183000
DTEND;TZID=Europe/London:20230719T193000
DTSTAMP:20260421T065514
CREATED:20230703T085220Z
LAST-MODIFIED:20230713T120553Z
UID:30088-1689791400-1689795000@scentventure.dog
SUMMARY:THRIVE: Nick Torry Massage Therapy Part 2
DESCRIPTION:THRIVE: Nick Torry Massage Therapy Part 2 \nTime: Jul 19\, 2023 06:30 PM London \nhttps://us02web.zoom.us/j/87098208910 \nMeeting ID: 870 9820 8910 \nPasscode: 536549
URL:https://scentventure.dog/event/thrive-nick-torry-massage-therapy-part-2/
LOCATION:Zoom\, United Kingdom
CATEGORIES:THRIVE
END:VEVENT
BEGIN:VEVENT
DTSTART;TZID=Europe/London:20230718T190000
DTEND;TZID=Europe/London:20230718T200000
DTSTAMP:20260421T065514
CREATED:20230703T085126Z
LAST-MODIFIED:20230713T120637Z
UID:30086-1689706800-1689710400@scentventure.dog
SUMMARY:THRIVE: Orientation 3
DESCRIPTION:THRIVE: Orientation 3 \nTime: Jul 18\, 2023 07:00 PM London \nhttps://us02web.zoom.us/j/85035097090 \nMeeting ID: 850 3509 7090 \nPasscode: 482951
URL:https://scentventure.dog/event/thrive-orientation-3/
LOCATION:Zoom\, United Kingdom
CATEGORIES:THRIVE
END:VEVENT
BEGIN:VEVENT
DTSTART;TZID=Europe/London:20230713T190000
DTEND;TZID=Europe/London:20230713T200000
DTSTAMP:20260421T065514
CREATED:20230703T085026Z
LAST-MODIFIED:20230713T120645Z
UID:30084-1689274800-1689278400@scentventure.dog
SUMMARY:THRIVE: Caregiver Compliance with Justine
DESCRIPTION:THRIVE: Caregiver Compliance with Justine \nTime: Jul 13\, 2023 07:00 PM London \nhttps://us02web.zoom.us/j/82350332763 \nMeeting ID: 823 5033 2763 \nPasscode: 165816 
URL:https://scentventure.dog/event/thrive-caregiver-compliance-with-justine/
LOCATION:Zoom\, United Kingdom
CATEGORIES:THRIVE
END:VEVENT
BEGIN:VEVENT
DTSTART;TZID=Europe/London:20230710T183000
DTEND;TZID=Europe/London:20230710T193000
DTSTAMP:20260421T065514
CREATED:20230703T084924Z
LAST-MODIFIED:20230713T120654Z
UID:30082-1689013800-1689017400@scentventure.dog
SUMMARY:Club Dogwood: The 5-Point Treatment Plan - Workshop
DESCRIPTION:Club Dogwood: The 5-Point Treatment Plan – Workshop \nTime: Jul 10\, 2023 06:30 PM London \nhttps://us02web.zoom.us/j/87067685724 \nMeeting ID: 870 6768 5724 \nPasscode: 009986
URL:https://scentventure.dog/event/the-5-step-treatment-plan-workshop/
LOCATION:Zoom\, United Kingdom
CATEGORIES:Club Dogwood
END:VEVENT
BEGIN:VEVENT
DTSTART;TZID=Europe/London:20230706T190000
DTEND;TZID=Europe/London:20230706T200000
DTSTAMP:20260421T065514
CREATED:20230703T083432Z
LAST-MODIFIED:20230713T120704Z
UID:30079-1688670000-1688673600@scentventure.dog
SUMMARY:Club Dogwood: Rachael Maxwell - Summer Abundance Herbs
DESCRIPTION:Club Dogwood: Rachael Maxwell – Summer Abundance  \nTime: Jul 6\, 2023 07:00 PM London \nhttps://us02web.zoom.us/j/89706741482 \nMeeting ID: 897 0674 1482 \nPasscode: 967975
URL:https://scentventure.dog/event/club-dogwood-rachael-maxwell-summer-abundance-herbs/
LOCATION:Zoom\, United Kingdom
CATEGORIES:Club Dogwood
END:VEVENT
BEGIN:VEVENT
DTSTART;TZID=Europe/London:20230705T190000
DTEND;TZID=Europe/London:20230705T200000
DTSTAMP:20260421T065514
CREATED:20230703T080948Z
LAST-MODIFIED:20230713T120712Z
UID:30075-1688583600-1688587200@scentventure.dog
SUMMARY:Club Dogwood: Welcome\, new members!
DESCRIPTION:Welcome\, New Members!\nTime: Jul 5\, 2023 07:00 PM London \nhttps://us02web.zoom.us/j/86597666931 \nMeeting ID: 865 9766 6931\nPasscode: 058850
URL:https://scentventure.dog/event/club-dogwood-welcome-new-members/
LOCATION:Zoom\, United Kingdom
CATEGORIES:Club Dogwood
END:VEVENT
BEGIN:VEVENT
DTSTART;TZID=Europe/London:20230704T190000
DTEND;TZID=Europe/London:20230704T200000
DTSTAMP:20260421T065514
CREATED:20230703T075302Z
LAST-MODIFIED:20230713T120719Z
UID:30072-1688497200-1688500800@scentventure.dog
SUMMARY:THRIVE: Orientation 2
DESCRIPTION:Welcome\, New Members!\nTime: Jul 5\, 2023 07:00 PM London \nhttps://us02web.zoom.us/j/86597666931 \nMeeting ID: 865 9766 6931\nPasscode: 058850
URL:https://scentventure.dog/event/thrive-orientation-2/
LOCATION:Zoom\, United Kingdom
CATEGORIES:THRIVE
END:VEVENT
BEGIN:VEVENT
DTSTART;TZID=Europe/London:20000908T080000
DTEND;TZID=Europe/London:20000908T170000
DTSTAMP:20260421T065514
CREATED:20240907T214840Z
LAST-MODIFIED:20240907T220314Z
UID:43831-968400000-968432400@scentventure.dog
SUMMARY:.
DESCRIPTION:
URL:https://scentventure.dog/event/43831/
CATEGORIES:LLW
END:VEVENT
END:VCALENDAR