BEGIN:VCALENDAR
VERSION:2.0
PRODID:-//Scentventure - ECPv6.10.0//NONSGML v1.0//EN
CALSCALE:GREGORIAN
METHOD:PUBLISH
X-WR-CALNAME:Scentventure
X-ORIGINAL-URL:https://scentventure.dog
X-WR-CALDESC:Events for Scentventure
REFRESH-INTERVAL;VALUE=DURATION:PT1H
X-Robots-Tag:noindex
X-PUBLISHED-TTL:PT1H
BEGIN:VTIMEZONE
TZID:Europe/London
BEGIN:DAYLIGHT
TZOFFSETFROM:+0000
TZOFFSETTO:+0100
TZNAME:BST
DTSTART:20240331T010000
END:DAYLIGHT
BEGIN:STANDARD
TZOFFSETFROM:+0100
TZOFFSETTO:+0000
TZNAME:GMT
DTSTART:20241027T010000
END:STANDARD
BEGIN:DAYLIGHT
TZOFFSETFROM:+0000
TZOFFSETTO:+0100
TZNAME:BST
DTSTART:20250330T010000
END:DAYLIGHT
BEGIN:STANDARD
TZOFFSETFROM:+0100
TZOFFSETTO:+0000
TZNAME:GMT
DTSTART:20251026T010000
END:STANDARD
END:VTIMEZONE
BEGIN:VEVENT
DTSTART;TZID=Europe/London:20240912T183000
DTEND;TZID=Europe/London:20240912T193000
DTSTAMP:20260422T023528
CREATED:20240829T082628Z
LAST-MODIFIED:20240829T082628Z
UID:43555-1726165800-1726169400@scentventure.dog
SUMMARY:[THRIVE ] Sleeptember with Expert Guest\, Suzanne Barbour
DESCRIPTION:This month is Sleeptember and as well as a live on this subject with Expert Guest\, Suzanne Barbour! 🌜😴
URL:https://scentventure.dog/event/thrive-sleeptember-with-expert-guest-suzanne-barbour/
CATEGORIES:THRIVE
END:VEVENT
BEGIN:VEVENT
DTSTART;TZID=Europe/London:20241003T183000
DTEND;TZID=Europe/London:20241003T193000
DTSTAMP:20260422T023528
CREATED:20240923T153240Z
LAST-MODIFIED:20240923T153240Z
UID:44456-1727980200-1727983800@scentventure.dog
SUMMARY:[THRIVE] Suzanne Barbour
DESCRIPTION:
URL:https://scentventure.dog/event/thrive-suzanne-barbour/
LOCATION:Zoom\, United Kingdom
CATEGORIES:THRIVE
END:VEVENT
BEGIN:VEVENT
DTSTART;TZID=Europe/London:20241030T183000
DTEND;TZID=Europe/London:20241030T193000
DTSTAMP:20260422T023528
CREATED:20240923T154829Z
LAST-MODIFIED:20240923T154829Z
UID:44469-1730313000-1730316600@scentventure.dog
SUMMARY:[THRIVE] Sharon Kilgour\, Love your Lymph
DESCRIPTION:
URL:https://scentventure.dog/event/thrive-sharon-kilgour-love-your-lymph/
CATEGORIES:THRIVE
END:VEVENT
BEGIN:VEVENT
DTSTART;TZID=Europe/London:20241211T183000
DTEND;TZID=Europe/London:20241211T193000
DTSTAMP:20260422T023528
CREATED:20241115T134802Z
LAST-MODIFIED:20241203T033013Z
UID:46065-1733941800-1733945400@scentventure.dog
SUMMARY:[THRIVE] Christmas Get Together with Sarah Petch
DESCRIPTION:
URL:https://scentventure.dog/event/thrive-christmas-get-together-with-sarah-petch/
LOCATION:Zoom\, United Kingdom
CATEGORIES:THRIVE
END:VEVENT
BEGIN:VEVENT
DTSTART;TZID=Europe/London:20250219T183000
DTEND;TZID=Europe/London:20250219T193000
DTSTAMP:20260422T023528
CREATED:20250130T160503Z
LAST-MODIFIED:20250130T160503Z
UID:48241-1739989800-1739993400@scentventure.dog
SUMMARY:[THRIVE] Yoga Nidra with Sharon Kilgour
DESCRIPTION:
URL:https://scentventure.dog/event/thrive-yoga-nidra-with-sharon-kilgour-2/
LOCATION:Zoom\, United Kingdom
CATEGORIES:THRIVE
END:VEVENT
BEGIN:VEVENT
DTSTART;TZID=Europe/London:20250312T183000
DTEND;TZID=Europe/London:20250312T193000
DTSTAMP:20260422T023528
CREATED:20250303T145049Z
LAST-MODIFIED:20250303T145411Z
UID:49304-1741804200-1741807800@scentventure.dog
SUMMARY:[THRIVE] Live with Sharon Kilgour
DESCRIPTION:Join us for March's instalment of enriching wellness sessions with Sharon\, designed to nurture both body and mind. Each month\, we'll explore a new theme\, covering topics such as relaxation techniques for better sleep\, boosting energy and vitality\, enhancing flexibility and strength\, and fostering adaptability to change. \nSharon will also guide us through mindful practices\, including balance and alignment\, immunity-boosting strategies\, and creative mindfulness activities. Whether you’re looking to recharge\, strengthen\, or simply find moments of rest and renewal\, these sessions offer a space to reconnect with yourself and enhance well-being.
URL:https://scentventure.dog/event/thrive-live-with-sharon-kilgour/
LOCATION:Zoom\, United Kingdom
CATEGORIES:THRIVE
END:VEVENT
BEGIN:VEVENT
DTSTART;TZID=Europe/London:20250507T183000
DTEND;TZID=Europe/London:20250507T193000
DTSTAMP:20260422T023528
CREATED:20250418T133206Z
LAST-MODIFIED:20250514T133251Z
UID:50662-1746642600-1746646200@scentventure.dog
SUMMARY:[THRIVE] Live with Sharon Kilgour
DESCRIPTION:Join us for May's instalment of enriching wellness session with Sharon\, designed to nurture both body and mind. Each month\, we'll explore a new theme\, covering topics such as relaxation techniques for better sleep\, boosting energy and vitality\, enhancing flexibility and strength\, and fostering adaptability to change. \nSharon will also guide us through mindful practices\, including balance and alignment\, immunity-boosting strategies\, and creative mindfulness activities. Whether you’re looking to recharge\, strengthen\, or simply find moments of rest and renewal\, these sessions offer a space to reconnect with yourself and enhance well-being.
URL:https://scentventure.dog/event/thrive-live-with-sharon-kilgour-2/
LOCATION:Zoom\, United Kingdom
CATEGORIES:THRIVE
END:VEVENT
BEGIN:VEVENT
DTSTART;TZID=Europe/London:20250528T183000
DTEND;TZID=Europe/London:20250528T193000
DTSTAMP:20260422T023528
CREATED:20250418T133533Z
LAST-MODIFIED:20250509T140411Z
UID:50664-1748457000-1748460600@scentventure.dog
SUMMARY:[THRIVE] Live with Sharon Kilgour
DESCRIPTION:Join us for May's instalment of enriching wellness session with Sharon\, designed to nurture both body and mind. Each month\, we'll explore a new theme\, covering topics such as relaxation techniques for better sleep\, boosting energy and vitality\, enhancing flexibility and strength\, and fostering adaptability to change. \nSharon will also guide us through mindful practices\, including balance and alignment\, immunity-boosting strategies\, and creative mindfulness activities. Whether you’re looking to recharge\, strengthen\, or simply find moments of rest and renewal\, these sessions offer a space to reconnect with yourself and enhance well-being.
URL:https://scentventure.dog/event/thrive-live-with-sharon-kilgour-3/
LOCATION:Zoom\, United Kingdom
CATEGORIES:THRIVE
END:VEVENT
BEGIN:VEVENT
DTSTART;TZID=Europe/London:20250618T183000
DTEND;TZID=Europe/London:20250618T193000
DTSTAMP:20260422T023528
CREATED:20250502T153846Z
LAST-MODIFIED:20250509T140531Z
UID:50992-1750271400-1750275000@scentventure.dog
SUMMARY:[THRIVE] Live with Sharon Kilgour
DESCRIPTION:Join us for June's instalment of enriching wellness sessions with Sharon\, designed to nurture both body and mind. Each month\, we'll explore a new theme\, covering topics such as relaxation techniques for better sleep\, boosting energy and vitality\, enhancing flexibility and strength\, and fostering adaptability to change. \nSharon will also guide us through mindful practices\, including balance and alignment\, immunity-boosting strategies\, and creative mindfulness activities. Whether you’re looking to recharge\, strengthen\, or simply find moments of rest and renewal\, these sessions offer a space to reconnect with yourself and enhance well-being.
URL:https://scentventure.dog/event/thrive-live-with-sharon-kilgour-4/
CATEGORIES:THRIVE
END:VEVENT
BEGIN:VEVENT
DTSTART;TZID=Europe/London:20250723T183000
DTEND;TZID=Europe/London:20250723T193000
DTSTAMP:20260422T023528
CREATED:20250627T142845Z
LAST-MODIFIED:20250627T142845Z
UID:52268-1753295400-1753299000@scentventure.dog
SUMMARY:[Thrive] Live with Sharon Kilgour
DESCRIPTION:Join us for June's instalment of enriching wellness sessions with Sharon\, designed to nurture both body and mind. Each month\, we'll explore a new theme\, covering topics such as relaxation techniques for better sleep\, boosting energy and vitality\, enhancing flexibility and strength\, and fostering adaptability to change. \nSharon will also guide us through mindful practices\, including balance and alignment\, immunity-boosting strategies\, and creative mindfulness activities. Whether you’re looking to recharge\, strengthen\, or simply find moments of rest and renewal\, these sessions offer a space to reconnect with yourself and enhance well-being.
URL:https://scentventure.dog/event/thrive-live-with-sharon-kilgour-5/
LOCATION:Zoom\, United Kingdom
CATEGORIES:THRIVE
END:VEVENT
BEGIN:VEVENT
DTSTART;TZID=Europe/London:20250820T183000
DTEND;TZID=Europe/London:20250820T193000
DTSTAMP:20260422T023528
CREATED:20250802T061532Z
LAST-MODIFIED:20250802T061532Z
UID:52994-1755714600-1755718200@scentventure.dog
SUMMARY:[Thrive] Live with Sharon Kilgour
DESCRIPTION:Join us for August's instalment of enriching wellness sessions with Sharon\, designed to nurture both body and mind. Each month\, we'll explore a new theme\, covering topics such as relaxation techniques for better sleep\, boosting energy and vitality\, enhancing flexibility and strength\, and fostering adaptability to change. \nSharon will also guide us through mindful practices\, including balance and alignment\, immunity-boosting strategies\, and creative mindfulness activities. Whether you’re looking to recharge\, strengthen\, or simply find moments of rest and renewal\, these sessions offer a space to reconnect with yourself and enhance well-being.
URL:https://scentventure.dog/event/thrive-live-with-sharon-kilgour-6/
LOCATION:Zoom\, United Kingdom
CATEGORIES:THRIVE
END:VEVENT
END:VCALENDAR