BEGIN:VCALENDAR
VERSION:2.0
PRODID:-//Scentventure - ECPv6.10.0//NONSGML v1.0//EN
CALSCALE:GREGORIAN
METHOD:PUBLISH
X-WR-CALNAME:Scentventure
X-ORIGINAL-URL:https://scentventure.dog
X-WR-CALDESC:Events for Scentventure
REFRESH-INTERVAL;VALUE=DURATION:PT1H
X-Robots-Tag:noindex
X-PUBLISHED-TTL:PT1H
BEGIN:VTIMEZONE
TZID:Europe/London
BEGIN:DAYLIGHT
TZOFFSETFROM:+0000
TZOFFSETTO:+0100
TZNAME:BST
DTSTART:20240331T010000
END:DAYLIGHT
BEGIN:STANDARD
TZOFFSETFROM:+0100
TZOFFSETTO:+0000
TZNAME:GMT
DTSTART:20241027T010000
END:STANDARD
END:VTIMEZONE
BEGIN:VEVENT
DTSTART;TZID=Europe/London:20240708T183000
DTEND;TZID=Europe/London:20240708T193000
DTSTAMP:20260419T150849
CREATED:20240624T113637Z
LAST-MODIFIED:20240624T113637Z
UID:41817-1720463400-1720467000@scentventure.dog
SUMMARY:[THRIVE] Suzanne Barbour: Diet & Stress
DESCRIPTION:[THRIVE] Suzanne Barbour: Diet & Stress\nHow our nutrition can influence the way and simple changes we can make to help. \n  \nTime: Jul 8\, 2024 06:30 PM London
URL:https://scentventure.dog/event/thrive-suzanne-barbour-diet-stress/
LOCATION:Zoom\, United Kingdom
CATEGORIES:THRIVE
END:VEVENT
END:VCALENDAR