BEGIN:VCALENDAR
VERSION:2.0
PRODID:-//Scentventure - ECPv6.10.0//NONSGML v1.0//EN
CALSCALE:GREGORIAN
METHOD:PUBLISH
X-ORIGINAL-URL:https://scentventure.dog
X-WR-CALDESC:Events for Scentventure
REFRESH-INTERVAL;VALUE=DURATION:PT1H
X-Robots-Tag:noindex
X-PUBLISHED-TTL:PT1H
BEGIN:VTIMEZONE
TZID:Europe/London
BEGIN:DAYLIGHT
TZOFFSETFROM:+0000
TZOFFSETTO:+0100
TZNAME:BST
DTSTART:20230326T010000
END:DAYLIGHT
BEGIN:STANDARD
TZOFFSETFROM:+0100
TZOFFSETTO:+0000
TZNAME:GMT
DTSTART:20231029T010000
END:STANDARD
END:VTIMEZONE
BEGIN:VEVENT
DTSTART;TZID=Europe/London:20231211T183000
DTEND;TZID=Europe/London:20231211T193000
DTSTAMP:20260421T202934
CREATED:20231030T110523Z
LAST-MODIFIED:20231030T140228Z
UID:32828-1702319400-1702323000@scentventure.dog
SUMMARY:THRIVE: Mindset with SVG Sarah
DESCRIPTION:Reframing our mindset entails transforming how we perceive situations and thoughts\, cultivating a brighter and more constructive perspective on our daily lives—turning the negatives into positives. While altering our thinking might seem challenging initially\, with consistent practice\, it gradually becomes easier! \n  \nTime: Dec 11\, 2023 06:30 PM London \nhttps://us02web.zoom.us/j/83923061424 \nMeeting ID: 839 2306 1424 \nPasscode: 074240
URL:https://scentventure.dog/event/thrive-mindset-with-svg-sarah/
LOCATION:Zoom\, United Kingdom
CATEGORIES:THRIVE
END:VEVENT
END:VCALENDAR