BEGIN:VCALENDAR
VERSION:2.0
PRODID:-//Scentventure - ECPv6.10.0//NONSGML v1.0//EN
CALSCALE:GREGORIAN
METHOD:PUBLISH
X-WR-CALNAME:Scentventure
X-ORIGINAL-URL:https://scentventure.dog
X-WR-CALDESC:Events for Scentventure
REFRESH-INTERVAL;VALUE=DURATION:PT1H
X-Robots-Tag:noindex
X-PUBLISHED-TTL:PT1H
BEGIN:VTIMEZONE
TZID:Europe/London
BEGIN:DAYLIGHT
TZOFFSETFROM:+0000
TZOFFSETTO:+0100
TZNAME:BST
DTSTART:20250330T010000
END:DAYLIGHT
BEGIN:STANDARD
TZOFFSETFROM:+0100
TZOFFSETTO:+0000
TZNAME:GMT
DTSTART:20251026T010000
END:STANDARD
END:VTIMEZONE
BEGIN:VEVENT
DTSTART;TZID=Europe/London:20251007T183000
DTEND;TZID=Europe/London:20251007T193000
DTSTAMP:20260421T215004
CREATED:20250930T181159Z
LAST-MODIFIED:20250930T181159Z
UID:54280-1759861800-1759865400@scentventure.dog
SUMMARY:[July & Oct Cohort] Turbo Charger
DESCRIPTION:Turbo Charger is an open Q&A session for you to drop in and discuss anything that’s currently on your mind; from training progression to behaviour queries or support with human mindset. Get proactive\, get engaged\, and get answers fast to boost your progression!  \nBring ALL your toughest questions for immediate insightful advice! Don’t have a question? That’s ok! Come along for inspiration and ideas. \nHere's the Zoom details: \nTime: Oct 7\, 2025 06:30 PM London\nhttps://us02web.zoom.us/j/88323968158\nMeeting ID: 883 2396 8158\nPasscode: 670283
URL:https://scentventure.dog/event/july-oct-cohort-turbo-charger/
LOCATION:Zoom\, United Kingdom
CATEGORIES:July Cohort,Oct 25 Cohort
END:VEVENT
BEGIN:VEVENT
DTSTART;TZID=Europe/London:20251009T183000
DTEND;TZID=Europe/London:20251009T193000
DTSTAMP:20260421T215004
CREATED:20251007T101309Z
LAST-MODIFIED:20251007T101329Z
UID:54445-1760034600-1760038200@scentventure.dog
SUMMARY:[Oct Cohort] Welcome Meeting with Katie!
DESCRIPTION:Welcome to the first of your Milestone Meetings with Katie to guide you past the pivotal points on your path to stress free dog walks! \nHere's the Zoom link you need: \nTime: Oct 9\, 2025 06:30 PM London\nhttps://us02web.zoom.us/j/83047855974\nMeeting ID: 830 4785 5974\nPasscode: 284231 \nHope to see you all there!
URL:https://scentventure.dog/event/oct-cohort-welcome-meeting-with-katie/
LOCATION:Zoom\, United Kingdom
CATEGORIES:Oct 25 Cohort
END:VEVENT
BEGIN:VEVENT
DTSTART;TZID=Europe/London:20251021T183000
DTEND;TZID=Europe/London:20251021T193000
DTSTAMP:20260421T215004
CREATED:20251010T160920Z
LAST-MODIFIED:20251016T111314Z
UID:54551-1761071400-1761075000@scentventure.dog
SUMMARY:[July & Oct Cohort] Turbo Charger
DESCRIPTION:💌 [This session is for both July 25 and October 25 Cohort members.]\nWhatever is on your mind\, bring your toughest questions for immediate insightful advice on anything that's holding you back! \nThe Turbo Charger is an open Q&A session for you to drop in and discuss anything that’s currently on your mind; from training progression to behaviour queries or support with human mindset. \nGet proactive\, get engaged\, and get answers fast to boost your progression. \nHere are the Zoom details you need: \nTime: Oct 21\, 2025 06:30 PM London\nhttps://us02web.zoom.us/j/84063179764\nMeeting ID: 840 6317 9764\nPasscode: 109099 \nDon’t have a question? That’s ok! Come along for inspiration and ideas.
URL:https://scentventure.dog/event/july-oct-cohort-turbo-charger-2/
LOCATION:Zoom\, United Kingdom
CATEGORIES:July Cohort,Oct 25 Cohort
END:VEVENT
END:VCALENDAR