BEGIN:VCALENDAR
VERSION:2.0
PRODID:-//Scentventure - ECPv6.10.0//NONSGML v1.0//EN
CALSCALE:GREGORIAN
METHOD:PUBLISH
X-ORIGINAL-URL:https://scentventure.dog
X-WR-CALDESC:Events for Scentventure
REFRESH-INTERVAL;VALUE=DURATION:PT1H
X-Robots-Tag:noindex
X-PUBLISHED-TTL:PT1H
BEGIN:VTIMEZONE
TZID:Europe/London
BEGIN:DAYLIGHT
TZOFFSETFROM:+0000
TZOFFSETTO:+0100
TZNAME:BST
DTSTART:20250330T010000
END:DAYLIGHT
BEGIN:STANDARD
TZOFFSETFROM:+0100
TZOFFSETTO:+0000
TZNAME:GMT
DTSTART:20251026T010000
END:STANDARD
END:VTIMEZONE
BEGIN:VEVENT
DTSTART;TZID=Europe/London:20250506T183000
DTEND;TZID=Europe/London:20250506T193000
DTSTAMP:20260424T054743
CREATED:20250116T102252Z
LAST-MODIFIED:20250410T104914Z
UID:47228-1746556200-1746559800@scentventure.dog
SUMMARY:[JAN & APR COHORTS] Turbo Charger
DESCRIPTION:Whatever is on your mind\, bring your toughest questions for immediate insightful advice on ANYTHING that’s holding you back! \nThe Turbo Charger is an open Q&A session for you to drop in and discuss anything that’s currently on your mind – from training progression to behaviour queries or support with human mindset. \nGet proactive\, get engaged\, and get answers fast to boost your progression. \nHere’s the Zoom details: \nTime: May 6\, 2025 06:30 PM London\nhttps://us02web.zoom.us/j/87276123365\nMeeting ID: 872 7612 3365\nPasscode: 478506
URL:https://scentventure.dog/event/roadmap-turbo-charger-7/
LOCATION:Zoom\, United Kingdom
CATEGORIES:LLW,Roadmap
END:VEVENT
BEGIN:VEVENT
DTSTART;TZID=Europe/London:20250515T183000
DTEND;TZID=Europe/London:20250515T193000
DTSTAMP:20260424T054743
CREATED:20250410T132919Z
LAST-MODIFIED:20250411T110156Z
UID:49845-1747333800-1747337400@scentventure.dog
SUMMARY:[LLW APR 25] Mindset Matters
DESCRIPTION:How you show up for your dog matters. Your mindset matters. \nWhether you're a first time dog owner (and expected things to be so much easier)\, or you’re a self-confessed Dog Person who’s had dogs all your life (and now you have the difficult one)\, life with your dog may not be working out quite as you expected. \nBy shifting your mindset\, you can approach your dog’s training and ultimately\, every area of life with your dog – and beyond – in a totally new way\, so that you can overcome self doubt and negative thinking\, and step out with confidence! \nHere's the Zoom link: \nTime: May 15\, 2025 06:30 PM London\nhttps://us02web.zoom.us/j/87369107770\nMeeting ID: 873 6910 7770\nPasscode: 733408
URL:https://scentventure.dog/event/llw-apr-25-mindset-matters/
LOCATION:Zoom\, United Kingdom
CATEGORIES:LLW
END:VEVENT
BEGIN:VEVENT
DTSTART;TZID=Europe/London:20250520T183000
DTEND;TZID=Europe/London:20250520T193000
DTSTAMP:20260424T054743
CREATED:20250116T102401Z
LAST-MODIFIED:20250410T104959Z
UID:47230-1747765800-1747769400@scentventure.dog
SUMMARY:[JAN & APR COHORTS] Turbo Charger
DESCRIPTION:Whatever is on your mind\, bring your toughest questions for immediate insightful advice on ANYTHING that’s holding you back! \nThe Turbo Charger is an open Q&A session for you to drop in and discuss anything that’s currently on your mind – from training progression to behaviour queries or support with human mindset. \nGet proactive\, get engaged\, and get answers fast to boost your progression. \nHere’s the Zoom details: \nTime: May 20\, 2025 06:30 PM London\nhttps://us02web.zoom.us/j/87584671062\nMeeting ID: 875 8467 1062\nPasscode: 386815
URL:https://scentventure.dog/event/roadmap-turbo-charger-8/
LOCATION:Zoom\, United Kingdom
CATEGORIES:LLW,Roadmap
END:VEVENT
BEGIN:VEVENT
DTSTART;TZID=Europe/London:20250527T183000
DTEND;TZID=Europe/London:20250527T193000
DTSTAMP:20260424T054743
CREATED:20250116T143135Z
LAST-MODIFIED:20250410T090101Z
UID:47252-1748370600-1748374200@scentventure.dog
SUMMARY:[JAN & APR COHORTS] Milestone Meeting: Speak Dog Body Language
DESCRIPTION:How the most relaxed dog owners spot potential pulling. barking\, lunging meltdowns before they happen (with other dogs\, members of the public\, visitors to your house\, vets\, groomers\, etc.)\, in order to prevent dangerous or embarrassing situations. \nHere's the Zoom details: \nTime: May 27\, 2025 06:30 PM London\nhttps://us02web.zoom.us/j/88996946762\nMeeting ID: 889 9694 6762\nPasscode: 398867
URL:https://scentventure.dog/event/jan-cohort-milestone-meeting-speak-dog-body-language/
LOCATION:Zoom\, United Kingdom
CATEGORIES:LLW,Roadmap
END:VEVENT
END:VCALENDAR