BEGIN:VCALENDAR
VERSION:2.0
PRODID:-//Scentventure - ECPv6.10.0//NONSGML v1.0//EN
CALSCALE:GREGORIAN
METHOD:PUBLISH
X-WR-CALNAME:Scentventure
X-ORIGINAL-URL:https://scentventure.dog
X-WR-CALDESC:Events for Scentventure
REFRESH-INTERVAL;VALUE=DURATION:PT1H
X-Robots-Tag:noindex
X-PUBLISHED-TTL:PT1H
BEGIN:VTIMEZONE
TZID:Europe/London
BEGIN:DAYLIGHT
TZOFFSETFROM:+0000
TZOFFSETTO:+0100
TZNAME:BST
DTSTART:20250330T010000
END:DAYLIGHT
BEGIN:STANDARD
TZOFFSETFROM:+0100
TZOFFSETTO:+0000
TZNAME:GMT
DTSTART:20251026T010000
END:STANDARD
END:VTIMEZONE
BEGIN:VEVENT
DTSTART;TZID=Europe/London:20251203T183000
DTEND;TZID=Europe/London:20251203T193000
DTSTAMP:20260421T202842
CREATED:20251128T130103Z
LAST-MODIFIED:20251128T130103Z
UID:55554-1764786600-1764790200@scentventure.dog
SUMMARY:[July Cohort] Milestone: From Fear or Frustration to Calm Confidence
DESCRIPTION:💌 [This session is for July Cohort members.]\nThis is your final Milestone Meeting with Katie! In this session\, Katie is taking you beyond Distraction Defeaters. This is how you will take back your freedom; with a trustworthy dog who doesn’t always need to be distracted. You’ll uncover the secrets to altering your dog's feelings about triggers\, in order to change their behaviour. This is how to rewire your dog’s brain! \nHeres' the Zoom link you need: \nTime: Dec 3\, 2025 06:30 PM London\nhttps://us02web.zoom.us/j/83008643122\nMeeting ID: 830 0864 3122\nPasscode: 127430
URL:https://scentventure.dog/event/july-cohort-milestone-from-fear-or-frustration-to-calm-confidence/
LOCATION:Zoom\, United Kingdom
CATEGORIES:July Cohort
END:VEVENT
BEGIN:VEVENT
DTSTART;TZID=Europe/London:20251216T183000
DTEND;TZID=Europe/London:20251216T193000
DTSTAMP:20260421T202842
CREATED:20251128T132620Z
LAST-MODIFIED:20251128T132620Z
UID:55558-1765909800-1765913400@scentventure.dog
SUMMARY:[July & Oct Cohort] Turbo Charger
DESCRIPTION:💌 [This session is for July 25 and October 25 Cohort members.]\nWhatever is on your mind\, bring your toughest questions for immediate insightful advice on anything that's holding you back!The Turbo Charger is an open Q&A session for you to drop in and discuss anything that’s currently on your mind; from training progression to behaviour queries or support with human mindset.Get proactive\, get engaged\, and get answers fast to boost your progression.Here are the Zoom details you need:Time: Dec 16\, 2025 06:30 PM London\nhttps://us02web.zoom.us/j/82577753057\nMeeting ID: 825 7775 3057\nPasscode: 145966Don’t have a question? That’s ok! Come along for inspiration and ideas.
URL:https://scentventure.dog/event/july-oct-cohort-turbo-charger-5/
LOCATION:Zoom\, United Kingdom
CATEGORIES:July Cohort,Oct 25 Cohort
END:VEVENT
BEGIN:VEVENT
DTSTART;TZID=Europe/London:20251230T183000
DTEND;TZID=Europe/London:20251230T193000
DTSTAMP:20260421T202842
CREATED:20251128T132808Z
LAST-MODIFIED:20251128T132808Z
UID:55560-1767119400-1767123000@scentventure.dog
SUMMARY:[July & Oct Cohort] Turbo Charger
DESCRIPTION:💌 [This session is for July 25 and October 25 Cohort members.]\nWhatever is on your mind\, bring your toughest questions for immediate insightful advice on anything that's holding you back!The Turbo Charger is an open Q&A session for you to drop in and discuss anything that’s currently on your mind; from training progression to behaviour queries or support with human mindset.Get proactive\, get engaged\, and get answers fast to boost your progression.Here are the Zoom details you need:Time: Dec 16\, 2025 06:30 PM London\nhttps://us02web.zoom.us/j/82577753057\nMeeting ID: 825 7775 3057\nPasscode: 145966Don’t have a question? That’s ok! Come along for inspiration and ideas.
URL:https://scentventure.dog/event/july-oct-cohort-turbo-charger-6/
LOCATION:Zoom\, United Kingdom
CATEGORIES:July Cohort,Oct 25 Cohort
END:VEVENT
END:VCALENDAR