BEGIN:VCALENDAR
VERSION:2.0
PRODID:-//Scentventure - ECPv6.10.0//NONSGML v1.0//EN
CALSCALE:GREGORIAN
METHOD:PUBLISH
X-ORIGINAL-URL:https://scentventure.dog
X-WR-CALDESC:Events for Scentventure
REFRESH-INTERVAL;VALUE=DURATION:PT1H
X-Robots-Tag:noindex
X-PUBLISHED-TTL:PT1H
BEGIN:VTIMEZONE
TZID:Europe/London
BEGIN:DAYLIGHT
TZOFFSETFROM:+0000
TZOFFSETTO:+0100
TZNAME:BST
DTSTART:20250330T010000
END:DAYLIGHT
BEGIN:STANDARD
TZOFFSETFROM:+0100
TZOFFSETTO:+0000
TZNAME:GMT
DTSTART:20251026T010000
END:STANDARD
END:VTIMEZONE
BEGIN:VEVENT
DTSTART;TZID=Europe/London:20250812T183000
DTEND;TZID=Europe/London:20250812T193000
DTSTAMP:20260422T023452
CREATED:20250802T060406Z
LAST-MODIFIED:20250802T060406Z
UID:52988-1755023400-1755027000@scentventure.dog
SUMMARY:[July Cohort] Turbo Charger
DESCRIPTION:Whatever is on your mind\, bring your toughest questions for immediate insightful advice on ANYTHING that's holding you back! \nThe Turbo Charger is an open Q&A session for you to drop in and discuss anything that’s currently on your mind; from training progression to behaviour queries or support with human mindset. \nGet proactive\, get engaged\, and get answers fast to boost your progression. \nHere's the Zoom details: \nTime: Aug 12\, 2025 06:30 PM London\nhttps://us02web.zoom.us/j/89718518526\nMeeting ID: 897 1851 8526\nPasscode: 764452 \nDon’t have a question? That’s ok! Come along and for inspiration and ideas.
URL:https://scentventure.dog/event/july-cohort-turbo-charger-3/
LOCATION:Zoom\, United Kingdom
CATEGORIES:July Cohort
END:VEVENT
BEGIN:VEVENT
DTSTART;TZID=Europe/London:20250813T183000
DTEND;TZID=Europe/London:20250813T193000
DTSTAMP:20260422T023452
CREATED:20250802T060815Z
LAST-MODIFIED:20250802T060815Z
UID:52990-1755109800-1755113400@scentventure.dog
SUMMARY:[July Cohort] Milestone: Mindset Matters
DESCRIPTION:Whether you're a first time dog owner (and expected things to be so much easier)\, or you’re a self-confessed Dog Person who’s had dogs all your life (and now you have the difficult one)\, life with your dog may not be working out quite as you expected.By shifting your mindset\, you can approach your dog’s training and ultimately\, every area of life with your dog – and beyond – in a totally new way\, so that you can overcome self doubt and negative thinking\, and step out with confidence!\nThat’s what we’re covering and we’re going deep into how you can clear away the overwhelm and enjoy the journey – not just the destination.Here’s the Zoom link:Time: Aug 13\, 2025 06:30 PM London\nhttps://us02web.zoom.us/j/87871029540\nMeeting ID: 878 7102 9540\nPasscode: 364953How you show up for your dog matters. Your mindset matters.
URL:https://scentventure.dog/event/july-cohort-milestone-mindset-matters/
LOCATION:Zoom\, United Kingdom
CATEGORIES:July Cohort
END:VEVENT
BEGIN:VEVENT
DTSTART;TZID=Europe/London:20250826T183000
DTEND;TZID=Europe/London:20250826T193000
DTSTAMP:20260422T023452
CREATED:20250802T061944Z
LAST-MODIFIED:20250802T061944Z
UID:52996-1756233000-1756236600@scentventure.dog
SUMMARY:[July Cohort] Turbo Charger
DESCRIPTION:Whatever is on your mind\, bring your toughest questions for immediate insightful advice on ANYTHING that's holding you back! \nThe Turbo Charger is an open Q&A session for you to drop in and discuss anything that’s currently on your mind; from training progression to behaviour queries or support with human mindset. \nGet proactive\, get engaged\, and get answers fast to boost your progression. \nHere's the Zoom details: \nTime: Aug 26\, 2025 06:30 PM London\nhttps://us02web.zoom.us/j/84954014070\nMeeting ID: 849 5401 4070\nPasscode: 257377 \nDon’t have a question? That’s ok! Come along and for inspiration and ideas.
URL:https://scentventure.dog/event/july-cohort-turbo-charger-4/
LOCATION:Zoom\, United Kingdom
CATEGORIES:July Cohort
END:VEVENT
END:VCALENDAR