BEGIN:VCALENDAR
VERSION:2.0
PRODID:-//Scentventure - ECPv6.10.0//NONSGML v1.0//EN
CALSCALE:GREGORIAN
METHOD:PUBLISH
X-ORIGINAL-URL:https://scentventure.dog
X-WR-CALDESC:Events for Scentventure
REFRESH-INTERVAL;VALUE=DURATION:PT1H
X-Robots-Tag:noindex
X-PUBLISHED-TTL:PT1H
BEGIN:VTIMEZONE
TZID:Europe/London
BEGIN:DAYLIGHT
TZOFFSETFROM:+0000
TZOFFSETTO:+0100
TZNAME:BST
DTSTART:20250330T010000
END:DAYLIGHT
BEGIN:STANDARD
TZOFFSETFROM:+0100
TZOFFSETTO:+0000
TZNAME:GMT
DTSTART:20251026T010000
END:STANDARD
END:VTIMEZONE
BEGIN:VEVENT
DTSTART;TZID=Europe/London:20250709T183000
DTEND;TZID=Europe/London:20250709T193000
DTSTAMP:20260422T040820
CREATED:20250627T141513Z
LAST-MODIFIED:20250709T041759Z
UID:52261-1752085800-1752089400@scentventure.dog
SUMMARY:[July Cohort] First Steps to Success
DESCRIPTION:The first of your Milestone Meetings with Katie to guide you past the pivotal points on your path to stress free dog walks! \nHere's the Zoom details: \nTime: Jul 9\, 2025 06:30 PM London\nhttps://us02web.zoom.us/j/89322831371\nMeeting ID: 893 2283 1371\nPasscode: 971818
URL:https://scentventure.dog/event/july-cohort-first-steps-to-success-2/
LOCATION:Zoom\, United Kingdom
CATEGORIES:July Cohort
END:VEVENT
BEGIN:VEVENT
DTSTART;TZID=Europe/London:20250715T183000
DTEND;TZID=Europe/London:20250715T193000
DTSTAMP:20260422T040820
CREATED:20250627T142243Z
LAST-MODIFIED:20250627T142514Z
UID:52266-1752604200-1752607800@scentventure.dog
SUMMARY:[July Cohort] Turbo Charger
DESCRIPTION:Whatever is on your mind\, bring your toughest questions for immediate insightful advice on ANYTHING that's holding you back! \nThe Turbo Charger is an open Q&A session for you to drop in and discuss anything that’s currently on your mind; from training progression to behaviour queries or support with human mindset. \nGet proactive\, get engaged\, and get answers fast to boost your progression. \nHere's the Zoom details: \nTime: Jul 15\, 2025 06:30 PM London\nhttps://us02web.zoom.us/j/87102853711\nMeeting ID: 871 0285 3711\nPasscode: 069933 \nDon’t have a question? That’s ok! Come along and for inspiration and ideas.
URL:https://scentventure.dog/event/july-cohort-turbo-charger/
LOCATION:Zoom\, United Kingdom
CATEGORIES:July Cohort
END:VEVENT
BEGIN:VEVENT
DTSTART;TZID=Europe/London:20250729T183000
DTEND;TZID=Europe/London:20250729T193000
DTSTAMP:20260422T040820
CREATED:20250627T144210Z
LAST-MODIFIED:20250627T144210Z
UID:52272-1753813800-1753817400@scentventure.dog
SUMMARY:[July Cohort] Turbo Charger
DESCRIPTION:Whatever is on your mind\, bring your toughest questions for immediate insightful advice on ANYTHING that's holding you back! \nThe Turbo Charger is an open Q&A session for you to drop in and discuss anything that’s currently on your mind; from training progression to behaviour queries or support with human mindset. \nGet proactive\, get engaged\, and get answers fast to boost your progression. \nHere's the Zoom details: \nTime: Jul 15\, 2025 06:30 PM London\nhttps://us02web.zoom.us/j/87102853711\nMeeting ID: 871 0285 3711\nPasscode: 069933 \nDon’t have a question? That’s ok! Come along and for inspiration and ideas.
URL:https://scentventure.dog/event/july-cohort-turbo-charger-2/
LOCATION:Zoom\, United Kingdom
CATEGORIES:July Cohort
END:VEVENT
END:VCALENDAR