BEGIN:VCALENDAR
VERSION:2.0
PRODID:-//Scentventure - ECPv6.10.0//NONSGML v1.0//EN
CALSCALE:GREGORIAN
METHOD:PUBLISH
X-WR-CALNAME:Scentventure
X-ORIGINAL-URL:https://scentventure.dog
X-WR-CALDESC:Events for Scentventure
REFRESH-INTERVAL;VALUE=DURATION:PT1H
X-Robots-Tag:noindex
X-PUBLISHED-TTL:PT1H
BEGIN:VTIMEZONE
TZID:Europe/London
BEGIN:DAYLIGHT
TZOFFSETFROM:+0000
TZOFFSETTO:+0100
TZNAME:BST
DTSTART:20250330T010000
END:DAYLIGHT
BEGIN:STANDARD
TZOFFSETFROM:+0100
TZOFFSETTO:+0000
TZNAME:GMT
DTSTART:20251026T010000
END:STANDARD
END:VTIMEZONE
BEGIN:VEVENT
DTSTART;TZID=Europe/London:20250706T190000
DTEND;TZID=Europe/London:20250706T200000
DTSTAMP:20260420T102425
CREATED:20250514T141246Z
LAST-MODIFIED:20250514T141246Z
UID:51276-1751828400-1751832000@scentventure.dog
SUMMARY:Question Time!
DESCRIPTION:Still got questions? I’ve got you covered! \nI’m ready to answer ANY and ALL the questions you have! \nYou’re invited to join me on Zoom where I will help you decide whether ‘Walk Your Dog With Confidence' is a right fit for you and vice versa. \nPost your question in the chat for me OR feel free to open your mic and I will answer your questions about EXACTLY what's waiting for you inside the programme. \nNo hard sell\, I genuinely want to support you in making the best decision for you and your dog this year. \n100% live. \nNo replays. \nHere's the Zoom details: \nTime: Jul 6\, 2025 07:00 PM London\nhttps://us02web.zoom.us/j/88156048075\nMeeting ID: 881 5604 8075\nPasscode: 242058
URL:https://scentventure.dog/event/question-time/
LOCATION:Zoom\, United Kingdom
CATEGORIES:Confidence
END:VEVENT
BEGIN:VEVENT
DTSTART;TZID=Europe/London:20250705T100000
DTEND;TZID=Europe/London:20250705T110000
DTSTAMP:20260420T102425
CREATED:20250514T140437Z
LAST-MODIFIED:20250514T140437Z
UID:51274-1751709600-1751713200@scentventure.dog
SUMMARY:Real Talk: Behind the Scenes with Confident Dog Owners: True Stories of Growth and What You Can Learn From Them
DESCRIPTION:Ever catch yourself wondering how some dog owners seem to have it all figured out—while you're stuck feeling overwhelmed\, unsure\, or like you're falling behind? \nWell\, I’m about to introduce you to those very people—and as they’ll be the first to tell you\, they didn’t always feel confident or calm either. \nJoin us for this inspiring panel featuring real dog owners who’ve made the mindset leap—from self-doubt to steady confidence. You'll hear how things looked at the start\, what changed along the way\, and how it’s going now. \nThey’ll share how the confidence shift really happens—not overnight\, not perfectly\, but in a way that’s relatable\, repeatable\, and rooted in calm. \nIf you’ve ever wondered whether lasting change is possible for you\, don’t miss these honest\, hopeful conversations. We’re going behind the calm\, sharing confidence stories you’ll love—and learn from. \nHow it started vs. how it’s going: the mindset edition is here… and you’re invited. \nHere's the Zoom details: \nTime: Jul 5\, 2025 10:00 AM London\nhttps://us02web.zoom.us/j/86078138044\nMeeting ID: 860 7813 8044\nPasscode: 321493
URL:https://scentventure.dog/event/real-talk-behind-the-scenes-with-confident-dog-owners-true-stories-of-growth-and-what-you-can-learn-from-them/
LOCATION:Zoom\, United Kingdom
CATEGORIES:Confidence
END:VEVENT
BEGIN:VEVENT
DTSTART;TZID=Europe/London:20250704T190000
DTEND;TZID=Europe/London:20250704T200000
DTSTAMP:20260420T102425
CREATED:20250514T142851Z
LAST-MODIFIED:20250529T115356Z
UID:51292-1751655600-1751659200@scentventure.dog
SUMMARY:How to Become the Person Who Actually Gets Stress-Free Walks
DESCRIPTION:VIP EXCLUSIVE WORKSHOP\nThroughout VIP\, you’ve already started shifting how you think\, how you train\, how you see your dog – and yourself. \nSomeone who doesn't give up at the first setback. Someone who doesn’t second-guess every decision. Someone who sees a wobble and keeps going anyway. \nThe owners who get real\, lasting results with their dogs aren’t usually naturally confident. They’ve just stopped abandoning their goals and dreams when things get hard. \nThis workshop is where you stop telling yourself you can’t. And instead\, make decisions based on where you’re going\, not where you’ve been. \nYou will discover the thought patterns holding you back from progress – and rewire them on the spot. You’ll leave with your personal identity statement\, the belief that changes everything and ensures you keep getting stress free walking long after this event closes. \nYou don’t need to be fearless. You just need to decide. Decide that you’re the kind of person who keeps going. Decide that you and your dog deserve better. \nAnd this time\, you won’t walk away from dreams of stress free dog walks. \nNot in VIP yet? You can join us here: https://stressfreewalks.dog/registration-success/
URL:https://scentventure.dog/event/how-to-become-the-person-who-actually-gets-stress-free-walks/
LOCATION:Zoom\, United Kingdom
CATEGORIES:Confidence
END:VEVENT
BEGIN:VEVENT
DTSTART;TZID=Europe/London:20250703T190000
DTEND;TZID=Europe/London:20250703T200000
DTSTAMP:20260420T102425
CREATED:20250514T135946Z
LAST-MODIFIED:20250514T135946Z
UID:51272-1751569200-1751572800@scentventure.dog
SUMMARY:The Stress Free Dog Owner’s Treatment Plan
DESCRIPTION:Stress-free walks is a recipe. Miss out one ingredient and your dog will continue pulling you in every direction. Get all the ingredients right and you’ll bake it to perfection. \nIf your dog pulls like a steam train then walks might be pretty stressful right now. Maybe you’ve tried loose lead walking training before and it didn’t work? \nI’m willing to bet you missed out some vital ingredients. \nI really don’t recommend training your dog to walk on a loose lead by drilling exercises over and over again… or stopping every time your dog pulls. \nBoring. \nTedious. \nIneffective. \nActually\, the stress free dog walks training itself is just one ingredient in the recipe. \nWhen I finally realised that I didn’t only start enjoying calmer walks with my reactive rescue dog Lao… \nI didn’t just start going to nicer places. \nBut because he was more relaxed generally\, he was calmer in every single area of life. \nI just wish it hadn’t taken me so many years to realise. \nThe key to a stress-free walk is mixing all the ingredients. \nThen you’ll have those nice relaxing walks that you see other people enjoying. Until then\, you’ll go round and round in circles\, having your shoulder pulled out\, or like I did… going home in tears. \nIt’s because of this approach that I went from returning from walks in tears to actually looking forward to them. And I want you to have that too. \nThe training’s perfect for dogs that pull on the lead or those who lunge at other dogs. But aside from stress-free walks itself\, this will ALSO make your dog more responsive in the long term\, so it will help with other things like recall\, reactivity and focus around distractions. \nYou’ll leave with a plan to finally tackle that painful and stressful dog walks problem. And you can start looking forward to calmer\, more relaxing walks. \nHere's the Zoom details: \nTime: Jul 3\, 2025 07:00 PM London\nhttps://us02web.zoom.us/j/81137114722\nMeeting ID: 811 3711 4722\nPasscode: 220383
URL:https://scentventure.dog/event/the-stress-free-dog-owners-treatment-plan/
LOCATION:Zoom\, United Kingdom
CATEGORIES:Confidence
END:VEVENT
BEGIN:VEVENT
DTSTART;TZID=Europe/London:20250702T190000
DTEND;TZID=Europe/London:20250702T200000
DTSTAMP:20260420T102425
CREATED:20250514T142453Z
LAST-MODIFIED:20250529T115144Z
UID:51290-1751482800-1751486400@scentventure.dog
SUMMARY:Your Dog Walk Went Wrong - Now What?
DESCRIPTION:VIP EXCLUSIVE WORKSHOP\nYour dog barked. Lunged. Froze. Pulled like a freight train. Maybe people stared. Maybe you felt embarrassed. Maybe you told yourself\, “We’re back to square one.” \nThis workshop is about that critical moment after things go wrong – when most dog owners spiral into self-doubt\, shame\, and discouragement… and quietly give up. \nBut you’re not most dog owners. You’re here. And that means you’re ready to do what it takes to enjoy relaxing walks with a well behaved dog you’re proud of. \nIn this workshop we’ll give you a practical\, powerful tool you can use after any difficult walk – so you can bounce back faster\, stay on track\, and feel proud of how you’re showing up for your dog\, even when things don’t go to plan. \nWhen you know how to lead yourself through the aftermath\, you don’t just recover\, you grow stronger\, calmer\, and more capable – which means your dog does too. That’s how you’ll get stress free walks. \nNot in VIP yet? You can join us here: https://stressfreewalks.dog/registration-success/
URL:https://scentventure.dog/event/your-dog-walk-went-wrong-now-what/
LOCATION:Zoom\, United Kingdom
CATEGORIES:Confidence
END:VEVENT
BEGIN:VEVENT
DTSTART;TZID=Europe/London:20250701T190000
DTEND;TZID=Europe/London:20250701T200000
DTSTAMP:20260420T102425
CREATED:20250514T135528Z
LAST-MODIFIED:20250523T105643Z
UID:51270-1751396400-1751400000@scentventure.dog
SUMMARY:The Stress Connection: Stressed Dog\, Stressed Human... Uh Oh!
DESCRIPTION:Brace yourself for a fascinating exploration into the symbiotic stress cycle\, where human emotions and canine behaviour collide. \nThere’s a growing body of scientific evidence that supports what us dog owners have always known; that our dogs are able to pick up on and respond to human emotions and reflect them in their own behaviour. \nOwing to their finely-tuned senses\, dogs are the ultimate emotional mirrors\, shown to be sensitive to the most subtle cues – changes in our heartbeats and body chemistry\, subtle facial expressions and vocal tones. This means that if you’re stressed\, your dog is more likely to be\, but if you’re calm and relaxed\, your dog has a better chance of being calm and relaxed too. \nThe stakes are high\, and the stress connection is a two-way street\, with human stress triggering a domino effect on dog training\, patience\, decision-making\, memory and focus. \nBut fear not! We won’t leave you hanging. We unveil some practical solutions to break the stress connection. \nHere's the Zoom details: \nTime: Jul 1\, 2025 07:00 PM London\nhttps://us02web.zoom.us/j/84387951354\nMeeting ID: 843 8795 1354\nPasscode: 255999
URL:https://scentventure.dog/event/the-stress-connection/
LOCATION:Zoom\, United Kingdom
CATEGORIES:Confidence
END:VEVENT
BEGIN:VEVENT
DTSTART;TZID=Europe/London:20250630T190000
DTEND;TZID=Europe/London:20250630T200000
DTSTAMP:20260420T102425
CREATED:20250514T141811Z
LAST-MODIFIED:20250529T114913Z
UID:51279-1751310000-1751313600@scentventure.dog
SUMMARY:Want Better Walks? You’ll Need to Get a Little Bit Uncomfortable
DESCRIPTION:VIP EXCLUSIVE WORKSHOP\nYou’re not stuck with stressful walks because you don’t care\, or because you haven’t tried hard enough. It might just be because you’re stuck in your comfort zone. \nDon't worry – it happens to dog owners allll the time! They wait for the perfect moment\, the perfect mindset\, the perfect plan. \nBut comfort zones won’t get you stress free walks. They just keep you repeating the same old patterns while wishing things would change. \nSo if you want easier walks\, more confidence\, more calm… you’ll need to get a liiiitttle bit uncomfortable. \nThis workshop will show you how – safely and in a way that feels GOOD. You won’t be pushed into anything uncomfortable during the workshop itself. This is a safe\, encouraging space. No live challenges. No on-the-spot exposure. You don’t even need to turn on your camera or interact. But you’ll leave with a mindset shift to feel clearer\, braver\, and more empowered than when you arrived. \nGet ready to take bold action for stress free walks. \nNot in VIP yet? You can join us here: https://stressfreewalks.dog/registration-success/
URL:https://scentventure.dog/event/want-better-walks-youll-need-to-get-a-little-bit-uncomfortable/
LOCATION:Zoom\, United Kingdom
CATEGORIES:Confidence
END:VEVENT
BEGIN:VEVENT
DTSTART;TZID=Europe/London:20250629T100000
DTEND;TZID=Europe/London:20250629T110000
DTSTAMP:20260420T102425
CREATED:20250514T133611Z
LAST-MODIFIED:20250529T115913Z
UID:51264-1751191200-1751194800@scentventure.dog
SUMMARY:Why Dog Walks are a Disaster and Training Rarely Works - Until You Know the Apple Tree Rule
DESCRIPTION:Every dog trainer talks about recall\, loose lead walking\, and ‘socialisation’… \nBut all this time we’ve been starting in the wrong place. \nThere is one single most effective method to treat pulling on the lead\, zig-zagging\, obsessive scent trailing\, reactivity\, anxiety and over-excitement at the root. Until you achieve this one thing\, every other goal should be organised around it. \nIf you’ve ever felt like you’re doing all the things and still not getting the results you want… this class will change how you approach your dog’s behaviour for good so you can finally start enjoying relaxing walks with your dog. \nPlus\, I’ll walk you through exactly how this event works so you can maximise your results. \nHere's the Zoom details: \nTime: Jun 29\, 2025 10:00 AM London\nhttps://us02web.zoom.us/j/83416172442\nMeeting ID: 834 1617 2442\nPasscode: 921026 \nLook out for my daily emails containing the Zoom links that you need to join the Masterclasses. \nMake sure you join LIVE for: \n\n\nBonus worksheets to streamline your training – just for attending live!\nAsk questions and get answers in real time.\nGolden nuggets from other dog owners in the chat (participants say this is the BEST part of attending live – they learn SO much from each other!)\nEveryone has a chance to win a £50 Dog Hoose Gift Card (to spend on treats\, toys\, apparel or accessories!) when we spin the wheel!\n\nIf you’re feeling a little shy\, don’t worry! We’re very welcoming and there’s zero pressure to speak or interact on Zoom. You don’t need to turn on your camera or mic\, just come along and soak up all the juicy info!
URL:https://scentventure.dog/event/confidence-25-why-dog-walks-are-a-disaster-and-training-rarely-works-until-you-know-the-apple-tree-rule/
LOCATION:Zoom\, United Kingdom
CATEGORIES:Confidence
END:VEVENT
END:VCALENDAR