BEGIN:VCALENDAR
VERSION:2.0
PRODID:-//Scentventure - ECPv6.10.0//NONSGML v1.0//EN
CALSCALE:GREGORIAN
METHOD:PUBLISH
X-WR-CALNAME:Scentventure
X-ORIGINAL-URL:https://scentventure.dog
X-WR-CALDESC:Events for Scentventure
REFRESH-INTERVAL;VALUE=DURATION:PT1H
X-Robots-Tag:noindex
X-PUBLISHED-TTL:PT1H
BEGIN:VTIMEZONE
TZID:Europe/London
BEGIN:DAYLIGHT
TZOFFSETFROM:+0000
TZOFFSETTO:+0100
TZNAME:BST
DTSTART:20250330T010000
END:DAYLIGHT
BEGIN:STANDARD
TZOFFSETFROM:+0100
TZOFFSETTO:+0000
TZNAME:GMT
DTSTART:20251026T010000
END:STANDARD
END:VTIMEZONE
BEGIN:VEVENT
DTSTART;TZID=Europe/London:20251112T190000
DTEND;TZID=Europe/London:20251112T200000
DTSTAMP:20260421T081956
CREATED:20251024T145223Z
LAST-MODIFIED:20251024T145223Z
UID:54964-1762974000-1762977600@scentventure.dog
SUMMARY:[CD] Expert Guest Kerry Rhodes\, Tinsel\, Treats & Trouble
DESCRIPTION:💌 [This session is for all members – see you there!]\nJoin us for a practical and timely session with canine first aid instructor Kerry Rhodes\, focusing on what to do if your dog starts choking. \nWith the festive season approaching – when homes are filled with decorations\, edible treats\, and plenty of distractions – dogs are more likely to get hold of (and swallow!) things they shouldn’t. Learn how to spot the signs early\, use the right techniques for different-sized dogs\, and follow step-by-step guidance to safely clear a blockage and stay calm in an emergency. \nHere's the Zoom details you need: \nTime: Nov 12\, 2025 07:00 PM London\nhttps://us02web.zoom.us/j/86313213127\nMeeting ID: 863 1321 3127\nPasscode: 821026
URL:https://scentventure.dog/event/cd-expert-guest-kerry-rhodes-tinsel-treats-trouble/
LOCATION:Zoom\, United Kingdom
CATEGORIES:Club Dogwood
END:VEVENT
BEGIN:VEVENT
DTSTART;TZID=Europe/London:20251120T180000
DTEND;TZID=Europe/London:20251120T190000
DTSTAMP:20260421T081956
CREATED:20251024T151138Z
LAST-MODIFIED:20251024T151138Z
UID:54977-1763661600-1763665200@scentventure.dog
SUMMARY:[CD] SVG Justine - SD Phase 3 Walk Through
DESCRIPTION:💌 [This session is for all members – see you there!]\nPhase 3 of Scent Detector 2.0 is here – bringing new levels of teamwork\, challenge\, and discovery for you and your dog! This phase focuses on advancing your scent detection skills\, refining Scent Identification and Indication\, and learning to trust your dog fully in blind searches. \nJoin Scentventure Guide Justine for a Phase 3 Walkthrough\, where she’ll highlight the key elements\, share progression tips\, and help you understand how to keep growing confidently as a scent detection team — whether you’re starting out or ready to dive into the new material. \nHere's the Zoom link you need: \nTime: Nov 20\, 2025 06:00 PM London\nhttps://us02web.zoom.us/j/82159245830\nMeeting ID: 821 5924 5830\nPasscode: 664426
URL:https://scentventure.dog/event/cd-svg-justine-sd-phase-3-walk-through/
LOCATION:Zoom\, United Kingdom
CATEGORIES:Club Dogwood
END:VEVENT
END:VCALENDAR