BEGIN:VCALENDAR
VERSION:2.0
PRODID:-//Scentventure - ECPv6.10.0//NONSGML v1.0//EN
CALSCALE:GREGORIAN
METHOD:PUBLISH
X-WR-CALNAME:Scentventure
X-ORIGINAL-URL:https://scentventure.dog
X-WR-CALDESC:Events for Scentventure
REFRESH-INTERVAL;VALUE=DURATION:PT1H
X-Robots-Tag:noindex
X-PUBLISHED-TTL:PT1H
BEGIN:VTIMEZONE
TZID:Europe/London
BEGIN:DAYLIGHT
TZOFFSETFROM:+0000
TZOFFSETTO:+0100
TZNAME:BST
DTSTART:20260329T010000
END:DAYLIGHT
BEGIN:STANDARD
TZOFFSETFROM:+0100
TZOFFSETTO:+0000
TZNAME:GMT
DTSTART:20261025T010000
END:STANDARD
END:VTIMEZONE
BEGIN:VEVENT
DTSTART;TZID=Europe/London:20260122T183000
DTEND;TZID=Europe/London:20260122T193000
DTSTAMP:20260421T105841
CREATED:20260112T131006Z
LAST-MODIFIED:20260112T131056Z
UID:56079-1769106600-1769110200@scentventure.dog
SUMMARY:[Jan 26 Cohort] Welcome Meeting with Katie!
DESCRIPTION: [This session is for January 26 Cohort members.]\n\nThis is the first of your Milestone Meetings to guide you past the pivotal points on your path to stress free dog walks! \nIn this session\, you'll get Katie's input\, insights and experience. It’s everything she wish she knew at the beginning of her journey so that you can start yours with absolute clarity and certainty. \nIf you’re feeling a little shy\, don’t worry! Just come along and soak up all the juicy info (no need to turn on your mic or camera). \nHere's the Zoom details you need: \nTime: Jan 22\, 2026 06:30 PM London\nhttps://us02web.zoom.us/j/89189200037\nMeeting ID: 891 8920 0037\nPasscode: 534840
URL:https://scentventure.dog/event/jan-26-cohort-welcome-meeting-with-katie/
LOCATION:Zoom\, United Kingdom
CATEGORIES:January Cohort
END:VEVENT
END:VCALENDAR