BEGIN:VCALENDAR
VERSION:2.0
PRODID:-//Scentventure - ECPv6.10.0//NONSGML v1.0//EN
CALSCALE:GREGORIAN
METHOD:PUBLISH
X-WR-CALNAME:Scentventure
X-ORIGINAL-URL:https://scentventure.dog
X-WR-CALDESC:Events for Scentventure
REFRESH-INTERVAL;VALUE=DURATION:PT1H
X-Robots-Tag:noindex
X-PUBLISHED-TTL:PT1H
BEGIN:VTIMEZONE
TZID:Europe/London
BEGIN:DAYLIGHT
TZOFFSETFROM:+0000
TZOFFSETTO:+0100
TZNAME:BST
DTSTART:20260329T010000
END:DAYLIGHT
BEGIN:STANDARD
TZOFFSETFROM:+0100
TZOFFSETTO:+0000
TZNAME:GMT
DTSTART:20261025T010000
END:STANDARD
END:VTIMEZONE
BEGIN:VEVENT
DTSTART;TZID=Europe/London:20260120T180000
DTEND;TZID=Europe/London:20260120T190000
DTSTAMP:20260421T105902
CREATED:20260112T122607Z
LAST-MODIFIED:20260112T122607Z
UID:56071-1768932000-1768935600@scentventure.dog
SUMMARY:[CD] Turbo Charger
DESCRIPTION:💌 [This session is for all members – see you there!]\nWhatever is on your mind\, bring your toughest questions for immediate insightful advice on anything that's holding you back! \nTurbo Charger is an open Q&A session for you to drop in and discuss anything that’s currently on your mind; from training progression to behaviour queries or support with human mindset. \nGet proactive\, get engaged\, and get answers fast to boost your progression. \nHere's the Zoom details you need: \nTime: Jan 20\, 2026 06:00 PM London\nhttps://us02web.zoom.us/j/81988128642\nMeeting ID: 819 8812 8642\nPasscode: 847758 \nDon’t have a question? That’s ok! Come along for inspiration and ideas.
URL:https://scentventure.dog/event/cd-turbo-charger-3/
LOCATION:Zoom\, United Kingdom
CATEGORIES:Club Dogwood
END:VEVENT
BEGIN:VEVENT
DTSTART;TZID=Europe/London:20260120T190000
DTEND;TZID=Europe/London:20260120T200000
DTSTAMP:20260421T105902
CREATED:20251211T133208Z
LAST-MODIFIED:20251211T133312Z
UID:55698-1768935600-1768939200@scentventure.dog
SUMMARY:Behind the Scenes Special with Scentventure Superstars: ‘How They Did That!’ + Question Time
DESCRIPTION:Meet the dogs who’ve ditched the drama! \nOne of the best things you can do to find your own success is to follow the people who have gone before you. \nThat’s why I share all the things I did right – and wrong – with my rescue dog Lao… \nBut there’s an even bigger benefit you can gain from hearing what other dog owners just like you have experienced – because when you see someone with the same struggles finally succeeding\, it stops feeling impossible for you. \nWhich is why I’m SO excited you’ll be able to hear from Club Dogwood members in our ‘Behind the Scenes Special’! \nI’ll be showcasing and celebrating the dog owners that you really need to meet… ‘ordinary’ people from very different backgrounds who've had amazing success with their dogs. \nThey’re sharing how they did it – so that you can steal their strategy and apply it to your own dog. \nExpect a nice cosy relaxed session\, more like a chat between friends. \nIf you’ve ever felt hopeless that things can’t change\, last year these dog owners were in the same position that you’re in now. Come along and pick up some nuggets of wisdom from them. \nPlus\, I’m ready to answer ANY and ALL the final questions you have\, in our final live session together. \n100% live. No replays \nHere’s the Zoom link you need: \nTime: Jan 20\, 2026 07:00 PM London\nhttps://us02web.zoom.us/j/85258546472\nMeeting ID: 852 5854 6472\nPasscode: 988290
URL:https://scentventure.dog/event/behind-the-scenes-special-with-scentventure-superstars-how-they-did-that-question-time/
LOCATION:Zoom\, United Kingdom
CATEGORIES:7 Days 26
END:VEVENT
END:VCALENDAR