BEGIN:VCALENDAR
VERSION:2.0
PRODID:-//Scentventure - ECPv6.10.0//NONSGML v1.0//EN
CALSCALE:GREGORIAN
METHOD:PUBLISH
X-WR-CALNAME:Scentventure
X-ORIGINAL-URL:https://scentventure.dog
X-WR-CALDESC:Events for Scentventure
REFRESH-INTERVAL;VALUE=DURATION:PT1H
X-Robots-Tag:noindex
X-PUBLISHED-TTL:PT1H
BEGIN:VTIMEZONE
TZID:Europe/London
BEGIN:DAYLIGHT
TZOFFSETFROM:+0000
TZOFFSETTO:+0100
TZNAME:BST
DTSTART:20250330T010000
END:DAYLIGHT
BEGIN:STANDARD
TZOFFSETFROM:+0100
TZOFFSETTO:+0000
TZNAME:GMT
DTSTART:20251026T010000
END:STANDARD
END:VTIMEZONE
BEGIN:VEVENT
DTSTART;TZID=Europe/London:20251217T183000
DTEND;TZID=Europe/London:20251217T193000
DTSTAMP:20260419T142026
CREATED:20251128T122932Z
LAST-MODIFIED:20251128T123011Z
UID:55550-1765996200-1765999800@scentventure.dog
SUMMARY:[SVG Accreditation] with Scentventure Guide Justine
DESCRIPTION:💌 [This session is for members enrolled in the Scentventure Guide Accreditation Programme – please check your email for the Zoom link.]\nThis is our regular training and development session for Scentventure Guide Accreditation members\, focused on boosting confidence\, refining practical skills\, and building a values-led business you're proud of. \nOnce per month you'll explore a new theme to help you progress as a Scentventure Guide professional\, and the second session of the month is a Q&A to answer your questions\, troubleshoot real client scenarios\, and deepen your understanding of the Scentventure approach. These sessions are designed to help you grow with confidence and clarity\, supported by a community of like-minded professionals who believe in calm\, compassionate dog behaviour modification.
URL:https://scentventure.dog/event/svg-accreditation-with-scentventure-guide-justine/
LOCATION:Zoom\, United Kingdom
CATEGORIES:SVG Accreditation
END:VEVENT
END:VCALENDAR