BEGIN:VCALENDAR
VERSION:2.0
PRODID:-//Scentventure - ECPv6.10.0//NONSGML v1.0//EN
CALSCALE:GREGORIAN
METHOD:PUBLISH
X-WR-CALNAME:Scentventure
X-ORIGINAL-URL:https://scentventure.dog
X-WR-CALDESC:Events for Scentventure
REFRESH-INTERVAL;VALUE=DURATION:PT1H
X-Robots-Tag:noindex
X-PUBLISHED-TTL:PT1H
BEGIN:VTIMEZONE
TZID:Europe/London
BEGIN:DAYLIGHT
TZOFFSETFROM:+0000
TZOFFSETTO:+0100
TZNAME:BST
DTSTART:20250330T010000
END:DAYLIGHT
BEGIN:STANDARD
TZOFFSETFROM:+0100
TZOFFSETTO:+0000
TZNAME:GMT
DTSTART:20251026T010000
END:STANDARD
END:VTIMEZONE
BEGIN:VEVENT
DTSTART;TZID=Europe/London:20251211T183000
DTEND;TZID=Europe/London:20251211T193000
DTSTAMP:20260419T142119
CREATED:20251128T133143Z
LAST-MODIFIED:20251128T133143Z
UID:55562-1765477800-1765481400@scentventure.dog
SUMMARY:[CD] Christmas Party
DESCRIPTION:💌 [This session is for all the members.]\nJoin us to celebrate an amazing year\, toast our achievements\, and get a sneak peek at what’s coming in 2026! Wear your festive best\, grab a holiday drink\, and get ready for some fun! \nHere's the Zoom link you need: \nTime: Dec 11\, 2025 06:30 PM London\nhttps://us02web.zoom.us/j/87048595049\nMeeting ID: 870 4859 5049\nPasscode: 291943 \nHope to see you all there!
URL:https://scentventure.dog/event/cd-christmas-party/
LOCATION:Zoom\, United Kingdom
CATEGORIES:Club Dogwood
END:VEVENT
END:VCALENDAR