BEGIN:VCALENDAR
VERSION:2.0
PRODID:-//Scentventure - ECPv6.10.0//NONSGML v1.0//EN
CALSCALE:GREGORIAN
METHOD:PUBLISH
X-ORIGINAL-URL:https://scentventure.dog
X-WR-CALDESC:Events for Scentventure
REFRESH-INTERVAL;VALUE=DURATION:PT1H
X-Robots-Tag:noindex
X-PUBLISHED-TTL:PT1H
BEGIN:VTIMEZONE
TZID:Europe/London
BEGIN:DAYLIGHT
TZOFFSETFROM:+0000
TZOFFSETTO:+0100
TZNAME:BST
DTSTART:20250330T010000
END:DAYLIGHT
BEGIN:STANDARD
TZOFFSETFROM:+0100
TZOFFSETTO:+0000
TZNAME:GMT
DTSTART:20251026T010000
END:STANDARD
END:VTIMEZONE
BEGIN:VEVENT
DTSTART;TZID=Europe/London:20251210T183000
DTEND;TZID=Europe/London:20251210T193000
DTSTAMP:20260419T142354
CREATED:20251128T133511Z
LAST-MODIFIED:20251128T133511Z
UID:55565-1765391400-1765395000@scentventure.dog
SUMMARY:[Oct Cohort] Milestone: Next Steps
DESCRIPTION:💌 [This session is for October Cohort members.]\nThis is for all of you\, whether you have finished the The Recipe or not\, we invite you to discuss your Next Steps with us. \nEven if you don’t feel ready for your Next Steps\, please come along as I would love to see you and there’s motivation and inspiration guaranteed. \nHere's the Zoom link you need: \nTime: Dec 10\, 2025 06:30 PM London\nhttps://us02web.zoom.us/j/86801764049\nMeeting ID: 868 0176 4049\nPasscode: 492471
URL:https://scentventure.dog/event/oct-cohort-milestone-next-steps/
LOCATION:Zoom\, United Kingdom
CATEGORIES:Oct 25 Cohort
END:VEVENT
END:VCALENDAR