BEGIN:VCALENDAR
VERSION:2.0
PRODID:-//Scentventure - ECPv6.10.0//NONSGML v1.0//EN
CALSCALE:GREGORIAN
METHOD:PUBLISH
X-ORIGINAL-URL:https://scentventure.dog
X-WR-CALDESC:Events for Scentventure
REFRESH-INTERVAL;VALUE=DURATION:PT1H
X-Robots-Tag:noindex
X-PUBLISHED-TTL:PT1H
BEGIN:VTIMEZONE
TZID:Europe/London
BEGIN:DAYLIGHT
TZOFFSETFROM:+0000
TZOFFSETTO:+0100
TZNAME:BST
DTSTART:20250330T010000
END:DAYLIGHT
BEGIN:STANDARD
TZOFFSETFROM:+0100
TZOFFSETTO:+0000
TZNAME:GMT
DTSTART:20251026T010000
END:STANDARD
END:VTIMEZONE
BEGIN:VEVENT
DTSTART;TZID=Europe/London:20251002T190000
DTEND;TZID=Europe/London:20251002T200000
DTSTAMP:20260419T173426
CREATED:20250815T155026Z
LAST-MODIFIED:20250815T155026Z
UID:53243-1759431600-1759435200@scentventure.dog
SUMMARY:How to Train Loose Lead Walking Without Losing Your Sanity
DESCRIPTION:Quick Wins\, Less is More\, and an Actual Training Schedule for your Busy Life! \nWondering how much training your dog actually needs – and how to fit it in around everything else in your busy life? \nThis Masterclass gives you clear\, science-backed answers to the questions dog owners wrestle with most: \n\nHow often should I train?\nHow long should each session last?\nWhat’s realistic when I’m already busy\, tired and overwhelmed?\nHow can I make the most of the little time I do have?\n\nIf those questions have been spinning in your mind lately\, here’s some good news! You don’t need to spend hours a day\, or sacrifice your sanity\, to make progress with loose lead walking. Phew! \nTune in live to discover: \n⭐️How often to train your dog for maximum results\n⭐️How long sessions should be (it’s probably shorter than you think!)\n⭐️The surprising role of SLEEP in training success\n⭐️Why “overtraining” is a problem – and how to fix it\n⭐️3 practical time-saving tips to help you make the most of the time you do have\n⭐️Plus a real-life dog training schedule even the busiest of guardians can stick to. \nYou’ll leave knowing exactly what to focus on\, what to stop wasting time on\, and how to build training into your week without it taking over your life. \nIf you feel like you’re juggling it all and still getting nowhere\, this is the class you need to come to. \nHere’s the Zoom link you need: \nTime: Oct 2\, 2025 07:00 PM London\nhttps://us02web.zoom.us/j/83902408970\nMeeting ID: 839 0240 8970\nPasscode: 207753
URL:https://scentventure.dog/event/how-to-train-loose-lead-walking-without-losing-your-sanity/
LOCATION:Zoom\, United Kingdom
CATEGORIES:LLW 25
END:VEVENT
END:VCALENDAR