BEGIN:VCALENDAR
VERSION:2.0
PRODID:-//Scentventure - ECPv6.10.0//NONSGML v1.0//EN
CALSCALE:GREGORIAN
METHOD:PUBLISH
X-ORIGINAL-URL:https://scentventure.dog
X-WR-CALDESC:Events for Scentventure
REFRESH-INTERVAL;VALUE=DURATION:PT1H
X-Robots-Tag:noindex
X-PUBLISHED-TTL:PT1H
BEGIN:VTIMEZONE
TZID:Europe/London
BEGIN:DAYLIGHT
TZOFFSETFROM:+0000
TZOFFSETTO:+0100
TZNAME:BST
DTSTART:20250330T010000
END:DAYLIGHT
BEGIN:STANDARD
TZOFFSETFROM:+0100
TZOFFSETTO:+0000
TZNAME:GMT
DTSTART:20251026T010000
END:STANDARD
END:VTIMEZONE
BEGIN:VEVENT
DTSTART;TZID=Europe/London:20250917T183000
DTEND;TZID=Europe/London:20250917T193000
DTSTAMP:20260419T191501
CREATED:20250829T164302Z
LAST-MODIFIED:20250829T164302Z
UID:53889-1758133800-1758137400@scentventure.dog
SUMMARY:[CD] CounterAction Workshop Part 2
DESCRIPTION:Join the Scentventure Guides for a live session focused on real-life counter-conditioning. Whether you’re just starting out or refining your strategy\, we’ll help you plan\, problem-solve and break things down clearly. \nBring your questions\, discuss specific triggers\, get stooge session tips\, and learn from others. Strategic\, practical\, supportive – don’t miss it! \nHere's the Zoom link you need: \nTime: Sep 17\, 2025 06:30 PM London\nhttps://us02web.zoom.us/j/89328252389\nMeeting ID: 893 2825 2389\nPasscode: 114672
URL:https://scentventure.dog/event/cd-counteraction-workshop-part-2/
LOCATION:Zoom\, United Kingdom
CATEGORIES:Club Dogwood
END:VEVENT
END:VCALENDAR