BEGIN:VCALENDAR
VERSION:2.0
PRODID:-//Scentventure - ECPv6.10.0//NONSGML v1.0//EN
CALSCALE:GREGORIAN
METHOD:PUBLISH
X-ORIGINAL-URL:https://scentventure.dog
X-WR-CALDESC:Events for Scentventure
REFRESH-INTERVAL;VALUE=DURATION:PT1H
X-Robots-Tag:noindex
X-PUBLISHED-TTL:PT1H
BEGIN:VTIMEZONE
TZID:Europe/London
BEGIN:DAYLIGHT
TZOFFSETFROM:+0000
TZOFFSETTO:+0100
TZNAME:BST
DTSTART:20250330T010000
END:DAYLIGHT
BEGIN:STANDARD
TZOFFSETFROM:+0100
TZOFFSETTO:+0000
TZNAME:GMT
DTSTART:20251026T010000
END:STANDARD
END:VTIMEZONE
BEGIN:VEVENT
DTSTART;TZID=Europe/London:20250705T100000
DTEND;TZID=Europe/London:20250705T110000
DTSTAMP:20260419T223909
CREATED:20250514T140437Z
LAST-MODIFIED:20250514T140437Z
UID:51274-1751709600-1751713200@scentventure.dog
SUMMARY:Real Talk: Behind the Scenes with Confident Dog Owners: True Stories of Growth and What You Can Learn From Them
DESCRIPTION:Ever catch yourself wondering how some dog owners seem to have it all figured out—while you're stuck feeling overwhelmed\, unsure\, or like you're falling behind? \nWell\, I’m about to introduce you to those very people—and as they’ll be the first to tell you\, they didn’t always feel confident or calm either. \nJoin us for this inspiring panel featuring real dog owners who’ve made the mindset leap—from self-doubt to steady confidence. You'll hear how things looked at the start\, what changed along the way\, and how it’s going now. \nThey’ll share how the confidence shift really happens—not overnight\, not perfectly\, but in a way that’s relatable\, repeatable\, and rooted in calm. \nIf you’ve ever wondered whether lasting change is possible for you\, don’t miss these honest\, hopeful conversations. We’re going behind the calm\, sharing confidence stories you’ll love—and learn from. \nHow it started vs. how it’s going: the mindset edition is here… and you’re invited. \nHere's the Zoom details: \nTime: Jul 5\, 2025 10:00 AM London\nhttps://us02web.zoom.us/j/86078138044\nMeeting ID: 860 7813 8044\nPasscode: 321493
URL:https://scentventure.dog/event/real-talk-behind-the-scenes-with-confident-dog-owners-true-stories-of-growth-and-what-you-can-learn-from-them/
LOCATION:Zoom\, United Kingdom
CATEGORIES:Confidence
END:VEVENT
END:VCALENDAR