BEGIN:VCALENDAR
VERSION:2.0
PRODID:-//Scentventure - ECPv6.10.0//NONSGML v1.0//EN
CALSCALE:GREGORIAN
METHOD:PUBLISH
X-WR-CALNAME:Scentventure
X-ORIGINAL-URL:https://scentventure.dog
X-WR-CALDESC:Events for Scentventure
REFRESH-INTERVAL;VALUE=DURATION:PT1H
X-Robots-Tag:noindex
X-PUBLISHED-TTL:PT1H
BEGIN:VTIMEZONE
TZID:Europe/London
BEGIN:DAYLIGHT
TZOFFSETFROM:+0000
TZOFFSETTO:+0100
TZNAME:BST
DTSTART:20250330T010000
END:DAYLIGHT
BEGIN:STANDARD
TZOFFSETFROM:+0100
TZOFFSETTO:+0000
TZNAME:GMT
DTSTART:20251026T010000
END:STANDARD
END:VTIMEZONE
BEGIN:VEVENT
DTSTART;TZID=Europe/London:20250702T190000
DTEND;TZID=Europe/London:20250702T200000
DTSTAMP:20260419T223859
CREATED:20250514T142453Z
LAST-MODIFIED:20250529T115144Z
UID:51290-1751482800-1751486400@scentventure.dog
SUMMARY:Your Dog Walk Went Wrong - Now What?
DESCRIPTION:VIP EXCLUSIVE WORKSHOP\nYour dog barked. Lunged. Froze. Pulled like a freight train. Maybe people stared. Maybe you felt embarrassed. Maybe you told yourself\, “We’re back to square one.” \nThis workshop is about that critical moment after things go wrong – when most dog owners spiral into self-doubt\, shame\, and discouragement… and quietly give up. \nBut you’re not most dog owners. You’re here. And that means you’re ready to do what it takes to enjoy relaxing walks with a well behaved dog you’re proud of. \nIn this workshop we’ll give you a practical\, powerful tool you can use after any difficult walk – so you can bounce back faster\, stay on track\, and feel proud of how you’re showing up for your dog\, even when things don’t go to plan. \nWhen you know how to lead yourself through the aftermath\, you don’t just recover\, you grow stronger\, calmer\, and more capable – which means your dog does too. That’s how you’ll get stress free walks. \nNot in VIP yet? You can join us here: https://stressfreewalks.dog/registration-success/
URL:https://scentventure.dog/event/your-dog-walk-went-wrong-now-what/
LOCATION:Zoom\, United Kingdom
CATEGORIES:Confidence
END:VEVENT
END:VCALENDAR