BEGIN:VCALENDAR
VERSION:2.0
PRODID:-//Scentventure - ECPv6.10.0//NONSGML v1.0//EN
CALSCALE:GREGORIAN
METHOD:PUBLISH
X-ORIGINAL-URL:https://scentventure.dog
X-WR-CALDESC:Events for Scentventure
REFRESH-INTERVAL;VALUE=DURATION:PT1H
X-Robots-Tag:noindex
X-PUBLISHED-TTL:PT1H
BEGIN:VTIMEZONE
TZID:Europe/London
BEGIN:DAYLIGHT
TZOFFSETFROM:+0000
TZOFFSETTO:+0100
TZNAME:BST
DTSTART:20250330T010000
END:DAYLIGHT
BEGIN:STANDARD
TZOFFSETFROM:+0100
TZOFFSETTO:+0000
TZNAME:GMT
DTSTART:20251026T010000
END:STANDARD
END:VTIMEZONE
BEGIN:VEVENT
DTSTART;TZID=Europe/London:20250624T183000
DTEND;TZID=Europe/London:20250624T193000
DTSTAMP:20260420T003340
CREATED:20250116T143949Z
LAST-MODIFIED:20250508T130447Z
UID:47257-1750789800-1750793400@scentventure.dog
SUMMARY:[JAN COHORT ROADMAP] Milestone Meeting: From Fear or Frustration to Calm Confidence: Rewiring Your Dog's Emotional Responses
DESCRIPTION:This is your final Milestone Meeting with Katie! 🥳🌟 \n\nIn this Milestone Meeting\, Katie is taking you beyond Distraction Defeaters. This is how you will take back your freedom; with a trustworthy dog who doesn’t always need to be distracted. When your dog feels differently\, they behave differently – without having to be prompted. \nDistraction Defeaters are valuable tools because they gain and keep your dog’s focus around distractions\, reducing reactions and stress levels. Clearly\, they're brilliant. But how much better would it be to progress beyond distractors\, and to change your dog’s unconscious reflex response from over-excitement\, frustration or fear to calm confidence? \nEmotion drives behaviour. \n\nFear = freeze\, bark\, lunge.\nExcitement/frustration = jump up\, lunge\, whine\, paws planted refusing to budge until they’ve met the dog or person.\n\nIn this Milestone Meeting\, you’ll uncover the secrets to altering your dog's feelings about triggers\, in order to change their behaviour. This is how to rewire your dog’s brain! \nHere's the Zoom details: \nTime: Jun 24\, 2025 06:30 PM London\nhttps://us02web.zoom.us/j/85105263136\nMeeting ID: 851 0526 3136\nPasscode: 991105
URL:https://scentventure.dog/event/jan-cohort-milestone-meeting-from-fear-or-frustration-to-calm-confidence/
LOCATION:Zoom\, United Kingdom
CATEGORIES:Roadmap
END:VEVENT
END:VCALENDAR