BEGIN:VCALENDAR
VERSION:2.0
PRODID:-//Scentventure - ECPv6.10.0//NONSGML v1.0//EN
CALSCALE:GREGORIAN
METHOD:PUBLISH
X-ORIGINAL-URL:https://scentventure.dog
X-WR-CALDESC:Events for Scentventure
REFRESH-INTERVAL;VALUE=DURATION:PT1H
X-Robots-Tag:noindex
X-PUBLISHED-TTL:PT1H
BEGIN:VTIMEZONE
TZID:Europe/London
BEGIN:DAYLIGHT
TZOFFSETFROM:+0000
TZOFFSETTO:+0100
TZNAME:BST
DTSTART:20250330T010000
END:DAYLIGHT
BEGIN:STANDARD
TZOFFSETFROM:+0100
TZOFFSETTO:+0000
TZNAME:GMT
DTSTART:20251026T010000
END:STANDARD
END:VTIMEZONE
BEGIN:VEVENT
DTSTART;TZID=Europe/London:20250611T183000
DTEND;TZID=Europe/London:20250611T193000
DTSTAMP:20260420T003422
CREATED:20250502T121548Z
LAST-MODIFIED:20250509T140436Z
UID:50978-1749666600-1749670200@scentventure.dog
SUMMARY:[CLUB DOGWOOD] SVG Robyn - Home Alone
DESCRIPTION:Here's the Zoom details: \nTime: Jun 11\, 2025 06:30 PM London\nhttps://us02web.zoom.us/j/83006633038\nMeeting ID: 830 0663 3038\nPasscode: 547356
URL:https://scentventure.dog/event/cd-svg-robyn-home-alone/
LOCATION:Zoom\, United Kingdom
CATEGORIES:Club Dogwood
END:VEVENT
END:VCALENDAR