BEGIN:VCALENDAR
VERSION:2.0
PRODID:-//Scentventure - ECPv6.10.0//NONSGML v1.0//EN
CALSCALE:GREGORIAN
METHOD:PUBLISH
X-ORIGINAL-URL:https://scentventure.dog
X-WR-CALDESC:Events for Scentventure
REFRESH-INTERVAL;VALUE=DURATION:PT1H
X-Robots-Tag:noindex
X-PUBLISHED-TTL:PT1H
BEGIN:VTIMEZONE
TZID:Europe/London
BEGIN:DAYLIGHT
TZOFFSETFROM:+0000
TZOFFSETTO:+0100
TZNAME:BST
DTSTART:20250330T010000
END:DAYLIGHT
BEGIN:STANDARD
TZOFFSETFROM:+0100
TZOFFSETTO:+0000
TZNAME:GMT
DTSTART:20251026T010000
END:STANDARD
END:VTIMEZONE
BEGIN:VEVENT
DTSTART;TZID=Europe/London:20250527T183000
DTEND;TZID=Europe/London:20250527T193000
DTSTAMP:20260420T003448
CREATED:20250116T143135Z
LAST-MODIFIED:20250410T090101Z
UID:47252-1748370600-1748374200@scentventure.dog
SUMMARY:[JAN & APR COHORTS] Milestone Meeting: Speak Dog Body Language
DESCRIPTION:How the most relaxed dog owners spot potential pulling. barking\, lunging meltdowns before they happen (with other dogs\, members of the public\, visitors to your house\, vets\, groomers\, etc.)\, in order to prevent dangerous or embarrassing situations. \nHere's the Zoom details: \nTime: May 27\, 2025 06:30 PM London\nhttps://us02web.zoom.us/j/88996946762\nMeeting ID: 889 9694 6762\nPasscode: 398867
URL:https://scentventure.dog/event/jan-cohort-milestone-meeting-speak-dog-body-language/
LOCATION:Zoom\, United Kingdom
CATEGORIES:LLW,Roadmap
END:VEVENT
END:VCALENDAR