BEGIN:VCALENDAR
VERSION:2.0
PRODID:-//Scentventure - ECPv6.10.0//NONSGML v1.0//EN
CALSCALE:GREGORIAN
METHOD:PUBLISH
X-ORIGINAL-URL:https://scentventure.dog
X-WR-CALDESC:Events for Scentventure
REFRESH-INTERVAL;VALUE=DURATION:PT1H
X-Robots-Tag:noindex
X-PUBLISHED-TTL:PT1H
BEGIN:VTIMEZONE
TZID:Europe/London
BEGIN:DAYLIGHT
TZOFFSETFROM:+0000
TZOFFSETTO:+0100
TZNAME:BST
DTSTART:20250330T010000
END:DAYLIGHT
BEGIN:STANDARD
TZOFFSETFROM:+0100
TZOFFSETTO:+0000
TZNAME:GMT
DTSTART:20251026T010000
END:STANDARD
END:VTIMEZONE
BEGIN:VEVENT
DTSTART;TZID=Europe/London:20250423T183000
DTEND;TZID=Europe/London:20250423T193000
DTSTAMP:20260420T034940
CREATED:20250116T142509Z
LAST-MODIFIED:20250131T100226Z
UID:47250-1745433000-1745436600@scentventure.dog
SUMMARY:[JAN COHORT ROADMAP] Milestone Meeting: Cohort Celebration
DESCRIPTION:Roadmap Celebration with Katie! 🥳 \nWhether you still have a way to go or you have completed the Roadmap\, this celebration is an opportunity to come together\, reflect on your progress\, and discover some juicy new insights about yourself. \nSo bring a beverage and some party snacks and prepare for some self discovery and celebration! \nWe encourage everyone to be there\, whether or not you have completed the Roadmap. \nHere's the Zoom details: \nTime: Apr 23\, 2025 06:30 PM London\nhttps://us02web.zoom.us/j/84703814628\nMeeting ID: 847 0381 4628\nPasscode: 488161
URL:https://scentventure.dog/event/jan-cohort-milestone-meeting-cohort-celebration/
LOCATION:Zoom\, United Kingdom
CATEGORIES:Roadmap
END:VEVENT
END:VCALENDAR