BEGIN:VCALENDAR
VERSION:2.0
PRODID:-//Scentventure - ECPv6.10.0//NONSGML v1.0//EN
CALSCALE:GREGORIAN
METHOD:PUBLISH
X-ORIGINAL-URL:https://scentventure.dog
X-WR-CALDESC:Events for Scentventure
REFRESH-INTERVAL;VALUE=DURATION:PT1H
X-Robots-Tag:noindex
X-PUBLISHED-TTL:PT1H
BEGIN:VTIMEZONE
TZID:Europe/London
BEGIN:DAYLIGHT
TZOFFSETFROM:+0000
TZOFFSETTO:+0100
TZNAME:BST
DTSTART:20250330T010000
END:DAYLIGHT
BEGIN:STANDARD
TZOFFSETFROM:+0100
TZOFFSETTO:+0000
TZNAME:GMT
DTSTART:20251026T010000
END:STANDARD
END:VTIMEZONE
BEGIN:VEVENT
DTSTART;TZID=Europe/London:20250416T183000
DTEND;TZID=Europe/London:20250416T193000
DTSTAMP:20260420T034940
CREATED:20250312T153346Z
LAST-MODIFIED:20250312T153346Z
UID:49468-1744828200-1744831800@scentventure.dog
SUMMARY:[CD] Expert Guest Roz Pooley - The Body Language of Social Interactions
DESCRIPTION:Clinical Animal Behaviourist Roz Pooley returns for the first of a two-part live session exploring the body language of dog social interactions\, from the initial approach and greeting to what happens next. She will break down subtle signals that reveal a dog’s emotional state and intentions\, including signs of anticipation\, uncertainty\, avoidance\, and tension. \nUnderstanding these signals as they unfold will empower you to feel better equipped to support your dog when interacting with other dogs. \nHere's the Zoom details: \nTime: Apr 16\, 2025 06:30 PM London\nhttps://us02web.zoom.us/j/86322919908\nMeeting ID: 863 2291 9908\nPasscode: 076434
URL:https://scentventure.dog/event/cd-expert-guest-roz-pooley-the-body-language-of-social-interactions/
LOCATION:Zoom\, United Kingdom
CATEGORIES:Club Dogwood
END:VEVENT
END:VCALENDAR