BEGIN:VCALENDAR
VERSION:2.0
PRODID:-//Scentventure - ECPv6.10.0//NONSGML v1.0//EN
CALSCALE:GREGORIAN
METHOD:PUBLISH
X-WR-CALNAME:Scentventure
X-ORIGINAL-URL:https://scentventure.dog
X-WR-CALDESC:Events for Scentventure
REFRESH-INTERVAL;VALUE=DURATION:PT1H
X-Robots-Tag:noindex
X-PUBLISHED-TTL:PT1H
BEGIN:VTIMEZONE
TZID:Europe/London
BEGIN:DAYLIGHT
TZOFFSETFROM:+0000
TZOFFSETTO:+0100
TZNAME:BST
DTSTART:20250330T010000
END:DAYLIGHT
BEGIN:STANDARD
TZOFFSETFROM:+0100
TZOFFSETTO:+0000
TZNAME:GMT
DTSTART:20251026T010000
END:STANDARD
END:VTIMEZONE
BEGIN:VEVENT
DTSTART;TZID=Europe/London:20250324T183000
DTEND;TZID=Europe/London:20250324T193000
DTSTAMP:20260420T054553
CREATED:20250116T142120Z
LAST-MODIFIED:20250304T152827Z
UID:47248-1742841000-1742844600@scentventure.dog
SUMMARY:[JAN COHORT ROADMAP] Milestone Meeting: Next Steps
DESCRIPTION:No matter where you are on the Roadmap; at the beginning\, end or somewhere in between\, this is your checkpoint\, an opportunity to get direction\, whatever stage you’re at. Even if you don’t feel ready for your Next Steps\, please come along as I would love to see you and there’s motivation and inspiration guaranteed. \nHere's the Zoom details: \nTime: Mar 24\, 2025 06:30 PM London\nhttps://us02web.zoom.us/j/84811768054\nMeeting ID: 848 1176 8054\nPasscode: 337988
URL:https://scentventure.dog/event/jan-cohort-milestone-meeting-next-steps/
LOCATION:Zoom\, United Kingdom
CATEGORIES:Roadmap
END:VEVENT
END:VCALENDAR