BEGIN:VCALENDAR
VERSION:2.0
PRODID:-//Scentventure - ECPv6.10.0//NONSGML v1.0//EN
CALSCALE:GREGORIAN
METHOD:PUBLISH
X-WR-CALNAME:Scentventure
X-ORIGINAL-URL:https://scentventure.dog
X-WR-CALDESC:Events for Scentventure
REFRESH-INTERVAL;VALUE=DURATION:PT1H
X-Robots-Tag:noindex
X-PUBLISHED-TTL:PT1H
BEGIN:VTIMEZONE
TZID:Europe/London
BEGIN:DAYLIGHT
TZOFFSETFROM:+0000
TZOFFSETTO:+0100
TZNAME:BST
DTSTART:20250330T010000
END:DAYLIGHT
BEGIN:STANDARD
TZOFFSETFROM:+0100
TZOFFSETTO:+0000
TZNAME:GMT
DTSTART:20251026T010000
END:STANDARD
END:VTIMEZONE
BEGIN:VEVENT
DTSTART;TZID=Europe/London:20250319T190000
DTEND;TZID=Europe/London:20250319T200000
DTSTAMP:20260420T054526
CREATED:20250226T121351Z
LAST-MODIFIED:20250226T121351Z
UID:49139-1742410800-1742414400@scentventure.dog
SUMMARY:[CLUB DOGWOOD] Expert Guest Kim Sipma on "A Peaceful Goodbye"
DESCRIPTION:Join us for an important Expert Guest Zoom with Kim\, a veterinarian from Paws at Peace\, as she walks us through the euthanasia process and what to expect\, whether at home or in a veterinary practice. \nWhile this is a sensitive topic\, gaining a deeper understanding can offer peace of mind during an emotionally challenging time. As usual the session will be recorded for later viewing if you're not ready to join live. \nHere's the Zoom details: \nTime: Mar 19\, 2025 07:00 PM London\nhttps://us02web.zoom.us/j/86924419876\nMeeting ID: 869 2441 9876\nPasscode: 742563
URL:https://scentventure.dog/event/club-dogwood-expert-guest-kim-sipma-on-a-peaceful-goodbye/
LOCATION:Zoom\, United Kingdom
CATEGORIES:Club Dogwood
END:VEVENT
END:VCALENDAR