BEGIN:VCALENDAR
VERSION:2.0
PRODID:-//Scentventure - ECPv6.10.0//NONSGML v1.0//EN
CALSCALE:GREGORIAN
METHOD:PUBLISH
X-ORIGINAL-URL:https://scentventure.dog
X-WR-CALDESC:Events for Scentventure
REFRESH-INTERVAL;VALUE=DURATION:PT1H
X-Robots-Tag:noindex
X-PUBLISHED-TTL:PT1H
BEGIN:VTIMEZONE
TZID:Europe/London
BEGIN:DAYLIGHT
TZOFFSETFROM:+0000
TZOFFSETTO:+0100
TZNAME:BST
DTSTART:20250330T010000
END:DAYLIGHT
BEGIN:STANDARD
TZOFFSETFROM:+0100
TZOFFSETTO:+0000
TZNAME:GMT
DTSTART:20251026T010000
END:STANDARD
END:VTIMEZONE
BEGIN:VEVENT
DTSTART;TZID=Europe/London:20250304T180000
DTEND;TZID=Europe/London:20250304T190000
DTSTAMP:20260420T054615
CREATED:20250226T120930Z
LAST-MODIFIED:20250226T121019Z
UID:49137-1741111200-1741114800@scentventure.dog
SUMMARY:[CLUB DOGWOOD] SVG Deb on Supporting Dogs Through Hearing & Sight Loss
DESCRIPTION:Join our in-house expert\, Scentventure Guide Deb\, to explore hearing and sight loss in dogs. With extensive experience supporting owners in training their deaf and blind dogs\, Deb brings a wealth of knowledge and compassion to this important topic. \nHaving raised several dogs who were deaf and blind from birth\, she understands first-hand the challenges and adaptations that come with sensory loss. While some dogs are born with these conditions\, many experience gradual hearing and vision decline as they age\, which can lead to confusion\, anxiety\, and changes in behavior. \nIn this session\, Deb will share valuable insights on how dogs navigate the world without sight or sound and how we\, as owners\, can support them in feeling safe\, confident\, and happy throughout every stage of life. \nHere's the Zoom details: \nTime: Mar 4\, 2025 06:00 PM London\nhttps://us02web.zoom.us/j/82598117063\nMeeting ID: 825 9811 7063\nPasscode: 256102
URL:https://scentventure.dog/event/club-dogwood-svg-deb-on-supporting-dogs-through-hearing-sight-loss/
LOCATION:Zoom\, United Kingdom
CATEGORIES:Club Dogwood
END:VEVENT
END:VCALENDAR