BEGIN:VCALENDAR
VERSION:2.0
PRODID:-//Scentventure - ECPv6.10.0//NONSGML v1.0//EN
CALSCALE:GREGORIAN
METHOD:PUBLISH
X-WR-CALNAME:Scentventure
X-ORIGINAL-URL:https://scentventure.dog
X-WR-CALDESC:Events for Scentventure
REFRESH-INTERVAL;VALUE=DURATION:PT1H
X-Robots-Tag:noindex
X-PUBLISHED-TTL:PT1H
BEGIN:VTIMEZONE
TZID:Europe/London
BEGIN:DAYLIGHT
TZOFFSETFROM:+0000
TZOFFSETTO:+0100
TZNAME:BST
DTSTART:20250330T010000
END:DAYLIGHT
BEGIN:STANDARD
TZOFFSETFROM:+0100
TZOFFSETTO:+0000
TZNAME:GMT
DTSTART:20251026T010000
END:STANDARD
END:VTIMEZONE
BEGIN:VEVENT
DTSTART;TZID=Europe/London:20250226T183000
DTEND;TZID=Europe/London:20250226T193000
DTSTAMP:20260420T054551
CREATED:20250116T141545Z
LAST-MODIFIED:20250131T095949Z
UID:47246-1740594600-1740598200@scentventure.dog
SUMMARY:[JAN COHORT ROADMAP] Milestone Meeting: Mindset Matters
DESCRIPTION:How you show up for your dog matters. Your mindset matters. \nBy shifting your mindset you can approach your dog’s training and ultimately\, every area of life with your dog – and beyond – in a totally new way\, so that you can overcome self doubt and negative thinking\, and step out with confidence! \nHere’s the Zoom details: \nTime: Feb 26\, 2025 06:30 PM London\nhttps://us02web.zoom.us/j/86595453890\nMeeting ID: 865 9545 3890\nPasscode: 310955
URL:https://scentventure.dog/event/jan-cohort-milestone-meeting-mindset-matters/
LOCATION:Zoom\, United Kingdom
CATEGORIES:Roadmap
END:VEVENT
END:VCALENDAR