BEGIN:VCALENDAR
VERSION:2.0
PRODID:-//Scentventure - ECPv6.10.0//NONSGML v1.0//EN
CALSCALE:GREGORIAN
METHOD:PUBLISH
X-ORIGINAL-URL:https://scentventure.dog
X-WR-CALDESC:Events for Scentventure
REFRESH-INTERVAL;VALUE=DURATION:PT1H
X-Robots-Tag:noindex
X-PUBLISHED-TTL:PT1H
BEGIN:VTIMEZONE
TZID:Europe/London
BEGIN:DAYLIGHT
TZOFFSETFROM:+0000
TZOFFSETTO:+0100
TZNAME:BST
DTSTART:20250330T010000
END:DAYLIGHT
BEGIN:STANDARD
TZOFFSETFROM:+0100
TZOFFSETTO:+0000
TZNAME:GMT
DTSTART:20251026T010000
END:STANDARD
END:VTIMEZONE
BEGIN:VEVENT
DTSTART;TZID=Europe/London:20250212T190000
DTEND;TZID=Europe/London:20250212T200000
DTSTAMP:20260420T072902
CREATED:20250130T155919Z
LAST-MODIFIED:20250130T160011Z
UID:48235-1739386800-1739390400@scentventure.dog
SUMMARY:[CLUB DOGWOOD] Expert Guest Kerry Rhodes on "It's the shock that will kill you!"
DESCRIPTION:Join Canine First Aid instructor\, Kerry Rhodes\, to learn more about shock – empowering you to spot the signs and react effectively in an emergency situation. Kerry says that\, whilst lots of emphasis is placed on learning CPR for pets\, far more caregivers will encounter shock at some stage and it's her aim to ensure that we all have the confidence to respond. \nHere's the Zoom details: \nTime: Feb 12\, 2025 07:00 PM London\nhttps://us02web.zoom.us/j/83512674243\nMeeting ID: 835 1267 4243\nPasscode: 118756
URL:https://scentventure.dog/event/club-dogwood-expert-guest-kerry-rhodes-on-its-the-shock-that-will-kill-you/
LOCATION:Zoom\, United Kingdom
CATEGORIES:Club Dogwood
END:VEVENT
END:VCALENDAR