BEGIN:VCALENDAR
VERSION:2.0
PRODID:-//Scentventure - ECPv6.10.0//NONSGML v1.0//EN
CALSCALE:GREGORIAN
METHOD:PUBLISH
X-ORIGINAL-URL:https://scentventure.dog
X-WR-CALDESC:Events for Scentventure
REFRESH-INTERVAL;VALUE=DURATION:PT1H
X-Robots-Tag:noindex
X-PUBLISHED-TTL:PT1H
BEGIN:VTIMEZONE
TZID:Europe/London
BEGIN:DAYLIGHT
TZOFFSETFROM:+0000
TZOFFSETTO:+0100
TZNAME:BST
DTSTART:20250330T010000
END:DAYLIGHT
BEGIN:STANDARD
TZOFFSETFROM:+0100
TZOFFSETTO:+0000
TZNAME:GMT
DTSTART:20251026T010000
END:STANDARD
END:VTIMEZONE
BEGIN:VEVENT
DTSTART;TZID=Europe/London:20250127T190000
DTEND;TZID=Europe/London:20250127T200000
DTSTAMP:20260420T072906
CREATED:20241223T160555Z
LAST-MODIFIED:20241223T160702Z
UID:46901-1738004400-1738008000@scentventure.dog
SUMMARY:[CLUB DOGWOOD] Expert Guest Live - Vet Grace Paxton on Health & Behaviour Links
DESCRIPTION:Grace Paxton BVSc MRCVS is a small animal vet based in Bristol. Through having her own dog with behavioural and medical concerns she became interested in the link between the two\, prompting further self study. In April 2024 she set up “Graceful Strides” an online gait assessment service\, and in October 2024 she took this interest in pain and behaviour one step further by completing a foundation course in veterinary acupuncture. \nThis talk will focus on an overview of various medical concerns and how they can impact our dogs behaviour. \nHere's the Zoom details: \nTime: Jan 27\, 2025 07:00 PM London \nhttps://us02web.zoom.us/j/83093153919 \nMeeting ID: 830 9315 3919 \nPasscode: 003919
URL:https://scentventure.dog/event/club-dogwood-expert-guest-live-vet-grace-paxton-on-health-behaviour-links/
LOCATION:Zoom\, United Kingdom
CATEGORIES:Club Dogwood
END:VEVENT
END:VCALENDAR