BEGIN:VCALENDAR
VERSION:2.0
PRODID:-//Scentventure - ECPv6.10.0//NONSGML v1.0//EN
CALSCALE:GREGORIAN
METHOD:PUBLISH
X-ORIGINAL-URL:https://scentventure.dog
X-WR-CALDESC:Events for Scentventure
REFRESH-INTERVAL;VALUE=DURATION:PT1H
X-Robots-Tag:noindex
X-PUBLISHED-TTL:PT1H
BEGIN:VTIMEZONE
TZID:Europe/London
BEGIN:DAYLIGHT
TZOFFSETFROM:+0000
TZOFFSETTO:+0100
TZNAME:BST
DTSTART:20250330T010000
END:DAYLIGHT
BEGIN:STANDARD
TZOFFSETFROM:+0100
TZOFFSETTO:+0000
TZNAME:GMT
DTSTART:20251026T010000
END:STANDARD
END:VTIMEZONE
BEGIN:VEVENT
DTSTART;TZID=Europe/London:20250122T190000
DTEND;TZID=Europe/London:20250122T203000
DTSTAMP:20260420T092130
CREATED:20241202T074145Z
LAST-MODIFIED:20250109T141449Z
UID:46228-1737572400-1737577800@scentventure.dog
SUMMARY:Question Time: All Your Questions Answered!
DESCRIPTION:Come along to this open Q&A to get ALL your questions answered! \nHere's the Zoom details: \nTime: Jan 22\, 2025 07:00 PM London \nhttps://us02web.zoom.us/j/87987780171 \nMeeting ID: 879 8778 0171 \nPasscode: 478162
URL:https://scentventure.dog/event/sfdw-25-question-time/
LOCATION:Zoom\, United Kingdom
CATEGORIES:Stress Free Walks
END:VEVENT
END:VCALENDAR