BEGIN:VCALENDAR
VERSION:2.0
PRODID:-//Scentventure - ECPv6.10.0//NONSGML v1.0//EN
CALSCALE:GREGORIAN
METHOD:PUBLISH
X-WR-CALNAME:Scentventure
X-ORIGINAL-URL:https://scentventure.dog
X-WR-CALDESC:Events for Scentventure
REFRESH-INTERVAL;VALUE=DURATION:PT1H
X-Robots-Tag:noindex
X-PUBLISHED-TTL:PT1H
BEGIN:VTIMEZONE
TZID:Europe/London
BEGIN:DAYLIGHT
TZOFFSETFROM:+0000
TZOFFSETTO:+0100
TZNAME:BST
DTSTART:20250330T010000
END:DAYLIGHT
BEGIN:STANDARD
TZOFFSETFROM:+0100
TZOFFSETTO:+0000
TZNAME:GMT
DTSTART:20251026T010000
END:STANDARD
END:VTIMEZONE
BEGIN:VEVENT
DTSTART;TZID=Europe/London:20250117T190000
DTEND;TZID=Europe/London:20250117T203000
DTSTAMP:20260420T092045
CREATED:20241202T072527Z
LAST-MODIFIED:20250109T141229Z
UID:46220-1737140400-1737145800@scentventure.dog
SUMMARY:From Chaos to Calm: How Derek & Margaret Transformed Charlie’s Walks
DESCRIPTION:Charlie was a wildlife-obsessed hyper sniffer and frantic puller! He pulled Margaret across roads\, and she no longer felt safe. 😫 \nWith our help\, Derek and Margaret discovered and addressed the real reasons behind Charlie’s frantic pulling so they were able to begin seeing success right away. With Charlie’s over-excitement dialled down\, walks became enjoyable. \nHow did Derek\, Margaret and Charlie do it? \nIn this session\, I’m revealing the exact steps they took so that you too can implement their stress free walk strategy! \nHere's the Zoom details: \nTime: Jan 17\, 2025 07:00 PM London \nhttps://us02web.zoom.us/j/84868519873 \nMeeting ID: 848 6851 9873 \nPasscode: 245183
URL:https://scentventure.dog/event/sfdw-25-masterclass-3-from-chaos-to-calm-how-derek-margaret-transformed-charlies-walks/
LOCATION:Zoom\, United Kingdom
CATEGORIES:Stress Free Walks
END:VEVENT
END:VCALENDAR