BEGIN:VCALENDAR
VERSION:2.0
PRODID:-//Scentventure - ECPv6.10.0//NONSGML v1.0//EN
CALSCALE:GREGORIAN
METHOD:PUBLISH
X-ORIGINAL-URL:https://scentventure.dog
X-WR-CALDESC:Events for Scentventure
REFRESH-INTERVAL;VALUE=DURATION:PT1H
X-Robots-Tag:noindex
X-PUBLISHED-TTL:PT1H
BEGIN:VTIMEZONE
TZID:Europe/London
BEGIN:DAYLIGHT
TZOFFSETFROM:+0000
TZOFFSETTO:+0100
TZNAME:BST
DTSTART:20250330T010000
END:DAYLIGHT
BEGIN:STANDARD
TZOFFSETFROM:+0100
TZOFFSETTO:+0000
TZNAME:GMT
DTSTART:20251026T010000
END:STANDARD
END:VTIMEZONE
BEGIN:VEVENT
DTSTART;TZID=Europe/London:20250113T190000
DTEND;TZID=Europe/London:20250113T200000
DTSTAMP:20260420T092127
CREATED:20241202T071744Z
LAST-MODIFIED:20241216T123927Z
UID:46212-1736794800-1736798400@scentventure.dog
SUMMARY:[VIP] The Worst Confidence Blockers Every Dog Owner Can Overcome
DESCRIPTION:
URL:https://scentventure.dog/event/sfdw-25-vip-1/
LOCATION:Zoom\, United Kingdom
CATEGORIES:Stress Free Walks
END:VEVENT
END:VCALENDAR