BEGIN:VCALENDAR
VERSION:2.0
PRODID:-//Scentventure - ECPv6.10.0//NONSGML v1.0//EN
CALSCALE:GREGORIAN
METHOD:PUBLISH
X-ORIGINAL-URL:https://scentventure.dog
X-WR-CALDESC:Events for Scentventure
REFRESH-INTERVAL;VALUE=DURATION:PT1H
X-Robots-Tag:noindex
X-PUBLISHED-TTL:PT1H
BEGIN:VTIMEZONE
TZID:Europe/London
BEGIN:DAYLIGHT
TZOFFSETFROM:+0000
TZOFFSETTO:+0100
TZNAME:BST
DTSTART:20250330T010000
END:DAYLIGHT
BEGIN:STANDARD
TZOFFSETFROM:+0100
TZOFFSETTO:+0000
TZNAME:GMT
DTSTART:20251026T010000
END:STANDARD
END:VTIMEZONE
BEGIN:VEVENT
DTSTART;TZID=Europe/London:20250112T100000
DTEND;TZID=Europe/London:20250112T113000
DTSTAMP:20260420T092125
CREATED:20241202T070547Z
LAST-MODIFIED:20250109T141100Z
UID:46210-1736676000-1736681400@scentventure.dog
SUMMARY:The Surprising Truth Behind the Pulling\, Barking and Lunging - And How to Stop It!
DESCRIPTION:Find out what’s really causing your dog to pull\, bark and lunge – and the counterintuitive way to avoid it. \nThere is one single most effective method to treat pulling on the lead\, zig-zagging\, obsessive scent trailing\, reactivity\, anxiety and over-excitement at the root. Until you achieve this one thing\, every other goal should be organised around it. \nThat’s exactly what I’m sharing with you at the first Masterclass. \nCome along to the Kick Off Call to get crystal clear on how it all works and take your first steps to success. \nHere's the Zoom details: \nTime: Jan 12\, 2025 10:00 AM London \nhttps://us02web.zoom.us/j/85253143319 \nMeeting ID: 852 5314 3319 \nPasscode: 296938
URL:https://scentventure.dog/event/sfdw-25-masterclass-1-whats-really-causing-the-pulling-barking-and-lunging/
LOCATION:Zoom\, United Kingdom
CATEGORIES:Stress Free Walks
END:VEVENT
END:VCALENDAR