BEGIN:VCALENDAR
VERSION:2.0
PRODID:-//Scentventure - ECPv6.10.0//NONSGML v1.0//EN
CALSCALE:GREGORIAN
METHOD:PUBLISH
X-WR-CALNAME:Scentventure
X-ORIGINAL-URL:https://scentventure.dog
X-WR-CALDESC:Events for Scentventure
REFRESH-INTERVAL;VALUE=DURATION:PT1H
X-Robots-Tag:noindex
X-PUBLISHED-TTL:PT1H
BEGIN:VTIMEZONE
TZID:Europe/London
BEGIN:DAYLIGHT
TZOFFSETFROM:+0000
TZOFFSETTO:+0100
TZNAME:BST
DTSTART:20240331T010000
END:DAYLIGHT
BEGIN:STANDARD
TZOFFSETFROM:+0100
TZOFFSETTO:+0000
TZNAME:GMT
DTSTART:20241027T010000
END:STANDARD
END:VTIMEZONE
BEGIN:VEVENT
DTSTART;TZID=Europe/London:20241105T183000
DTEND;TZID=Europe/London:20241105T193000
DTSTAMP:20260420T124811
CREATED:20240923T155134Z
LAST-MODIFIED:20241001T134424Z
UID:44471-1730831400-1730835000@scentventure.dog
SUMMARY:[LLW OCT COHORT] Turbo Charger
DESCRIPTION:To answer your questions\, clear up doubts\, and keep you motivated and on track. Bring your toughest questions for immediate insightful advice from your Loose Lead Walking Specialist!' \n  \nTime: Nov 5\, 2024 06:30 PM London \nhttps://us02web.zoom.us/j/88663818026 \nMeeting ID: 886 6381 8026 \nPasscode: 207187
URL:https://scentventure.dog/event/llw-24-turbo-charger-5-4/
LOCATION:Zoom\, United Kingdom
CATEGORIES:New Members
END:VEVENT
END:VCALENDAR