BEGIN:VCALENDAR
VERSION:2.0
PRODID:-//Scentventure - ECPv6.10.0//NONSGML v1.0//EN
CALSCALE:GREGORIAN
METHOD:PUBLISH
X-ORIGINAL-URL:https://scentventure.dog
X-WR-CALDESC:Events for Scentventure
REFRESH-INTERVAL;VALUE=DURATION:PT1H
X-Robots-Tag:noindex
X-PUBLISHED-TTL:PT1H
BEGIN:VTIMEZONE
TZID:Europe/London
BEGIN:DAYLIGHT
TZOFFSETFROM:+0000
TZOFFSETTO:+0100
TZNAME:BST
DTSTART:20240331T010000
END:DAYLIGHT
BEGIN:STANDARD
TZOFFSETFROM:+0100
TZOFFSETTO:+0000
TZNAME:GMT
DTSTART:20241027T010000
END:STANDARD
END:VTIMEZONE
BEGIN:VEVENT
DTSTART;TZID=Europe/London:20241007T183000
DTEND;TZID=Europe/London:20241007T193000
DTSTAMP:20260420T142432
CREATED:20240821T085828Z
LAST-MODIFIED:20240913T145202Z
UID:43191-1728325800-1728329400@scentventure.dog
SUMMARY:[ROADMAP June Cohort] Roadmap Celebration with Katie!
DESCRIPTION:Whether you still have a way to go or you have completed the Roadmap\, this celebration is an opportunity to come together\, reflect on your progress\, and discover some juicy new insights about yourself. \nReflection is a crucial part of any learning process. By looking back on what you and your dog have done together\, you're not only acknowledging the hard work and dedication you've both shown\, but you're also setting the stage for future success. It’s also the ideal opportunity to process what didn't work\, and so I’ll be weaving in some of my mindset prompts to send you off more self-aware and stronger than ever. \nSo bring a beverage and some party snacks and prepare for some self discovery and celebration! We encourage everyone to be there\, whether or not you have completed the Roadmap. Hope to see you there! \n  \nTime: Oct 7\, 2024 06:30 PM London \nhttps://us02web.zoom.us/j/84692916783 \nMeeting ID: 846 9291 6783 \nPasscode: 321253
URL:https://scentventure.dog/event/roadmap-june-celebration/
CATEGORIES:Roadmap
END:VEVENT
END:VCALENDAR