BEGIN:VCALENDAR
VERSION:2.0
PRODID:-//Scentventure - ECPv6.10.0//NONSGML v1.0//EN
CALSCALE:GREGORIAN
METHOD:PUBLISH
X-WR-CALNAME:Scentventure
X-ORIGINAL-URL:https://scentventure.dog
X-WR-CALDESC:Events for Scentventure
REFRESH-INTERVAL;VALUE=DURATION:PT1H
X-Robots-Tag:noindex
X-PUBLISHED-TTL:PT1H
BEGIN:VTIMEZONE
TZID:Europe/London
BEGIN:DAYLIGHT
TZOFFSETFROM:+0000
TZOFFSETTO:+0100
TZNAME:BST
DTSTART:20240331T010000
END:DAYLIGHT
BEGIN:STANDARD
TZOFFSETFROM:+0100
TZOFFSETTO:+0000
TZNAME:GMT
DTSTART:20241027T010000
END:STANDARD
END:VTIMEZONE
BEGIN:VEVENT
DTSTART;TZID=Europe/London:20240928T100000
DTEND;TZID=Europe/London:20240928T113000
DTSTAMP:20260420T160227
CREATED:20240908T062107Z
LAST-MODIFIED:20240908T062236Z
UID:43850-1727517600-1727523000@scentventure.dog
SUMMARY:The Loose Lead Walking Recipe - THE Complete Treatment Plan for Stress Free Dog Walks!
DESCRIPTION:The Loose Lead Walking Recipe – THE Complete Treatment Plan for Stress Free Dog Walks \nTime: Sep 28\, 2024 10:00 AM London \nhttps://us02web.zoom.us/j/89791729381 \nMeeting ID: 897 9172 9381 \nPasscode: 916308 \n  \nLoose lead walking is a recipe. Miss out one ingredient and your dog will continue pulling you in every direction. Get all the ingredients right and you’ll bake it to perfection! \nThe loose lead walking training itself is just one ingredient in the recipe. You need all 5 ingredients for stress free walks. \nUntil then\, you’ll go round and round in circles\, having your shoulder pulled out\, or like I did… going home in tears. \nIt’s because of this approach that I went from dreading every walk to actually looking forward to them! I want you to have that too. \nYou’ll leave with a Treatment Plan to finally tackle that painful pulling on the lead problem. And you can start looking forward to calmer\, more relaxing walks. \nWalk away with a real\, tangible Treatment Plan to use beyond this challenge for a lifetime of calm canine behaviour and loose lead walks.
URL:https://scentventure.dog/event/the-loose-lead-walking-recipe-the-complete-treatment-plan-for-stress-free-dog-walks/
LOCATION:Zoom\, United Kingdom
CATEGORIES:LLW
END:VEVENT
END:VCALENDAR