BEGIN:VCALENDAR
VERSION:2.0
PRODID:-//Scentventure - ECPv6.10.0//NONSGML v1.0//EN
CALSCALE:GREGORIAN
METHOD:PUBLISH
X-ORIGINAL-URL:https://scentventure.dog
X-WR-CALDESC:Events for Scentventure
REFRESH-INTERVAL;VALUE=DURATION:PT1H
X-Robots-Tag:noindex
X-PUBLISHED-TTL:PT1H
BEGIN:VTIMEZONE
TZID:Europe/London
BEGIN:DAYLIGHT
TZOFFSETFROM:+0000
TZOFFSETTO:+0100
TZNAME:BST
DTSTART:20240331T010000
END:DAYLIGHT
BEGIN:STANDARD
TZOFFSETFROM:+0100
TZOFFSETTO:+0000
TZNAME:GMT
DTSTART:20241027T010000
END:STANDARD
END:VTIMEZONE
BEGIN:VEVENT
DTSTART;TZID=Europe/London:20240821T180000
DTEND;TZID=Europe/London:20240821T190000
DTSTAMP:20260420T174618
CREATED:20240724T113900Z
LAST-MODIFIED:20240724T114038Z
UID:42616-1724263200-1724266800@scentventure.dog
SUMMARY:[CLUB DOGWOOD] Expert Guest: Roz Pooley on Dog-Dog Play
DESCRIPTION:[CLUB DOGWOOD] Expert Guest: Roz Pooley on Dog-Dog Play \nJoin us for a deep dive into appropriate canine play. We'll look into spotting the good\, the bad and the ugly and how to support your dog in their social interactions! \nOur Expert Guest\, Roz\, is a Clinical Animal Behaviourist with a keen interest in canine social behaviour. With the help of her own dogs\, she relishes in rehabilitating dogs with social issues. Her greatest teacher is her Thai Meat Trade Survivor\, Kanita! A master of body language\, Kanita is a primitive minded and strongly independent dog who has taught Roz a lot about adapting our expectations and developing a genuine respect and understanding of dog behaviour. \nTime: Aug 21\, 2024 06:00 PM London \nhttps://us02web.zoom.us/j/89396637361 \nMeeting ID: 893 9663 7361 \nPasscode: 527641
URL:https://scentventure.dog/event/club-dogwood-expert-guest-roz-pooley-on-dog-dog-play/
LOCATION:Zoom\, United Kingdom
CATEGORIES:Club Dogwood
END:VEVENT
END:VCALENDAR