BEGIN:VCALENDAR
VERSION:2.0
PRODID:-//Scentventure - ECPv6.10.0//NONSGML v1.0//EN
CALSCALE:GREGORIAN
METHOD:PUBLISH
X-WR-CALNAME:Scentventure
X-ORIGINAL-URL:https://scentventure.dog
X-WR-CALDESC:Events for Scentventure
REFRESH-INTERVAL;VALUE=DURATION:PT1H
X-Robots-Tag:noindex
X-PUBLISHED-TTL:PT1H
BEGIN:VTIMEZONE
TZID:Europe/London
BEGIN:DAYLIGHT
TZOFFSETFROM:+0000
TZOFFSETTO:+0100
TZNAME:BST
DTSTART:20240331T010000
END:DAYLIGHT
BEGIN:STANDARD
TZOFFSETFROM:+0100
TZOFFSETTO:+0000
TZNAME:GMT
DTSTART:20241027T010000
END:STANDARD
END:VTIMEZONE
BEGIN:VEVENT
DTSTART;TZID=Europe/London:20240716T183000
DTEND;TZID=Europe/London:20240716T193000
DTSTAMP:20260420T212814
CREATED:20240530T120512Z
LAST-MODIFIED:20240624T071126Z
UID:41007-1721154600-1721158200@scentventure.dog
SUMMARY:[ROADMAP June Cohort] VIP Turbo Charger
DESCRIPTION:VIP Turbo Charger \nA bonus Turbo Charger for VIPs in the Skills & Confidence Challenge! \nTime: Jul 16\, 2024  \n06:30 PM London \n 
URL:https://scentventure.dog/event/roadmap-vip-turbo-charger/
LOCATION:Zoom\, United Kingdom
CATEGORIES:Roadmap
END:VEVENT
END:VCALENDAR