BEGIN:VCALENDAR
VERSION:2.0
PRODID:-//Scentventure - ECPv6.10.0//NONSGML v1.0//EN
CALSCALE:GREGORIAN
METHOD:PUBLISH
X-WR-CALNAME:Scentventure
X-ORIGINAL-URL:https://scentventure.dog
X-WR-CALDESC:Events for Scentventure
REFRESH-INTERVAL;VALUE=DURATION:PT1H
X-Robots-Tag:noindex
X-PUBLISHED-TTL:PT1H
BEGIN:VTIMEZONE
TZID:Europe/London
BEGIN:DAYLIGHT
TZOFFSETFROM:+0000
TZOFFSETTO:+0100
TZNAME:BST
DTSTART:20240331T010000
END:DAYLIGHT
BEGIN:STANDARD
TZOFFSETFROM:+0100
TZOFFSETTO:+0000
TZNAME:GMT
DTSTART:20241027T010000
END:STANDARD
END:VTIMEZONE
BEGIN:VEVENT
DTSTART;TZID=Europe/London:20240703T183000
DTEND;TZID=Europe/London:20240703T193000
DTSTAMP:20260420T212905
CREATED:20240624T113549Z
LAST-MODIFIED:20240624T113549Z
UID:41815-1720031400-1720035000@scentventure.dog
SUMMARY:[ROADMAP JAN COHORT] 6-month Member-versary
DESCRIPTION:[ROADMAP JAN COHORT] 6-month Member-versary\n  \nTime: Jul 3\, 2024 06:30 PM London \nhttps://us02web.zoom.us/j/84995376930  \nMeeting ID: 849 9537 6930 \nPasscode: 637806
URL:https://scentventure.dog/event/roadmap-jan-cohort-6-month-member-versary/
LOCATION:Zoom\, United Kingdom
CATEGORIES:Roadmap
END:VEVENT
END:VCALENDAR