BEGIN:VCALENDAR
VERSION:2.0
PRODID:-//Scentventure - ECPv6.10.0//NONSGML v1.0//EN
CALSCALE:GREGORIAN
METHOD:PUBLISH
X-ORIGINAL-URL:https://scentventure.dog
X-WR-CALDESC:Events for Scentventure
REFRESH-INTERVAL;VALUE=DURATION:PT1H
X-Robots-Tag:noindex
X-PUBLISHED-TTL:PT1H
BEGIN:VTIMEZONE
TZID:Europe/London
BEGIN:DAYLIGHT
TZOFFSETFROM:+0000
TZOFFSETTO:+0100
TZNAME:BST
DTSTART:20240331T010000
END:DAYLIGHT
BEGIN:STANDARD
TZOFFSETFROM:+0100
TZOFFSETTO:+0000
TZNAME:GMT
DTSTART:20241027T010000
END:STANDARD
END:VTIMEZONE
BEGIN:VEVENT
DTSTART;TZID=Europe/London:20240508T183000
DTEND;TZID=Europe/London:20240508T193000
DTSTAMP:20260420T231400
CREATED:20240429T092557Z
LAST-MODIFIED:20240429T092557Z
UID:39890-1715193000-1715196600@scentventure.dog
SUMMARY:[CLUB DOGWOOD] Expert Guest Caroline Lewis: Overseas Rescue Dogs
DESCRIPTION:Caroline shares her wealth of experience\, delving into the unique experience of overseas rescue dogs. Caroline will explore how their distinct life experiences can shape their behavior and adaptation to their new\, often very contrasting\, lifestyle. Exploring why their behaviour post-adoption may not always reflect the personalities\, habits and abilities as assessed with their previous caregivers. And look at how understanding the nuances of typical breed types\, their genetics and their likely previous lifestyle can be illuminating to supporting their integration into your home. \n  \nTime: May 8\, 2024 06:30 PM London \nhttps://us02web.zoom.us/j/89722118234 \nMeeting ID: 897 2211 8234  \nPasscode: 205717
URL:https://scentventure.dog/event/club-dogwood-expert-guest-caroline-lewis-overseas-rescue-dogs/
LOCATION:Zoom\, United Kingdom
CATEGORIES:Club Dogwood
END:VEVENT
END:VCALENDAR